BEGIN:VCALENDAR
VERSION:2.0
PRODID:-//Boy Scout Trade-O-Ree Calendar - ECPv6.15.20//NONSGML v1.0//EN
CALSCALE:GREGORIAN
METHOD:PUBLISH
X-WR-CALNAME:Boy Scout Trade-O-Ree Calendar
X-ORIGINAL-URL:https://www.bsator.com
X-WR-CALDESC:Events for Boy Scout Trade-O-Ree Calendar
REFRESH-INTERVAL;VALUE=DURATION:PT1H
X-Robots-Tag:noindex
X-PUBLISHED-TTL:PT1H
BEGIN:VTIMEZONE
TZID:UTC
BEGIN:STANDARD
TZOFFSETFROM:+0000
TZOFFSETTO:+0000
TZNAME:UTC
DTSTART:20180101T000000
END:STANDARD
END:VTIMEZONE
BEGIN:VEVENT
DTSTART;TZID=UTC:20220924T083000
DTEND;TZID=UTC:20220924T150000
DTSTAMP:20260423T213231
CREATED:20220625T170850Z
LAST-MODIFIED:20220812T232421Z
UID:10000440-1664008200-1664031600@www.bsator.com
SUMMARY:POSTPONED: 2022 Washington State Trade-O-Ree - State: Washington
DESCRIPTION:THIS EVENT HAS BEEN POSTPONED TO THE SPRING OF 2023!\n \n \nDate: September 24\, 2022 \nAddress:\nSt. Joseph Church\n732 18th Avenue East\nSeattle\, WA 98112 \nTimes:\nSaturday: 8:30am – 3pm \nContact: Gerry Lamar\nEmail: gerrylamar@gmail.com\nPhone: (206) 297-3078 \n\n    Download the PDF file .
URL:https://www.bsator.com/event/2022-washington-state-trade-o-ree-state-washington/
LOCATION:St. Joseph Church\, 732 18th Avenue East\, Seattle\, WA\, 98112\, United States
ATTACH;FMTTYPE=image/jpeg:https://www.bsator.com/wp-content/uploads/2019/05/60269959_10219208118382601_3609495609389613056_o.jpg
ORGANIZER;CN="Gerry Lamar":MAILTO:gerrylamar@gmail.com
END:VEVENT
BEGIN:VEVENT
DTSTART;TZID=UTC:20200612T173000
DTEND;TZID=UTC:20200613T150000
DTSTAMP:20260423T213231
CREATED:20191014T225733Z
LAST-MODIFIED:20200607T080409Z
UID:10000311-1591983000-1592060400@www.bsator.com
SUMMARY:CANCELED: 2020 Washington State Trade-O-Ree - State: Washington
DESCRIPTION:THIS EVENT HAS BEEN CANCELEDDUE TO THE CORONAVIRUS\n \n \nDate: June 12-13\, 2020 \nAddress:\nSt. Joseph Church\n732 18th Avenue East\nSeattle\, WA 98112 \nTimes:\nFriday: 5:30pm-10pm\nSaturday: 8am – 3pm \nContact 1: Gerry Lamar\nEmail: gerrylamar@gmail.com\nPhone: (206) 297-3078 \n\n    Download the PDF file .
URL:https://www.bsator.com/event/2020-washington-state-trade-o-ree-state-washington/
LOCATION:St. Joseph Church\, 732 18th Avenue East\, Seattle\, WA\, 98112\, United States
ATTACH;FMTTYPE=image/jpeg:https://www.bsator.com/wp-content/uploads/2019/05/60269959_10219208118382601_3609495609389613056_o.jpg
ORGANIZER;CN="Gerry Lamar":MAILTO:gerrylamar@gmail.com
END:VEVENT
BEGIN:VEVENT
DTSTART;TZID=UTC:20190511T083000
DTEND;TZID=UTC:20190511T150000
DTSTAMP:20260423T213231
CREATED:20190111T111830Z
LAST-MODIFIED:20190513T194137Z
UID:10000117-1557563400-1557586800@www.bsator.com
SUMMARY:2019 Washington State Trade-O-Ree - State: Washington
DESCRIPTION:Date: May 11\, 2019 \nAddress:\nSt. Joseph Church\n732 18th Avenue East\nSeattle\, WA 98112 \nTimes:\nSaturday: 8:30am – 3pm \nContact 1: Gerry Lamar\nEmail: gerrylamar@gmail.com\nPhone: (206) 297-3078 \n\n    Download the PDF file .
URL:https://www.bsator.com/event/2019-washington-state-trade-o-ree-state-washington/
LOCATION:St. Joseph Church\, 732 18th Avenue East\, Seattle\, WA\, 98112\, United States
ATTACH;FMTTYPE=image/jpeg:https://www.bsator.com/wp-content/uploads/2019/05/60269959_10219208118382601_3609495609389613056_o.jpg
ORGANIZER;CN="Gerry Lamar":MAILTO:gerrylamar@gmail.com
END:VEVENT
END:VCALENDAR