BEGIN:VCALENDAR
VERSION:2.0
PRODID:-//Boy Scout Trade-O-Ree Calendar - ECPv6.15.20//NONSGML v1.0//EN
CALSCALE:GREGORIAN
METHOD:PUBLISH
X-ORIGINAL-URL:https://www.bsator.com
X-WR-CALDESC:Events for Boy Scout Trade-O-Ree Calendar
REFRESH-INTERVAL;VALUE=DURATION:PT1H
X-Robots-Tag:noindex
X-PUBLISHED-TTL:PT1H
BEGIN:VTIMEZONE
TZID:UTC
BEGIN:STANDARD
TZOFFSETFROM:+0000
TZOFFSETTO:+0000
TZNAME:UTC
DTSTART:20150101T000000
END:STANDARD
END:VTIMEZONE
BEGIN:VEVENT
DTSTART;TZID=UTC:20170825T160000
DTEND;TZID=UTC:20170826T150000
DTSTAMP:20260423T195139
CREATED:20160813T085155Z
LAST-MODIFIED:20161123T083819Z
UID:10000007-1503676800-1503759600@www.bsator.com
SUMMARY:4th Annual Occoneechee Lodge 104 Trade-O-Ree – State: North Carolina
DESCRIPTION:Date: August 25-26\, 2017 \nAddress:\nCamp Durant (Grand Lodge Dining Hall)\n4637 Old Carthage Rd.\nCarthage\, NC 28327 \nTimes:\nFriday: 4pm – 12am\nSaturday: 9am – 3pm \nContact 1: Matt Breneman\nEmail: mkbreneman@aol.com\nPhone: ? \nContact 2: Greg Grimes\nEmail: ggrimes104@embarqmail.com\nPhone: (919) 545-4022 \nFlyer: Click Here\n\nRegister Now \n\n    Download the PDF file .
URL:https://www.bsator.com/event/occoneechee-trade-o-ree/
LOCATION:Camp Durant (Grand Lodge Dining Hall)\, 4637 Old Carthage Rd.\, Carthage\, NC 28327
ATTACH;FMTTYPE=image/jpeg:https://www.bsator.com/wp-content/uploads/2016/05/10463615_838952049461877_7307701505355644573_o.jpg.opt426x318o00s426x318.jpg
ORGANIZER;CN="Greg Grimes":MAILTO:ggrimes104@embarqmail.com
GEO:35.3421553;-79.5534724
X-APPLE-STRUCTURED-LOCATION;VALUE=URI;X-ADDRESS=Camp Durant (Grand Lodge Dining Hall) 4637 Old Carthage Rd. Carthage NC 28327;X-APPLE-RADIUS=500;X-TITLE=4637 Old Carthage Rd.:geo:-79.5534724,35.3421553
END:VEVENT
BEGIN:VEVENT
DTSTART;TZID=UTC:20160826T160000
DTEND;TZID=UTC:20160827T150000
DTSTAMP:20260423T195139
CREATED:20160601T093133Z
LAST-MODIFIED:20160927T181602Z
UID:10000071-1472227200-1472310000@www.bsator.com
SUMMARY:3rd Annual Occoneechee Lodge 104 Trade-O-Ree - State: North Carolina
DESCRIPTION:Date: August 26-27\, 2016 \nAddress:\nCamp Durant (Grand Lodge Dining Hall)\n4637 Old Carthage Rd.\nCarthage\, NC 28327 \nTimes:\nFriday: 4pm – 11pm\nSaturday: 9am – 3pm \nContact 1: Greg Grimes\nEmail: ggrimes104@embarqmail.com\nPhone: (919) 545-4022 \nRegister Tables Online: Click Here\nFlyer: Click Here\nMore Details: Click Here\n\nRegister Now \n\n    Download the PDF file .
URL:https://www.bsator.com/event/3rd-annual-occoneechee-lodge-104-trade-o-ree-state-north-carolina/
LOCATION:Camp Durant (Grand Lodge Dining Hall)\, 4637 Old Carthage Rd.\, Carthage\, NC 28327
ATTACH;FMTTYPE=image/jpeg:https://www.bsator.com/wp-content/uploads/2016/06/1618248_838952052795210_2017217202199061738_o.jpg.opt430x321o00s430x321.jpg
ORGANIZER;CN="Greg Grimes":MAILTO:ggrimes104@embarqmail.com
GEO:35.3421553;-79.5534724
X-APPLE-STRUCTURED-LOCATION;VALUE=URI;X-ADDRESS=Camp Durant (Grand Lodge Dining Hall) 4637 Old Carthage Rd. Carthage NC 28327;X-APPLE-RADIUS=500;X-TITLE=4637 Old Carthage Rd.:geo:-79.5534724,35.3421553
END:VEVENT
END:VCALENDAR