BEGIN:VCALENDAR
VERSION:2.0
PRODID:-//Boy Scout Trade-O-Ree Calendar - ECPv6.15.20//NONSGML v1.0//EN
CALSCALE:GREGORIAN
METHOD:PUBLISH
X-ORIGINAL-URL:https://www.bsator.com
X-WR-CALDESC:Events for Boy Scout Trade-O-Ree Calendar
REFRESH-INTERVAL;VALUE=DURATION:PT1H
X-Robots-Tag:noindex
X-PUBLISHED-TTL:PT1H
BEGIN:VTIMEZONE
TZID:UTC
BEGIN:STANDARD
TZOFFSETFROM:+0000
TZOFFSETTO:+0000
TZNAME:UTC
DTSTART:20150101T000000
END:STANDARD
END:VTIMEZONE
BEGIN:VEVENT
DTSTART;TZID=UTC:20240920T170000
DTEND;TZID=UTC:20240921T120000
DTSTAMP:20260423T200302
CREATED:20231230T182632Z
LAST-MODIFIED:20240502T174225Z
UID:10000517-1726851600-1726920000@www.bsator.com
SUMMARY:41st Annual Western New York Council Trade-O-Ree
DESCRIPTION:Date: September 20-21\, 2024 \nAddress:\nNorth Forest Presbyterian Church (Hall)\n300 North Forest Rd\nWilliamsville\, NY 14221 \nTimes:\nFriday: 5pm – 10pm\nSaturday: 9am – 12pm (Live Memorabilia Auction starting at 12pm) \nContact: Dirk Norwich (Chairman)\nEmail: dnorwich@tpicast.com\nPhone: (585) 380-2751 \nContact: Harry DeBan (Table Reservations)\nEmail: fortniagarabooks@gmail.com\nPhone: (716) 731-4525 \nContact: Marty Abramson (Auction)\nEmail: MARTZ3d@aol.com\nPhone: (716)285-6119 \nRegister Now\n\n \nTrade-O-Ree Flyer\n\n\n    Download the PDF file .
URL:https://www.bsator.com/event/41st-annual-western-new-york-council-trade-o-ree/
LOCATION:North Forest Presbyterian Church (Hall)\, 300 North Forest Road\, Williamsville\, NY 14221
ATTACH;FMTTYPE=image/jpeg:https://www.bsator.com/wp-content/uploads/2024/01/IMG_7203.jpg
ORGANIZER;CN="Dirk Norwich":MAILTO:dnorwich@tpicast.com
GEO:42.9687775;-78.7606203
X-APPLE-STRUCTURED-LOCATION;VALUE=URI;X-ADDRESS=North Forest Presbyterian Church (Hall) 300 North Forest Road Williamsville NY 14221;X-APPLE-RADIUS=500;X-TITLE=300 North Forest Road:geo:-78.7606203,42.9687775
END:VEVENT
BEGIN:VEVENT
DTSTART;TZID=UTC:20230915T170000
DTEND;TZID=UTC:20230916T120000
DTSTAMP:20260423T200302
CREATED:20230702T154534Z
LAST-MODIFIED:20230702T154534Z
UID:10000493-1694797200-1694865600@www.bsator.com
SUMMARY:40th Annual Greater Niagara Frontier Council / Western New York Traders Association Trade-O-Ree – State: New York
DESCRIPTION:Date: September 15-16\, 2023 \nAddress:\nWestern New York Scout Council’s Richard E. Garmin Service Center (FYI: The Scout Service Center is physically in Cheektowaga\, NY)\n2860 Genesee Street\nBuffalo\, NY 14225 \nTimes:\nFriday: 5pm – 11pm\nSaturday: 9am – 12pm \nContact: Dirk Norwich\nEmail: dnorwich@tpicast.com\nPhone: (585) 380-2751 \nContact: Harry DeBan (Table Reservations)\nEmail: fortniagarabooks@gmail.com\nPhone: (716) 731-4525 \nRegister Now\n\n    Download the PDF file .
URL:https://www.bsator.com/event/40th-annual-greater-niagara-frontier-council-western-new-york-traders-association-trade-o-ree-state-new-york/
LOCATION:Western New York Scout Council Service Center\, 2860 Genesee Street\, Buffalo\, NY\, 14225\, United States
ATTACH;FMTTYPE=image/jpeg:https://www.bsator.com/wp-content/uploads/2016/06/SWAPSHOP_zpsd7821994-4-1.jpg.opt430x360o00s430x360-4-1.jpg
ORGANIZER;CN="Dirk Norwich":MAILTO:dnorwich@tpicast.com
END:VEVENT
BEGIN:VEVENT
DTSTART;TZID=UTC:20220916T170000
DTEND;TZID=UTC:20220917T120000
DTSTAMP:20260423T200302
CREATED:20220621T034902Z
LAST-MODIFIED:20220621T035438Z
UID:10000438-1663347600-1663416000@www.bsator.com
SUMMARY:39th Annual Greater Niagara Frontier Council / Western New York Traders Association Trade-O-Ree – State: New York
DESCRIPTION:Date: September 16-17\, 2022 \nAddress:\nNorth Forest Presbyterian Church (Hall)\n300 North Forest Road\nWilliamsville\, NY 14221 \nTimes:\nFriday: 5pm – 11pm\nSaturday: 9am – 12pm \nContact: Dirk Norwich\nEmail: dnorwich@tpicast.com\nPhone: (585) 380-2751 \nContact: Harry DeBan (Table Reservations)\nEmail: fortniagarabooks@gmail.com\nPhone: (716) 731-4525 \nRegister Now\n\n    Download the PDF file .
URL:https://www.bsator.com/event/39th-annual-greater-niagara-frontier-council-western-new-york-traders-association-trade-o-ree-state-new-york/
LOCATION:North Forest Presbyterian Church (Hall)\, 300 North Forest Road\, Williamsville\, NY 14221
ATTACH;FMTTYPE=image/jpeg:https://www.bsator.com/wp-content/uploads/2016/06/SWAPSHOP_zpsd7821994-4-1.jpg.opt430x360o00s430x360-4-1.jpg
ORGANIZER;CN="Dirk Norwich":MAILTO:dnorwich@tpicast.com
GEO:42.9687775;-78.7606203
X-APPLE-STRUCTURED-LOCATION;VALUE=URI;X-ADDRESS=North Forest Presbyterian Church (Hall) 300 North Forest Road Williamsville NY 14221;X-APPLE-RADIUS=500;X-TITLE=300 North Forest Road:geo:-78.7606203,42.9687775
END:VEVENT
BEGIN:VEVENT
DTSTART;TZID=UTC:20190920T170000
DTEND;TZID=UTC:20190921T120000
DTSTAMP:20260423T200302
CREATED:20190129T175645Z
LAST-MODIFIED:20190129T180017Z
UID:10000288-1568998800-1569067200@www.bsator.com
SUMMARY:38th Annual Greater Niagara Frontier Council / Western New York Traders Association Trade-O-Ree – State: New York
DESCRIPTION:Date: September 20-21\, 2019 \nAddress:\nNorth Forest Presbyterian Church (Hall)\n300 North Forest Road\nWilliamsville\, NY 14221 \nTimes:\nFriday: 5pm – 11pm\nSaturday: 9am – 12pm \nContact 1: Dirk Norwich\nEmail: dnorwich@tpicast.com\nPhone: (585) 380-2751 \nContact 2: Harry DeBan (Table Reservations)\nEmail: fortniagarabooks@gmail.com\nPhone: (716) 731-4525 \nRegister Now\n\n    Download the PDF file .
URL:https://www.bsator.com/event/38th-annual-greater-niagara-frontier-council-western-new-york-traders-association-trade-o-ree-state-new-york/
LOCATION:North Forest Presbyterian Church (Hall)\, 300 North Forest Road\, Williamsville\, NY 14221
ATTACH;FMTTYPE=image/jpeg:https://www.bsator.com/wp-content/uploads/2016/06/SWAPSHOP_zpsd7821994-4-1.jpg.opt430x360o00s430x360-4-1.jpg
ORGANIZER;CN="Dirk Norwich":MAILTO:dnorwich@tpicast.com
GEO:42.9687775;-78.7606203
X-APPLE-STRUCTURED-LOCATION;VALUE=URI;X-ADDRESS=North Forest Presbyterian Church (Hall) 300 North Forest Road Williamsville NY 14221;X-APPLE-RADIUS=500;X-TITLE=300 North Forest Road:geo:-78.7606203,42.9687775
END:VEVENT
BEGIN:VEVENT
DTSTART;TZID=UTC:20180914T170000
DTEND;TZID=UTC:20180915T130000
DTSTAMP:20260423T200302
CREATED:20180304T075924Z
LAST-MODIFIED:20180304T080755Z
UID:10000095-1536944400-1537016400@www.bsator.com
SUMMARY:37th Annual Greater Niagara Frontier Council / Western New York Traders Association Trade-O-Ree – State: New York
DESCRIPTION:Date: September 14-15\, 2018 \nAddress:\nNorth Forest Presbyterian Church (Hall)\n300 North Forest Road\nWilliamsville\, NY 14221 \nTimes:\nFriday: 5pm – 11pm\nSaturday: 9am – 1pm \nContact 1: Dirk Norwich\nEmail: dnorwich@tpicast.com\nPhone: ? \nContact 2: Paul Freitag\nEmail: scout_historian@roadrunner.com \nPhone: (716) 829-9025 \nContact 3: Harry DeBan (Table Reservations)\nEmail: hmd1fortniagara@earthlink.net\nPhone: (716) 731-4525 \nRegister Now\n\n    Download the PDF file .
URL:https://www.bsator.com/event/37th-annual-greater-niagara-frontier-council-western-new-york-traders-association-trade-o-ree-state-new-york/
LOCATION:North Forest Presbyterian Church (Hall)\, 300 North Forest Road\, Williamsville\, NY 14221
ATTACH;FMTTYPE=image/jpeg:https://www.bsator.com/wp-content/uploads/2016/06/SWAPSHOP_zpsd7821994-4-1.jpg.opt430x360o00s430x360-4-1.jpg
ORGANIZER;CN="Dirk Norwich":MAILTO:dnorwich@tpicast.com
GEO:42.9687775;-78.7606203
X-APPLE-STRUCTURED-LOCATION;VALUE=URI;X-ADDRESS=North Forest Presbyterian Church (Hall) 300 North Forest Road Williamsville NY 14221;X-APPLE-RADIUS=500;X-TITLE=300 North Forest Road:geo:-78.7606203,42.9687775
END:VEVENT
BEGIN:VEVENT
DTSTART;TZID=UTC:20170915T170000
DTEND;TZID=UTC:20170916T130000
DTSTAMP:20260423T200302
CREATED:20161213T165935Z
LAST-MODIFIED:20161213T170335Z
UID:10000018-1505494800-1505566800@www.bsator.com
SUMMARY:36th Annual Greater Niagara Frontier Council / Western New York Traders Association Trade-O-Ree – State: New York
DESCRIPTION:Date: September 15-16\, 2017 \nAddress:\nNorth Forest Presbyterian Church (Hall)\n300 North Forest Road\nWilliamsville\, NY 14221 \nTimes:\nFriday: 5pm – 11pm\nSaturday: 9am – 1pm \nContact 1: Dirk Norwich\nEmail: dnorwich@tpicast.com\nPhone: ? \nContact 2: Paul Freitag\nEmail: scout_historian@roadrunner.com \nPhone: (716) 829-9025 \nContact 3: Harry DeBan (Table Reservations)\nEmail: hmd1fortniagara@earthlink.net\nPhone: (716) 731-4525 \nFlyer: Click Here\n\nRegister Now \n\n    Download the PDF file .
URL:https://www.bsator.com/event/36th-annual-greater-niagara-frontier-council-western-new-york-traders-association-trade-o-ree-state-new-york/
LOCATION:North Forest Presbyterian Church (Hall)\, 300 North Forest Road\, Williamsville\, NY 14221
ATTACH;FMTTYPE=image/jpeg:https://www.bsator.com/wp-content/uploads/2016/06/SWAPSHOP_zpsd7821994-4-1.jpg.opt430x360o00s430x360-4-1.jpg
ORGANIZER;CN="Dirk Norwich":MAILTO:dnorwich@tpicast.com
GEO:42.9687775;-78.7606203
X-APPLE-STRUCTURED-LOCATION;VALUE=URI;X-ADDRESS=North Forest Presbyterian Church (Hall) 300 North Forest Road Williamsville NY 14221;X-APPLE-RADIUS=500;X-TITLE=300 North Forest Road:geo:-78.7606203,42.9687775
END:VEVENT
BEGIN:VEVENT
DTSTART;TZID=UTC:20160916T170000
DTEND;TZID=UTC:20160917T130000
DTSTAMP:20260423T200302
CREATED:20160601T094017Z
LAST-MODIFIED:20160829T211010Z
UID:10000064-1474045200-1474117200@www.bsator.com
SUMMARY:35th Annual Greater Niagara Frontier Council / Western New York Traders Association Trade-O-Ree - State: New York
DESCRIPTION:Date: September 16-17\, 2016 \nAddress:\nNorth Forest Presbyterian Church (Hall)\n300 North Forest Road\nWilliamsville\, NY 14221 \nTimes:\nFriday: 5pm – 11pm\nSaturday: 9am – 1pm \nContact 1: Dirk Norwich\nEmail: dnorwich@tpicast.com\nPhone: ? \nContact 2: Paul Freitag\nEmail: scout_historian@roadrunner.com \nPhone: (716) 829-9025 \nContact 3: Harry DeBan (Table Reservations)\nEmail: hmd1fortniagara@earthlink.net\nPhone: (716) 731-4525 \nFlyer: Click Here\n\nRegister Now \n\n    Download the PDF file .
URL:https://www.bsator.com/event/35th-annual-greater-niagara-frontier-council-western-new-york-traders-association-trade-o-ree-state-new-york/
LOCATION:North Forest Presbyterian Church (Hall)\, 300 North Forest Road\, Williamsville\, NY 14221
ATTACH;FMTTYPE=image/jpeg:https://www.bsator.com/wp-content/uploads/2016/06/SWAPSHOP_zpsd7821994.jpg.opt430x360o00s430x360.jpg
ORGANIZER;CN="Dirk Norwich":MAILTO:dnorwich@tpicast.com
GEO:42.9687775;-78.7606203
X-APPLE-STRUCTURED-LOCATION;VALUE=URI;X-ADDRESS=North Forest Presbyterian Church (Hall) 300 North Forest Road Williamsville NY 14221;X-APPLE-RADIUS=500;X-TITLE=300 North Forest Road:geo:-78.7606203,42.9687775
END:VEVENT
END:VCALENDAR