BEGIN:VCALENDAR
VERSION:2.0
PRODID:-//Boy Scout Trade-O-Ree Calendar - ECPv6.15.20//NONSGML v1.0//EN
CALSCALE:GREGORIAN
METHOD:PUBLISH
X-WR-CALNAME:Boy Scout Trade-O-Ree Calendar
X-ORIGINAL-URL:https://www.bsator.com
X-WR-CALDESC:Events for Boy Scout Trade-O-Ree Calendar
REFRESH-INTERVAL;VALUE=DURATION:PT1H
X-Robots-Tag:noindex
X-PUBLISHED-TTL:PT1H
BEGIN:VTIMEZONE
TZID:UTC
BEGIN:STANDARD
TZOFFSETFROM:+0000
TZOFFSETTO:+0000
TZNAME:UTC
DTSTART:20160101T000000
END:STANDARD
END:VTIMEZONE
BEGIN:VEVENT
DTSTART;TZID=UTC:20260306T130000
DTEND;TZID=UTC:20260307T160000
DTSTAMP:20260423T160546
CREATED:20250318T162948Z
LAST-MODIFIED:20260106T165707Z
UID:10000572-1772802000-1772899200@www.bsator.com
SUMMARY:24th Annual Friends of J.N. Webster Trade-O-Ree - State: Connecticut
DESCRIPTION:Date: March 6-7\, 2026 \nAddress:\nSt Philip-Apostle Church\n64 Pompey Hollow Rd.\nAshford\, CT 06278 \nTimes:\nFriday: 1pm – 10pm (Dealer Setup: 12pm)\nSaturday: 8am – 4pm \nContact 1: Paul or Harry Segerstrom\nEmail: paratrooper325@netzero.net\nPhone: (860) 822-6235 \nLots of Free Parking\, Museum and Trading Post will be open during the show\, Youth only Silent auction Sat. morning\, Live auction Sat. afternoon\, food and snacks available\, handicap accessible\, Well Attended Show\, 70+ Tables\, Bunks for dealers in our heated Cabins $10.00 and a limited number of 2 person rooms $30.00\, Dealer setup at Noon. \nRegister Now\n\n \nTrade-O-Ree Flyer\n\n\n    Download the PDF file .
URL:https://www.bsator.com/event/24th-annual-friends-of-j-n-webster-trade-o-ree-state-connecticut/
LOCATION:St Philip-Apostle Church\, 64 Pompey Hollow Rd.\, Ashford\, 06278\, United States
ATTACH;FMTTYPE=image/jpeg:https://www.bsator.com/wp-content/uploads/2024/08/330452058_3558163764415736_7779330300667704265_n.jpg
ORGANIZER;CN="Harry Segerstrom":MAILTO:paratrooper325@netzero.net
END:VEVENT
BEGIN:VEVENT
DTSTART;TZID=UTC:20250228T130000
DTEND;TZID=UTC:20250301T160000
DTSTAMP:20260423T160546
CREATED:20240822T023747Z
LAST-MODIFIED:20240904T021947Z
UID:10000545-1740747600-1740844800@www.bsator.com
SUMMARY:23rd Annual Friends of J.N. Webster Trade-O-Ree - State: Connecticut
DESCRIPTION:Date: February 28 – March 1\, 2025 \nAddress:\nJN Webster Scout Reservation\n231 Ashford Center Rd (RT44)\nAshford\, CT 06278 \nTimes:\nFriday: 1pm – 10pm (Dealer Setup: 12pm)\nSaturday: 8am – 4pm \nContact 1: Paul or Harry Segerstrom\nEmail: paratrooper325@netzero.net\nPhone: (860) 822-6235 \nLots of Free Parking\, Museum and Trading Post will be open during the show\, Youth only Silent auction Sat. morning\, Live auction Sat. afternoon\, food and snacks available\, handicap accessible\, Well Attended Show\, 70+ Tables\, Bunks for dealers in our heated Cabins $10.00 and a limited number of 2 person rooms $30.00\, Dealer setup at Noon. \nRegister Now\n\n \nTrade-O-Ree Flyer\n\n\n    Download the PDF file .
URL:https://www.bsator.com/event/23rd-annual-friends-of-j-n-webster-trade-o-ree-state-connecticut/
LOCATION:JN Webster Scout Reservation\, 231 Ashford Center Rd (RT44)\, Ashford\, CT\, 06278\, United States
ATTACH;FMTTYPE=image/jpeg:https://www.bsator.com/wp-content/uploads/2024/08/330452058_3558163764415736_7779330300667704265_n.jpg
ORGANIZER;CN="Harry Segerstrom":MAILTO:paratrooper325@netzero.net
GEO:41.8719597;-72.1419496
X-APPLE-STRUCTURED-LOCATION;VALUE=URI;X-ADDRESS=JN Webster Scout Reservation 231 Ashford Center Rd (RT44) Ashford CT 06278 United States;X-APPLE-RADIUS=500;X-TITLE=231 Ashford Center Rd (RT44):geo:-72.1419496,41.8719597
END:VEVENT
BEGIN:VEVENT
DTSTART;TZID=UTC:20240301T130000
DTEND;TZID=UTC:20240302T160000
DTSTAMP:20260423T160546
CREATED:20230912T235248Z
LAST-MODIFIED:20231006T034252Z
UID:10000293-1709298000-1709395200@www.bsator.com
SUMMARY:22nd Annual Friends of J.N. Webster Trade-O-Ree
DESCRIPTION:Date: March 1-2\, 2024 \nAddress:\nJN Webster Scout Reservation\n231 Ashford Center Rd (RT44)\nAshford\, CT 06278 \nTimes:\nFriday: 1pm – 10pm (Dealer Setup: 12pm)\nSaturday: 8am – 4pm \nContact 1: Paul or Harry Segerstrom\nEmail: paratrooper325@netzero.net\nPhone: (860) 822-6235 \nRegister Now\n\n \nTrade-O-Ree Flyer\n\n\n    Download the PDF file .
URL:https://www.bsator.com/event/22nd-annual-friends-of-j-n-webster-trade-o-ree/
LOCATION:JN Webster Scout Reservation\, 231 Ashford Center Rd (RT44)\, Ashford\, CT\, 06278\, United States
ATTACH;FMTTYPE=image/jpeg:https://www.bsator.com/wp-content/uploads/2016/05/12778744_1212344965459975_375003093317245275_o-1.jpg.opt415x622o00s415x622-1.jpg
ORGANIZER;CN="Harry Segerstrom":MAILTO:paratrooper325@netzero.net
GEO:41.8719597;-72.1419496
X-APPLE-STRUCTURED-LOCATION;VALUE=URI;X-ADDRESS=JN Webster Scout Reservation 231 Ashford Center Rd (RT44) Ashford CT 06278 United States;X-APPLE-RADIUS=500;X-TITLE=231 Ashford Center Rd (RT44):geo:-72.1419496,41.8719597
END:VEVENT
BEGIN:VEVENT
DTSTART;TZID=UTC:20230303T130000
DTEND;TZID=UTC:20230304T160000
DTSTAMP:20260423T160546
CREATED:20220915T173035Z
LAST-MODIFIED:20220915T173805Z
UID:10000457-1677848400-1677945600@www.bsator.com
SUMMARY:21st Annual Friends of J.N. Webster Trade-O-Ree
DESCRIPTION:Date: March 3-4\, 2023 \nAddress:\nJN Webster Scout Reservation\n231 Ashford Center Rd (RT44)\nAshford\, CT 06278 \nTimes:\nFriday: 1pm – 11pm (Dealer Setup: 12pm)\nSaturday: 8am – 4pm \nContact 1: Paul or Harry Segerstrom\nEmail: paratrooper325@netzero.net\nPhone: (860) 822-6235 \nRegister Now\n\n \nTrade-O-Ree Flyer\n\n\n    Download the PDF file .
URL:https://www.bsator.com/event/21st-annual-friends-of-j-n-webster-trade-o-ree/
LOCATION:JN Webster Scout Reservation\, 231 Ashford Center Rd (RT44)\, Ashford\, CT\, 06278\, United States
ATTACH;FMTTYPE=image/jpeg:https://www.bsator.com/wp-content/uploads/2016/05/12778744_1212344965459975_375003093317245275_o-1.jpg.opt415x622o00s415x622-1.jpg
ORGANIZER;CN="Harry Segerstrom":MAILTO:paratrooper325@netzero.net
GEO:41.8719597;-72.1419496
X-APPLE-STRUCTURED-LOCATION;VALUE=URI;X-ADDRESS=JN Webster Scout Reservation 231 Ashford Center Rd (RT44) Ashford CT 06278 United States;X-APPLE-RADIUS=500;X-TITLE=231 Ashford Center Rd (RT44):geo:-72.1419496,41.8719597
END:VEVENT
BEGIN:VEVENT
DTSTART;TZID=UTC:20220304T130000
DTEND;TZID=UTC:20220305T160000
DTSTAMP:20260423T160546
CREATED:20210905T164108Z
LAST-MODIFIED:20211210T044106Z
UID:10000205-1646398800-1646496000@www.bsator.com
SUMMARY:20th Annual Friends of J.N. Webster Trade-O-Ree
DESCRIPTION:Date: March 4-5\, 2022 \nAddress:\nJN Webster Scout Reservation\n231 Ashford Center Rd (RT44)\nAshford\, CT 06278 \nTimes:\nFriday: 1pm – ? (Dealer Setup: 12pm)\nSaturday: ? – 4pm \nContact 1: Paul or Harry Segerstrom\nEmail: paratrooper325@netzero.net\nPhone: (860) 822-6235 \nRegister Now\n\n \nTrade-O-Ree Flyer\n\n\n    Download the PDF file .
URL:https://www.bsator.com/event/20th-annual-friends-of-j-n-webster-trade-o-ree/
LOCATION:JN Webster Scout Reservation\, 231 Ashford Center Rd (RT44)\, Ashford\, CT\, 06278\, United States
ATTACH;FMTTYPE=image/jpeg:https://www.bsator.com/wp-content/uploads/2016/05/12778744_1212344965459975_375003093317245275_o-1.jpg.opt415x622o00s415x622-1.jpg
ORGANIZER;CN="Harry Segerstrom":MAILTO:paratrooper325@netzero.net
GEO:41.8719597;-72.1419496
X-APPLE-STRUCTURED-LOCATION;VALUE=URI;X-ADDRESS=JN Webster Scout Reservation 231 Ashford Center Rd (RT44) Ashford CT 06278 United States;X-APPLE-RADIUS=500;X-TITLE=231 Ashford Center Rd (RT44):geo:-72.1419496,41.8719597
END:VEVENT
BEGIN:VEVENT
DTSTART;TZID=UTC:20200306T130000
DTEND;TZID=UTC:20200307T160000
DTSTAMP:20260423T160546
CREATED:20190818T041128Z
LAST-MODIFIED:20200109T074557Z
UID:10000136-1583499600-1583596800@www.bsator.com
SUMMARY:18th Annual Friends of J.N. Webster Trade-O-Ree
DESCRIPTION:Date: March 6-7\, 2020 \nAddress:\nJN Webster Scout Reservation\n231 Ashford Center Rd (RT44)\nAshford\, CT 06278 \nTimes:\nFriday: 1pm – ? (Dealer Setup: 12pm)\nSaturday: ? – 4pm \nContact 1: Paul or Harry Segerstrom\nEmail: paratrooper325@netzero.net\nPhone: (860) 822-6235 \nRegister Now\n\n    Download the PDF file .
URL:https://www.bsator.com/event/18th-annual-friends-of-j-n-webster-trade-o-ree/
LOCATION:JN Webster Scout Reservation\, 231 Ashford Center Rd (RT44)\, Ashford\, CT\, 06278\, United States
ATTACH;FMTTYPE=image/jpeg:https://www.bsator.com/wp-content/uploads/2016/05/12778744_1212344965459975_375003093317245275_o-1.jpg.opt415x622o00s415x622-1.jpg
ORGANIZER;CN="Harry Segerstrom":MAILTO:paratrooper325@netzero.net
GEO:41.8719597;-72.1419496
X-APPLE-STRUCTURED-LOCATION;VALUE=URI;X-ADDRESS=JN Webster Scout Reservation 231 Ashford Center Rd (RT44) Ashford CT 06278 United States;X-APPLE-RADIUS=500;X-TITLE=231 Ashford Center Rd (RT44):geo:-72.1419496,41.8719597
END:VEVENT
BEGIN:VEVENT
DTSTART;TZID=UTC:20190301T130000
DTEND;TZID=UTC:20190302T160000
DTSTAMP:20260423T160546
CREATED:20180820T002545Z
LAST-MODIFIED:20180820T003018Z
UID:10000256-1551445200-1551542400@www.bsator.com
SUMMARY:17th Annual Friends of J.N. Webster Trade-O-Ree
DESCRIPTION:Date: March 1-2\, 2019 \nAddress:\nJN Webster SR\n231 Ashford Center Rd (RT44)\nAshford\, CT 06278 \nTimes:\nFriday: 1pm – ?\nSaturday: ? – 4pm \nContact 1: Harry Segerstrom\nEmail: paratrooper325@netzero.net\nPhone: (860) 822-6235 \nRegister Now\n\n    Download the PDF file .
URL:https://www.bsator.com/event/17th-annual-friends-of-j-n-webster-trade-o-ree/
LOCATION:JN Webster Scout Reservation\, 231 Ashford Center Rd (RT44)\, Ashford\, CT\, 06278\, United States
ATTACH;FMTTYPE=image/jpeg:https://www.bsator.com/wp-content/uploads/2016/05/12778744_1212344965459975_375003093317245275_o-1.jpg.opt415x622o00s415x622-1.jpg
ORGANIZER;CN="Harry Segerstrom":MAILTO:paratrooper325@netzero.net
GEO:41.8719597;-72.1419496
X-APPLE-STRUCTURED-LOCATION;VALUE=URI;X-ADDRESS=JN Webster Scout Reservation 231 Ashford Center Rd (RT44) Ashford CT 06278 United States;X-APPLE-RADIUS=500;X-TITLE=231 Ashford Center Rd (RT44):geo:-72.1419496,41.8719597
END:VEVENT
BEGIN:VEVENT
DTSTART;TZID=UTC:20180302T080000
DTEND;TZID=UTC:20180303T170000
DTSTAMP:20260423T160546
CREATED:20171013T033637Z
LAST-MODIFIED:20171013T033957Z
UID:10000185-1519977600-1520096400@www.bsator.com
SUMMARY:16th Annual Friends of J.N. Webster Trade-O-Ree
DESCRIPTION:Date: March 2-3\, 2018 \nAddress:\nJN Webster SR\n231 Ashford Center Rd (RT44)\nAshford\, CT 06278 \nTimes:\nFriday: 1pm – ?\nSaturday: ? – 4pm \nContact 1: Harry Segerstrom\nEmail: paratrooper325@netzero.net\nPhone: (860) 822-6235 \nRegister Now\n\n    Download the PDF file .
URL:https://www.bsator.com/event/16th-annual-friends-of-j-n-webster-trade-o-ree/
LOCATION:JN Webster Scout Reservation\, 231 Ashford Center Rd (RT44)\, Ashford\, CT\, 06278\, United States
ATTACH;FMTTYPE=image/jpeg:https://www.bsator.com/wp-content/uploads/2016/05/12778744_1212344965459975_375003093317245275_o-1.jpg.opt415x622o00s415x622-1.jpg
ORGANIZER;CN="Harry Segerstrom":MAILTO:paratrooper325@netzero.net
GEO:41.8719597;-72.1419496
X-APPLE-STRUCTURED-LOCATION;VALUE=URI;X-ADDRESS=JN Webster Scout Reservation 231 Ashford Center Rd (RT44) Ashford CT 06278 United States;X-APPLE-RADIUS=500;X-TITLE=231 Ashford Center Rd (RT44):geo:-72.1419496,41.8719597
END:VEVENT
BEGIN:VEVENT
DTSTART;TZID=UTC:20170303T130000
DTEND;TZID=UTC:20170304T160000
DTSTAMP:20260423T160546
CREATED:20160811T054318Z
LAST-MODIFIED:20160829T221718Z
UID:10000002-1488546000-1488643200@www.bsator.com
SUMMARY:15th Annual Friends of June Norcross Webster Scout Reservation Trade-O-Ree
DESCRIPTION:Date: March 3-4\, 2017 \nAddress:\nJN Webster SR\n231 Ashford Center Rd (RT44)\nAshford\, CT 06278 \nTimes:\nFriday: 1pm – ?\nSaturday: ? – 4pm \nContact 1: Harry Segerstrom\nEmail: paratrooper325@netzero.net\nPhone: (860) 822-6235 \nFlyer: Click Here\n\nRegister Now \n\n    Download the PDF file .
URL:https://www.bsator.com/event/webster/
LOCATION:JN Webster Scout Reservation\, 231 Ashford Center Rd (RT44)\, Ashford\, CT\, 06278\, United States
ATTACH;FMTTYPE=image/jpeg:https://www.bsator.com/wp-content/uploads/2016/05/12778744_1212344965459975_375003093317245275_o-1.jpg.opt415x622o00s415x622-1.jpg
ORGANIZER;CN="Harry Segerstrom":MAILTO:paratrooper325@netzero.net
GEO:41.8719597;-72.1419496
X-APPLE-STRUCTURED-LOCATION;VALUE=URI;X-ADDRESS=JN Webster Scout Reservation 231 Ashford Center Rd (RT44) Ashford CT 06278 United States;X-APPLE-RADIUS=500;X-TITLE=231 Ashford Center Rd (RT44):geo:-72.1419496,41.8719597
END:VEVENT
END:VCALENDAR