BEGIN:VCALENDAR
VERSION:2.0
PRODID:-//Boy Scout Trade-O-Ree Calendar - ECPv6.15.20//NONSGML v1.0//EN
CALSCALE:GREGORIAN
METHOD:PUBLISH
X-ORIGINAL-URL:https://www.bsator.com
X-WR-CALDESC:Events for Boy Scout Trade-O-Ree Calendar
REFRESH-INTERVAL;VALUE=DURATION:PT1H
X-Robots-Tag:noindex
X-PUBLISHED-TTL:PT1H
BEGIN:VTIMEZONE
TZID:UTC
BEGIN:STANDARD
TZOFFSETFROM:+0000
TZOFFSETTO:+0000
TZNAME:UTC
DTSTART:20150101T000000
END:STANDARD
END:VTIMEZONE
BEGIN:VEVENT
DTSTART;TZID=UTC:20250425T130000
DTEND;TZID=UTC:20250426T150000
DTSTAMP:20260423T182519
CREATED:20250318T160033Z
LAST-MODIFIED:20250328T033106Z
UID:10000570-1745586000-1745679600@www.bsator.com
SUMMARY:13th Annual Menawngihella Lodge Trade-O-Ree
DESCRIPTION:Date: April 25-26\, 2025 \nAddress:\nCamp Mountaineer Dining Hall\n187 Camp Mountaineer Rd\nMorgantown\, WV 26508 \nTimes:\nFriday: 1pm – 10pm (Table Vendors Set-Up: 10am)\nSaturday: 8am – 3pm \nVendor Registration: Click Here \nContact: Homer Moore\nEmail: shmoore1985@gmail.com\nPhone: (304) 338-6673 (Home)\nPhone: (304) 642-6650 (Cell)\n\nContact: Lori Ludas (Lodge Adviser)\nEmail: lori.ludas@gmail.com\nPhone: (773) 682-7607\n\nRegister Now \n\n \nTrade-O-Ree Flyer\n\n\n    Download the PDF file .
URL:https://www.bsator.com/event/13th-annual-menawngihella-lodge-trade-o-ree/
LOCATION:Camp Mountaineer Dining Hall\, 187 Camp Mountaineer Rd\, Morgantown\, WV\, 26508\, United States
ATTACH;FMTTYPE=image/jpeg:https://www.bsator.com/wp-content/uploads/2016/12/14102249_1169088013148585_4854816624710506001.jpg
ORGANIZER;CN="Homer Moore":MAILTO:shmoore1985@gmail.com
GEO:39.5224296;-79.8986158
X-APPLE-STRUCTURED-LOCATION;VALUE=URI;X-ADDRESS=Camp Mountaineer Dining Hall 187 Camp Mountaineer Rd Morgantown WV 26508 United States;X-APPLE-RADIUS=500;X-TITLE=187 Camp Mountaineer Rd:geo:-79.8986158,39.5224296
END:VEVENT
BEGIN:VEVENT
DTSTART;TZID=UTC:20241101T130000
DTEND;TZID=UTC:20241102T140000
DTSTAMP:20260423T182519
CREATED:20230913T013232Z
LAST-MODIFIED:20231230T183133Z
UID:10000294-1730466000-1730556000@www.bsator.com
SUMMARY:12th Annual Menawngihella Lodge Trade-O-Ree
DESCRIPTION:Date: November 1-2\, 2024 \nAddress:\nCamp Mountaineer Dining Hall\n187 Camp Mountaineer Rd\nMorgantown\, WV 26508 \nTimes:\nFriday: 1pm – 10pm (Table Vendors Set-Up: 10am)\nSaturday: 8am – 2pm \nContact: Homer Moore\nEmail: shmoore1985@gmail.com\nPhone: (304) 338-6673 (Home)\nPhone: (304) 642-6650 (Cell)\n\nContact: Alex Stout\nEmail: alex.stout@scouting.org\nPhone: (304) 290-1485\n\nRegister Now \n\n \nTrade-O-Ree Flyer
URL:https://www.bsator.com/event/12th-annual-menawngihella-lodge-trade-o-ree/
LOCATION:Camp Mountaineer Dining Hall\, 187 Camp Mountaineer Rd\, Morgantown\, WV\, 26508\, United States
ATTACH;FMTTYPE=image/jpeg:https://www.bsator.com/wp-content/uploads/2016/12/14102249_1169088013148585_4854816624710506001.jpg
ORGANIZER;CN="Homer Moore":MAILTO:shmoore1985@gmail.com
GEO:39.5224296;-79.8986158
X-APPLE-STRUCTURED-LOCATION;VALUE=URI;X-ADDRESS=Camp Mountaineer Dining Hall 187 Camp Mountaineer Rd Morgantown WV 26508 United States;X-APPLE-RADIUS=500;X-TITLE=187 Camp Mountaineer Rd:geo:-79.8986158,39.5224296
END:VEVENT
BEGIN:VEVENT
DTSTART;TZID=UTC:20220819T130000
DTEND;TZID=UTC:20220820T140000
DTSTAMP:20260423T182519
CREATED:20210731T025022Z
LAST-MODIFIED:20220323T145845Z
UID:10000199-1660914000-1661004000@www.bsator.com
SUMMARY:10th Annual Menawngihella Lodge Trade-O-Ree
DESCRIPTION:Date: August 19-20\, 2022 \nAddress:\nCamp Mountaineer Dining Hall\n187 Camp Mountaineer Rd\nMorgantown\, WV 26508 \nTimes:\nFriday: 1pm – 10pm (Table Vendors Set-Up: 10am)\nSaturday: 8am – 2pm \nContact 1: Homer Moore\nEmail: shmoore1985@gmail.com\nPhone: (304) 338-6673 (Home)\nPhone: (304) 642-6650 (Cell)\n\nContact 2: Alex Stout\nEmail: alex.stout@scouting.org\nPhone: (304) 290-1485\n\nRegister Now \n\n    Download the PDF file .
URL:https://www.bsator.com/event/10th-annual-menawngihella-lodge-trade-o-ree/
LOCATION:Camp Mountaineer Dining Hall\, 187 Camp Mountaineer Rd\, Morgantown\, WV\, 26508\, United States
ATTACH;FMTTYPE=image/jpeg:https://www.bsator.com/wp-content/uploads/2016/12/14102249_1169088013148585_4854816624710506001.jpg
ORGANIZER;CN="Homer Moore":MAILTO:shmoore1985@gmail.com
GEO:39.5224296;-79.8986158
X-APPLE-STRUCTURED-LOCATION;VALUE=URI;X-ADDRESS=Camp Mountaineer Dining Hall 187 Camp Mountaineer Rd Morgantown WV 26508 United States;X-APPLE-RADIUS=500;X-TITLE=187 Camp Mountaineer Rd:geo:-79.8986158,39.5224296
END:VEVENT
BEGIN:VEVENT
DTSTART;TZID=UTC:20200814T130000
DTEND;TZID=UTC:20200815T140000
DTSTAMP:20260423T182519
CREATED:20191205T074546Z
LAST-MODIFIED:20200305T192559Z
UID:10000332-1597410000-1597500000@www.bsator.com
SUMMARY:9th Annual Menawngihella Lodge Trade-O-Ree
DESCRIPTION:Date: August 14-15\, 2020 \nAddress:\nCamp Mountaineer Dining Hall\n187 Camp Mountaineer Rd\nMorgantown\, WV 26508 \nTimes:\nFriday: 1pm – 10pm (Table Vendors Set-Up: 10am)\nSaturday: 8am – 2pm \nContact 1: Homer Moore\nEmail: shmoore@frontiernet.net\nPhone: (304) 338-6673 (Home)\nPhone: (304) 642-6650 (Cell)\n\nContact 2: Alex Stout\nEmail: alex.stout@scouting.org\nPhone: (304) 290-1485\n\nRegister Now \n\n    Download the PDF file .
URL:https://www.bsator.com/event/9th-annual-menawngihella-lodge-trade-o-ree/
LOCATION:Camp Mountaineer Dining Hall\, 187 Camp Mountaineer Rd\, Morgantown\, WV\, 26508\, United States
ATTACH;FMTTYPE=image/jpeg:https://www.bsator.com/wp-content/uploads/2016/12/14102249_1169088013148585_4854816624710506001.jpg
ORGANIZER;CN="Homer Moore":MAILTO:shmoore1985@gmail.com
GEO:39.5224296;-79.8986158
X-APPLE-STRUCTURED-LOCATION;VALUE=URI;X-ADDRESS=Camp Mountaineer Dining Hall 187 Camp Mountaineer Rd Morgantown WV 26508 United States;X-APPLE-RADIUS=500;X-TITLE=187 Camp Mountaineer Rd:geo:-79.8986158,39.5224296
END:VEVENT
BEGIN:VEVENT
DTSTART;TZID=UTC:20190816T130000
DTEND;TZID=UTC:20190817T140000
DTSTAMP:20260423T182519
CREATED:20190429T053055Z
LAST-MODIFIED:20190429T053152Z
UID:10000304-1565960400-1566050400@www.bsator.com
SUMMARY:8th Annual Menawngihella Lodge Trade-O-Ree
DESCRIPTION:Date: August 16-17\, 2019 \nAddress:\nCamp Mountaineer Dining Hall\n187 Camp Mountaineer Rd\nMorgantown\, WV 26508 \nTimes:\nFriday: 1pm – 10pm (Table Vendors Set-Up: 10am)\nSaturday: 8am – 2pm \nContact 1: Homer Moore\nEmail: shmoore@frontiernet.net\nPhone: (304) 338-6673 (Home)\nPhone: (304) 642-6650 (Cell)\n\nContact 2: Alex Stout\nEmail: alex.stout@scouting.org\nPhone: (304) 290-1485\n\nRegister Now \n\n    Download the PDF file .
URL:https://www.bsator.com/event/8th-annual-menawngihella-lodge-trade-o-ree/
LOCATION:Camp Mountaineer Dining Hall\, 187 Camp Mountaineer Rd\, Morgantown\, WV\, 26508\, United States
ATTACH;FMTTYPE=image/jpeg:https://www.bsator.com/wp-content/uploads/2016/12/14102249_1169088013148585_4854816624710506001.jpg
ORGANIZER;CN="Homer Moore":MAILTO:shmoore1985@gmail.com
GEO:39.5224296;-79.8986158
X-APPLE-STRUCTURED-LOCATION;VALUE=URI;X-ADDRESS=Camp Mountaineer Dining Hall 187 Camp Mountaineer Rd Morgantown WV 26508 United States;X-APPLE-RADIUS=500;X-TITLE=187 Camp Mountaineer Rd:geo:-79.8986158,39.5224296
END:VEVENT
BEGIN:VEVENT
DTSTART;TZID=UTC:20180817T130000
DTEND;TZID=UTC:20180818T140000
DTSTAMP:20260423T182519
CREATED:20180612T075437Z
LAST-MODIFIED:20180612T075618Z
UID:10000250-1534510800-1534600800@www.bsator.com
SUMMARY:2018 Menawngihella Lodge 550 Trade-O-Ree - State: West Virginia
DESCRIPTION:Date: August 17-18\, 2018 \nAddress:\nCamp Mountaineer Dining Hall\n187 Camp Mountaineer Rd\nMorgantown\, WV 26508 \nTimes:\nFriday: 1pm – 10pm (Table Vendors Set-Up: 10am)\nSaturday: 8am – 2pm \nContact 1: Homer Moore\nEmail: shmoore@frontiernet.net\nPhone: (304) 338-6673 (Home)\nPhone: (304) 642-6650 (Cell)\n\nRegister Now \n\n    Download the PDF file .
URL:https://www.bsator.com/event/2018-menawngihella-lodge-550-trade-o-ree-state-west-virginia/
LOCATION:Camp Mountaineer Dining Hall\, 187 Camp Mountaineer Rd\, Morgantown\, WV\, 26508\, United States
ATTACH;FMTTYPE=image/jpeg:https://www.bsator.com/wp-content/uploads/2016/12/14102249_1169088013148585_4854816624710506001.jpg
ORGANIZER;CN="Homer Moore":MAILTO:shmoore1985@gmail.com
GEO:39.5224296;-79.8986158
X-APPLE-STRUCTURED-LOCATION;VALUE=URI;X-ADDRESS=Camp Mountaineer Dining Hall 187 Camp Mountaineer Rd Morgantown WV 26508 United States;X-APPLE-RADIUS=500;X-TITLE=187 Camp Mountaineer Rd:geo:-79.8986158,39.5224296
END:VEVENT
BEGIN:VEVENT
DTSTART;TZID=UTC:20170818T130000
DTEND;TZID=UTC:20170819T140000
DTSTAMP:20260423T182519
CREATED:20170310T165619Z
LAST-MODIFIED:20170527T160714Z
UID:10000175-1503061200-1503151200@www.bsator.com
SUMMARY:2017 Menawngihella Lodge 550 Trade-O-Ree - State: West Virginia
DESCRIPTION:Date: August 18-19\, 2017 \nAddress:\nCamp Mountaineer Dining Hall\n187 Camp Mountaineer Rd\nMorgantown\, WV 26508 \nTimes:\nFriday: 1pm – 10pm (Table Vendors Set-Up: 10am)\nSaturday: 8am – 2pm \nContact 1: Homer Moore\nEmail: shmoore@frontiernet.net\nPhone: (304) 338-6673 (Home)\nPhone: (304) 642-6650 (Cell)\n\nRegister Now \n\n    Download the PDF file .
URL:https://www.bsator.com/event/2017-menawngihella-lodge-550-trade-o-ree-state-west-virginia/
LOCATION:Camp Mountaineer Dining Hall\, 187 Camp Mountaineer Rd\, Morgantown\, WV\, 26508\, United States
ATTACH;FMTTYPE=image/jpeg:https://www.bsator.com/wp-content/uploads/2016/12/14102249_1169088013148585_4854816624710506001.jpg
ORGANIZER;CN="Homer Moore":MAILTO:shmoore1985@gmail.com
GEO:39.5224296;-79.8986158
X-APPLE-STRUCTURED-LOCATION;VALUE=URI;X-ADDRESS=Camp Mountaineer Dining Hall 187 Camp Mountaineer Rd Morgantown WV 26508 United States;X-APPLE-RADIUS=500;X-TITLE=187 Camp Mountaineer Rd:geo:-79.8986158,39.5224296
END:VEVENT
BEGIN:VEVENT
DTSTART;TZID=UTC:20160819T130000
DTEND;TZID=UTC:20160820T160000
DTSTAMP:20260423T182519
CREATED:20160601T092850Z
LAST-MODIFIED:20160719T050819Z
UID:10000070-1471611600-1471708800@www.bsator.com
SUMMARY:Menawngihella Lodge 550 Trade-O-Ree - State: West Virginia
DESCRIPTION:Date: August 19-20\, 2016 \nAddress:\nCamp Mountaineer Dining Hall\n187 Camp Mountaineer Rd\nMorgantown\, WV 26508 \nTimes:\nFriday: 1pm – 10pm\nSaturday: 8am – 4pm \nContact 1: Homer Moore\nEmail: shmoore@frontiernet.net\nPhone: (304) 338-6673 (Home)\nPhone: (304) 642-6650 (Cell) \nFlyer: Click Here \nRegister Now\n\n    Download the PDF file .
URL:https://www.bsator.com/event/menawngihella-lodge-550-trade-o-ree-state-west-virginia/
LOCATION:Camp Mountaineer Dining Hall\, 187 Camp Mountaineer Rd\, Morgantown\, WV\, 26508\, United States
ATTACH;FMTTYPE=image/jpeg:https://www.bsator.com/wp-content/uploads/2016/06/10606102_10154544837830165_9153690065254240672_n-1.jpg.opt430x322o00s430x322-1.jpg
ORGANIZER;CN="Homer Moore":MAILTO:shmoore1985@gmail.com
GEO:39.5224296;-79.8986158
X-APPLE-STRUCTURED-LOCATION;VALUE=URI;X-ADDRESS=Camp Mountaineer Dining Hall 187 Camp Mountaineer Rd Morgantown WV 26508 United States;X-APPLE-RADIUS=500;X-TITLE=187 Camp Mountaineer Rd:geo:-79.8986158,39.5224296
END:VEVENT
END:VCALENDAR