BEGIN:VCALENDAR
VERSION:2.0
PRODID:-//Boy Scout Trade-O-Ree Calendar - ECPv6.15.20//NONSGML v1.0//EN
CALSCALE:GREGORIAN
METHOD:PUBLISH
X-ORIGINAL-URL:https://www.bsator.com
X-WR-CALDESC:Events for Boy Scout Trade-O-Ree Calendar
REFRESH-INTERVAL;VALUE=DURATION:PT1H
X-Robots-Tag:noindex
X-PUBLISHED-TTL:PT1H
BEGIN:VTIMEZONE
TZID:UTC
BEGIN:STANDARD
TZOFFSETFROM:+0000
TZOFFSETTO:+0000
TZNAME:UTC
DTSTART:20190101T000000
END:STANDARD
END:VTIMEZONE
BEGIN:VEVENT
DTSTART;TZID=UTC:20201002T160000
DTEND;TZID=UTC:20201003T140000
DTSTAMP:20260423T200757
CREATED:20181130T034120Z
LAST-MODIFIED:20200729T164314Z
UID:10000268-1601654400-1601733600@www.bsator.com
SUMMARY:CANCELED: Middle Tennessee Council Trade-O-Ree - State: Tennessee
DESCRIPTION:THIS EVENT HAS BEEN CANCELEDDUE TO THE CORONAVIRUS\n \n \nDate: October 2-3\, 2020 \nAddress:\nWilson County Fair Grounds (Main Exhibit Hall)\n945 Baddour Pkwy\nLebanon\, TN 37087 \nTimes:\nFriday: 4pm – 10pm\nSaturday: 8am – 2pm \nContact 1: Vance Lackey\nEmail: vance.lackey@scouting.org\nPhone: (615) 463-6281 \n\n    Download the PDF file .
URL:https://www.bsator.com/event/middle-tennessee-council-trade-o-ree-state-tennessee/
LOCATION:Wilson County Fair Grounds (Main Exhibit Hall)\, 945 Baddour Pkwy\, Lebanon\, TN\, 37087\, United States
ATTACH;FMTTYPE=image/jpeg:https://www.bsator.com/wp-content/uploads/2016/06/SWAPSHOP_zpsd7821994-4-1.jpg.opt430x360o00s430x360-4-1.jpg
ORGANIZER;CN="Vance Lackey":MAILTO:vance.lackey@scouting.org
END:VEVENT
END:VCALENDAR