BEGIN:VCALENDAR
VERSION:2.0
PRODID:-//Boy Scout Trade-O-Ree Calendar - ECPv6.15.20//NONSGML v1.0//EN
CALSCALE:GREGORIAN
METHOD:PUBLISH
X-WR-CALNAME:Boy Scout Trade-O-Ree Calendar
X-ORIGINAL-URL:https://www.bsator.com
X-WR-CALDESC:Events for Boy Scout Trade-O-Ree Calendar
REFRESH-INTERVAL;VALUE=DURATION:PT1H
X-Robots-Tag:noindex
X-PUBLISHED-TTL:PT1H
BEGIN:VTIMEZONE
TZID:UTC
BEGIN:STANDARD
TZOFFSETFROM:+0000
TZOFFSETTO:+0000
TZNAME:UTC
DTSTART:20210101T000000
END:STANDARD
END:VTIMEZONE
BEGIN:VEVENT
DTSTART;TZID=UTC:20230818T170000
DTEND;TZID=UTC:20230819T160000
DTSTAMP:20260423T195719
CREATED:20220823T033855Z
LAST-MODIFIED:20230113T044157Z
UID:10000454-1692378000-1692460800@www.bsator.com
SUMMARY:3rd Annual Sakima Lodge Trade-O-Ree - State: Michigan
DESCRIPTION:Come to beautiful Camp Tamarack on Wood Lake Scout Reservation in Jones Michigan for a celebration of Scouting memorabilia! Patches and Scouting collectibles will be on display for viewing\, buying\, selling\, and trading. Day visitors\, weekend campers\, trade show vendors\, enthusiasts\, and the mildly-interested are all welcome. Starter patch-trading kits will be availble for all Cub Scouts. Scouting Heritage Merit Badge and Collecting Merit Badge Counselors will be present. The Camp Tamarack Trading Post will be open and food will also be available for purchase. \n\n \nDate: August 18-19\, 2023 \nAddress:\nWood Lake Scout Reservation (Camp Tamarack Dining Hall)\n10891 Withers St.\nJones\, MI 49061 \nTimes:\nFriday: 5pm – 10pm\nSaturday: 9am – 4pm \nContact: Jim Ellis\nEmail: Nileslaw@aol.com\nPhone: (269) 683-1114 \nContact: Jeff Smith\nEmail: j.smith@scouting.org\nPhone: ? \nContact: Tim Monaghan\nEmail: timgmonaghan@gmail.com\nPhone: ? \n\n \nTrade-O-Ree Flyer\n\n\n    Download the PDF file .
URL:https://www.bsator.com/event/3rd-annual-sakima-lodge-trade-o-ree-state-michigan/
LOCATION:Wood Lake Scout Reservation\, 10891 Withers St.\, Jones\, MI\, 49061\, United States
ATTACH;FMTTYPE=image/jpeg:https://www.bsator.com/wp-content/uploads/2020/12/tor-header.jpg
ORGANIZER;CN="Jim Ellis":MAILTO:Nileslaw@aol.com
END:VEVENT
BEGIN:VEVENT
DTSTART;TZID=UTC:20220819T170000
DTEND;TZID=UTC:20220820T180000
DTSTAMP:20260423T195719
CREATED:20210914T032703Z
LAST-MODIFIED:20220816T191542Z
UID:10000403-1660928400-1661018400@www.bsator.com
SUMMARY:2022 Sakima Lodge Trade-O-Ree - State: Michigan
DESCRIPTION:Come to beautiful Camp Tamarack on Wood Lake Scout Reservation in Jones Michigan for a celebration of Scouting memorabilia! Patches and Scouting collectibles will be on display for viewing\, buying\, selling\, and trading. Day visitors\, weekend campers\, trade show vendors\, enthusiasts\, and the mildly-interested are all welcome. Starter patch-trading kits will be availble for all Cub Scouts. Scouting Heritage Merit Badge and Collecting Merit Badge Counselors will be present. The Camp Tamarack Trading Post will be open and food will also be available for purchase. \n\n \nDate: August 19-20\, 2022 \nAddress:\nWood Lake Scout Reservation (Camp Tamarack Dining Hall)\n10891 Withers St.\nJones\, MI 49061 \nTimes:\nFriday: 5pm – 10pm\nSaturday: 8am – 6pm \nContact: Jim Ellis\nEmail: Nileslaw@aol.com\nPhone: (269) 683-1114 \nContact: Jeff Smith\nEmail: j.smith@scouting.org\nPhone: ? \nContact: Tim Monaghan\nEmail: timgmonaghan@gmail.com\nPhone: ? \n\n \nTrade-O-Ree Flyer\n\n\n    Download the PDF file .
URL:https://www.bsator.com/event/2022-sakima-lodge-trade-o-ree-state-michigan/
LOCATION:Wood Lake Scout Reservation\, 10891 Withers St.\, Jones\, MI\, 49061\, United States
ATTACH;FMTTYPE=image/jpeg:https://www.bsator.com/wp-content/uploads/2020/12/tor-header.jpg
ORGANIZER;CN="Jim Ellis":MAILTO:Nileslaw@aol.com
END:VEVENT
END:VCALENDAR