BEGIN:VCALENDAR
VERSION:2.0
PRODID:-//Boy Scout Trade-O-Ree Calendar - ECPv6.15.20//NONSGML v1.0//EN
CALSCALE:GREGORIAN
METHOD:PUBLISH
X-ORIGINAL-URL:https://www.bsator.com
X-WR-CALDESC:Events for Boy Scout Trade-O-Ree Calendar
REFRESH-INTERVAL;VALUE=DURATION:PT1H
X-Robots-Tag:noindex
X-PUBLISHED-TTL:PT1H
BEGIN:VTIMEZONE
TZID:UTC
BEGIN:STANDARD
TZOFFSETFROM:+0000
TZOFFSETTO:+0000
TZNAME:UTC
DTSTART:20200101T000000
END:STANDARD
END:VTIMEZONE
BEGIN:VEVENT
DTSTART;TZID=UTC:20251205T130000
DTEND;TZID=UTC:20251206T150000
DTSTAMP:20260423T182518
CREATED:20250816T043224Z
LAST-MODIFIED:20250816T043224Z
UID:10000589-1764939600-1765033200@www.bsator.com
SUMMARY:5th Annual Toledo Trade-O-Ree - State: Ohio
DESCRIPTION:Date: December 5-6\, 2025 \nAddress:\nProvidence Lutheran Church – Fellowship Hall\n8131 Airport Highway\nHolland\, Ohio 43528 \nTimes:\nFriday: 1pm – 9pm (Vendor Setup: 12pm Noon)\nSaturday: 9am – 3pm (Vendor Setup: 8am) \nContact: Jim Whitehead\nEmail: jcwscouter@sbcglobal.net\nPhone: (419) 350-1944 \nContact: Rick Stewart\nEmail: rsseagle@frontier.com\nPhone: (815) 895-5782 \n\n \nTrade-O-Ree Flyer\n\n\n    Download the PDF file .
URL:https://www.bsator.com/event/5th-annual-toledo-trade-o-ree-state-ohio/
LOCATION:Providence Lutheran Church – Fellowship Hall\, 8131 Airport Highway\, Holland\, OH\, 43528\, United States
ATTACH;FMTTYPE=image/jpeg:https://www.bsator.com/wp-content/uploads/2023/07/Toledo.jpg
ORGANIZER;CN="Jim Whitehead":MAILTO:jcwscouter@sbcglobal.net
END:VEVENT
BEGIN:VEVENT
DTSTART;TZID=UTC:20241206T130000
DTEND;TZID=UTC:20241207T150000
DTSTAMP:20260423T182518
CREATED:20240821T164226Z
LAST-MODIFIED:20240821T164519Z
UID:10000543-1733490000-1733583600@www.bsator.com
SUMMARY:4th Annual Toledo Trade-O-Ree - State: Ohio
DESCRIPTION:Date: December 6-7\, 2024 \nAddress:\nProvidence Lutheran Church – Fellowship Hall\n8131 Airport Highway\nHolland\, Ohio 43528 \nTimes:\nFriday: 1pm – 9pm (Vendor Setup: 12pm Noon)\nSaturday: 9am – 3pm (Vendor Setup: 8am) \nContact: Jim Whitehead\nEmail: jcwscouter@sbcglobal.net\nPhone: (419) 350-1944 \nContact: Rick Stewart\nEmail: rsseagle@frontier.com\nPhone: (815) 895-5782 \n\n \nTrade-O-Ree Flyer\n\n\n    Download the PDF file .
URL:https://www.bsator.com/event/4th-annual-toledo-trade-o-ree-state-ohio/
LOCATION:Providence Lutheran Church – Fellowship Hall\, 8131 Airport Highway\, Holland\, OH\, 43528\, United States
ATTACH;FMTTYPE=image/jpeg:https://www.bsator.com/wp-content/uploads/2023/07/Toledo.jpg
ORGANIZER;CN="Jim Whitehead":MAILTO:jcwscouter@sbcglobal.net
END:VEVENT
BEGIN:VEVENT
DTSTART;TZID=UTC:20231201T130000
DTEND;TZID=UTC:20231202T150000
DTSTAMP:20260423T182518
CREATED:20230702T151320Z
LAST-MODIFIED:20231208T075927Z
UID:10000492-1701435600-1701529200@www.bsator.com
SUMMARY:3rd Annual Toledo Trade-O-Ree - State: Ohio
DESCRIPTION:Date: December 1-2\, 2023 \nAddress:\nProvidence Lutheran Church – Fellowship Hall\n8131 Airport Highway\nHolland\, Ohio 43528 \nTimes:\nFriday: 1pm – 9pm (Vendor Setup: 12pm Noon)\nSaturday: 9am – 3pm (Vendor Setup: 8am) \nContact: Jim Whitehead\nEmail: jcwscouter@sbcglobal.net\nPhone: (419) 350-1944 \nContact: Rick Stewart\nEmail: rsseagle@frontier.com\nPhone: (815) 895-5782 \n\n \nTrade-O-Ree Flyer\n\n\n    Download the PDF file .
URL:https://www.bsator.com/event/3rd-annual-toledo-trade-o-ree-state-ohio/
LOCATION:Providence Lutheran Church – Fellowship Hall\, 8131 Airport Highway\, Holland\, OH\, 43528\, United States
ATTACH;FMTTYPE=image/jpeg:https://www.bsator.com/wp-content/uploads/2023/07/Toledo.jpg
ORGANIZER;CN="Jim Whitehead":MAILTO:jcwscouter@sbcglobal.net
END:VEVENT
BEGIN:VEVENT
DTSTART;TZID=UTC:20221202T130000
DTEND;TZID=UTC:20221203T150000
DTSTAMP:20260423T182518
CREATED:20220527T141042Z
LAST-MODIFIED:20220621T033211Z
UID:10000243-1669986000-1670079600@www.bsator.com
SUMMARY:2nd Annual Toledo Trade-O-Ree
DESCRIPTION:Date: December 2-3\, 2022 \nAddress:\nProvidence Lutheran Church – Fellowship Hall\n8131 Airport Highway\nHolland\, Ohio 43528 \nTimes:\nFriday: 1pm – 9pm (Vendor Setup: 12pm Noon)\nSaturday: 9am – 3pm (Vendor Setup: 8am) \nContact: Jim Whitehead\nEmail: jcwscouter@sbcglobal.net\nPhone: (419) 866-1195 \nContact: Rick Stewart\nEmail: rsseagle@frontier.com\nPhone: (815) 895-5782 \n\n \nTrade-O-Ree Flyer\n\n\n    Download the PDF file .
URL:https://www.bsator.com/event/2nd-annual-toledo-trade-o-ree/
LOCATION:Providence Lutheran Church – Fellowship Hall\, 8131 Airport Highway\, Holland\, OH\, 43528\, United States
ATTACH;FMTTYPE=image/jpeg:https://www.bsator.com/wp-content/uploads/2016/06/SWAPSHOP_zpsd7821994-4-1.jpg.opt430x360o00s430x360-4-1.jpg
ORGANIZER;CN="Jim Whitehead":MAILTO:jcwscouter@sbcglobal.net
END:VEVENT
BEGIN:VEVENT
DTSTART;TZID=UTC:20211203T130000
DTEND;TZID=UTC:20211204T150000
DTSTAMP:20260423T182518
CREATED:20210906T052041Z
LAST-MODIFIED:20210906T052319Z
UID:10000206-1638536400-1638630000@www.bsator.com
SUMMARY:Troop / Crew 210 (Toledo) Trade-O-Ree
DESCRIPTION:Date: December 3-4\, 2021 \nAddress:\nProvidence Lutheran Church – Fellowship Hall\n8131 Airport Highway\nHolland\, Ohio 43528 \nTimes:\nFriday: 1pm – 9pm (Vendor Setup: 12pm Noon)\nFriday: 9am – 3pm (Vendor Setup: 8am) \nContact 1: Jim Whitehead\nEmail: jcwscouter@sbcglobal.net\nPhone: (419) 866-1195 \nContact 2: Rick Stewart\nEmail: rsseagle@frontier.com\nPhone: (815) 895-5782 \n\n \nTrade-O-Ree Flyer\n\n\n    Download the PDF file .
URL:https://www.bsator.com/event/troop-crew-210-toledo-trade-o-ree/
LOCATION:Providence Lutheran Church – Fellowship Hall\, 8131 Airport Highway\, Holland\, OH\, 43528\, United States
ATTACH;FMTTYPE=image/jpeg:https://www.bsator.com/wp-content/uploads/2016/06/SWAPSHOP_zpsd7821994-4-1.jpg.opt430x360o00s430x360-4-1.jpg
ORGANIZER;CN="Jim Whitehead":MAILTO:jcwscouter@sbcglobal.net
END:VEVENT
END:VCALENDAR