BEGIN:VCALENDAR
VERSION:2.0
PRODID:-//Boy Scout Trade-O-Ree Calendar - ECPv6.15.20//NONSGML v1.0//EN
CALSCALE:GREGORIAN
METHOD:PUBLISH
X-ORIGINAL-URL:https://www.bsator.com
X-WR-CALDESC:Events for Boy Scout Trade-O-Ree Calendar
REFRESH-INTERVAL;VALUE=DURATION:PT1H
X-Robots-Tag:noindex
X-PUBLISHED-TTL:PT1H
BEGIN:VTIMEZONE
TZID:UTC
BEGIN:STANDARD
TZOFFSETFROM:+0000
TZOFFSETTO:+0000
TZNAME:UTC
DTSTART:20150101T000000
END:STANDARD
END:VTIMEZONE
BEGIN:VEVENT
DTSTART;TZID=UTC:20241122T170000
DTEND;TZID=UTC:20241123T130000
DTSTAMP:20260423T192623
CREATED:20240821T053613Z
LAST-MODIFIED:20240922T030745Z
UID:10000542-1732294800-1732366800@www.bsator.com
SUMMARY:36th Annual Greater St. Louis Trade-O-Ree – State: Missouri
DESCRIPTION:Date: November 22-23\, 2024 \nAddress:\nEpiphany Catholic Church Community Center\n6596 Smiley Ave.\nSt. Louis\, MO 63139 \nTimes:\nFriday: 5pm – 11pm\nSaturday: 9am – 1pm \nContact: Mike LaTurno\nEmail: elaphe3@gmail.com\nPhone: (314) 481-0358 \nRegister Now\n\n \nTrade-O-Ree Flyer\n\n\n    Download the PDF file .
URL:https://www.bsator.com/event/36th-annual-greater-st-louis-trade-o-ree-state-missouri/
LOCATION:Epiphany Catholic Church Community Center\, 6596 Smiley Ave.\, St. Louis\, MO\, 63139\, United States
ATTACH;FMTTYPE=image/jpeg:https://www.bsator.com/wp-content/uploads/2023/08/IMG_8019-1.jpg
ORGANIZER;CN="John Remelius":MAILTO:jhremo@hotmail.com
GEO:38.607009;-90.3026069
X-APPLE-STRUCTURED-LOCATION;VALUE=URI;X-ADDRESS=Epiphany Catholic Church Community Center 6596 Smiley Ave. St. Louis MO 63139 United States;X-APPLE-RADIUS=500;X-TITLE=6596 Smiley Ave.:geo:-90.3026069,38.607009
END:VEVENT
BEGIN:VEVENT
DTSTART;TZID=UTC:20231117T170000
DTEND;TZID=UTC:20231118T130000
DTSTAMP:20260423T192623
CREATED:20230824T173304Z
LAST-MODIFIED:20231124T035828Z
UID:10000497-1700240400-1700312400@www.bsator.com
SUMMARY:34th Annual Greater St. Louis Trade-O-Ree – State: Missouri
DESCRIPTION:Date: November 17-18\, 2023 \nAddress:\nEpiphany Catholic Church Community Center\n6596 Smiley Ave.\nSt. Louis\, MO 63139 \nTimes:\nFriday: 5pm – 11pm\nSaturday: 9am – 1pm \nContact: John Remelius\nEmail: jhremo@hotmail.com\nPhone: (314) 504-8898 \nContact: Mike LaTurno\nEmail: elaphe3@gmail.com\nPhone: (314) 481-0358 \nRegister Now\n\n \nTrade-O-Ree Flyer\n\n\n    Download the PDF file .
URL:https://www.bsator.com/event/34th-annual-greater-st-louis-trade-o-ree-state-missouri/
LOCATION:Epiphany Catholic Church Community Center\, 6596 Smiley Ave.\, St. Louis\, MO\, 63139\, United States
ATTACH;FMTTYPE=image/jpeg:https://www.bsator.com/wp-content/uploads/2023/08/IMG_8019-1.jpg
ORGANIZER;CN="John Remelius":MAILTO:jhremo@hotmail.com
GEO:38.607009;-90.3026069
X-APPLE-STRUCTURED-LOCATION;VALUE=URI;X-ADDRESS=Epiphany Catholic Church Community Center 6596 Smiley Ave. St. Louis MO 63139 United States;X-APPLE-RADIUS=500;X-TITLE=6596 Smiley Ave.:geo:-90.3026069,38.607009
END:VEVENT
BEGIN:VEVENT
DTSTART;TZID=UTC:20221118T170000
DTEND;TZID=UTC:20221119T130000
DTSTAMP:20260423T192623
CREATED:20220630T222429Z
LAST-MODIFIED:20220630T223004Z
UID:10000445-1668790800-1668862800@www.bsator.com
SUMMARY:33rd Annual Greater St. Louis Trade-O-Ree – State: Missouri
DESCRIPTION:Date: November 18-19\, 2022 \nAddress:\nEpiphany Catholic Church Community Center\n6596 Smiley Ave.\nSt. Louis\, MO 63139 \nTimes:\nFriday: 5pm – 11pm\nSaturday: 9am – 1pm \nContact: John Remelius\nEmail: jhremo@hotmail.com\nPhone: (314) 353-3285 \nContact: Mike LaTurno\nEmail: elaphe3@gmail.com\nPhone: (314) 481-0358 \nRegister Now\n\n \nTrade-O-Ree Flyer\n\n\n    Download the PDF file .
URL:https://www.bsator.com/event/33rd-annual-greater-st-louis-trade-o-ree-state-missouri/
LOCATION:Epiphany Catholic Church Community Center\, 6596 Smiley Ave.\, St. Louis\, MO\, 63139\, United States
ATTACH;FMTTYPE=image/jpeg:https://www.bsator.com/wp-content/uploads/2016/06/17359_253180862778_7717243_n.jpg.opt430x322o00s430x322.jpg
ORGANIZER;CN="John Remelius":MAILTO:jhremo@hotmail.com
GEO:38.607009;-90.3026069
X-APPLE-STRUCTURED-LOCATION;VALUE=URI;X-ADDRESS=Epiphany Catholic Church Community Center 6596 Smiley Ave. St. Louis MO 63139 United States;X-APPLE-RADIUS=500;X-TITLE=6596 Smiley Ave.:geo:-90.3026069,38.607009
END:VEVENT
BEGIN:VEVENT
DTSTART;TZID=UTC:20211119T170000
DTEND;TZID=UTC:20211120T130000
DTSTAMP:20260423T192623
CREATED:20210709T063933Z
LAST-MODIFIED:20211210T044526Z
UID:10000402-1637341200-1637413200@www.bsator.com
SUMMARY:32nd Annual Greater St. Louis Trade-O-Ree – State: Missouri
DESCRIPTION:Date: November 19-20\, 2021 \nAddress:\nEpiphany Catholic Church Community Center\n6596 Smiley Ave.\nSt. Louis\, MO 63139 \nTimes:\nFriday: 5pm – 11pm\nSaturday: 9am – 1pm \nContact 1: John Remelius\nEmail: jhremo@hotmail.com\nPhone: (314) 353-3285 \nContact 2: Mike LaTurno\nEmail: elaphe3@gmail.com\nPhone: (314) 481-0358 \nRegister Now\n\n \nTrade-O-Ree Flyer\n\n\n    Download the PDF file .
URL:https://www.bsator.com/event/32nd-annual-greater-st-louis-trade-o-ree-state-missouri/
LOCATION:Epiphany Catholic Church Community Center\, 6596 Smiley Ave.\, St. Louis\, MO\, 63139\, United States
ATTACH;FMTTYPE=image/jpeg:https://www.bsator.com/wp-content/uploads/2016/06/17359_253180862778_7717243_n.jpg.opt430x322o00s430x322.jpg
ORGANIZER;CN="John Remelius":MAILTO:jhremo@hotmail.com
GEO:38.607009;-90.3026069
X-APPLE-STRUCTURED-LOCATION;VALUE=URI;X-ADDRESS=Epiphany Catholic Church Community Center 6596 Smiley Ave. St. Louis MO 63139 United States;X-APPLE-RADIUS=500;X-TITLE=6596 Smiley Ave.:geo:-90.3026069,38.607009
END:VEVENT
BEGIN:VEVENT
DTSTART;TZID=UTC:20191122T170000
DTEND;TZID=UTC:20191123T130000
DTSTAMP:20260423T192623
CREATED:20190717T174622Z
LAST-MODIFIED:20190717T174622Z
UID:10000132-1574442000-1574514000@www.bsator.com
SUMMARY:31st Annual Greater St. Louis Trade-O-Ree – State: Missouri
DESCRIPTION:Date: November 22-23\, 2019 \nAddress:\nEpiphany Catholic Church Community Center\n6596 Smiley Ave.\nSt. Louis\, MO 63139 \nTimes:\nFriday: 5pm – 11pm\nSaturday: 9am – 1pm \nContact 1: John Remelius\nEmail: jhremo@hotmail.com\nPhone: (314) 353-3285 \nRegister Now\n\n    Download the PDF file .
URL:https://www.bsator.com/event/31st-annual-greater-st-louis-trade-o-ree-state-missouri/
LOCATION:Epiphany Catholic Church Community Center\, 6596 Smiley Ave.\, St. Louis\, MO\, 63139\, United States
ATTACH;FMTTYPE=image/jpeg:https://www.bsator.com/wp-content/uploads/2016/06/17359_253180862778_7717243_n.jpg.opt430x322o00s430x322.jpg
ORGANIZER;CN="John Remelius":MAILTO:jhremo@hotmail.com
GEO:38.607009;-90.3026069
X-APPLE-STRUCTURED-LOCATION;VALUE=URI;X-ADDRESS=Epiphany Catholic Church Community Center 6596 Smiley Ave. St. Louis MO 63139 United States;X-APPLE-RADIUS=500;X-TITLE=6596 Smiley Ave.:geo:-90.3026069,38.607009
END:VEVENT
BEGIN:VEVENT
DTSTART;TZID=UTC:20181116T170000
DTEND;TZID=UTC:20181117T130000
DTSTAMP:20260423T192623
CREATED:20180703T073616Z
LAST-MODIFIED:20180703T073808Z
UID:10000252-1542387600-1542459600@www.bsator.com
SUMMARY:30th Annual Greater St. Louis Trade-O-Ree – State: Missouri
DESCRIPTION:Date: November 16-17\, 2018 \nAddress:\nEpiphany Catholic Church Community Center\n6596 Smiley Ave.\nSt. Louis\, MO 63139 \nTimes:\nFriday: 5pm – 11pm\nSaturday: 9am – 1pm \nContact 1: John Remelius\nEmail: jhremo@hotmail.com\nPhone: (314) 353-3285 \nRegister Now\n\n    Download the PDF file .
URL:https://www.bsator.com/event/30th-annual-greater-st-louis-trade-o-ree-state-missouri/
LOCATION:Epiphany Catholic Church Community Center\, 6596 Smiley Ave.\, St. Louis\, MO\, 63139\, United States
ATTACH;FMTTYPE=image/jpeg:https://www.bsator.com/wp-content/uploads/2016/06/17359_253180862778_7717243_n.jpg.opt430x322o00s430x322.jpg
ORGANIZER;CN="John Remelius":MAILTO:jhremo@hotmail.com
GEO:38.607009;-90.3026069
X-APPLE-STRUCTURED-LOCATION;VALUE=URI;X-ADDRESS=Epiphany Catholic Church Community Center 6596 Smiley Ave. St. Louis MO 63139 United States;X-APPLE-RADIUS=500;X-TITLE=6596 Smiley Ave.:geo:-90.3026069,38.607009
END:VEVENT
BEGIN:VEVENT
DTSTART;TZID=UTC:20171117T170000
DTEND;TZID=UTC:20171118T130000
DTSTAMP:20260423T192623
CREATED:20170908T163457Z
LAST-MODIFIED:20170908T163709Z
UID:10000055-1510938000-1511010000@www.bsator.com
SUMMARY:29th Annual Greater St. Louis Trade-O-Ree – State: Missouri
DESCRIPTION:Date: November 17-18\, 2017 \nAddress:\nEpiphany Catholic Church Community Center\n6596 Smiley Ave.\nSt. Louis\, MO 63139 \nTimes:\nFriday: 5pm – 11pm\nSaturday: 9am – 1pm \nContact 1: John Remelius\nEmail: jhremo@hotmail.com\nPhone: (314) 353-3285 \nRegister Now\n\n    Download the PDF file .
URL:https://www.bsator.com/event/29th-annual-greater-st-louis-trade-o-ree-state-missouri/
LOCATION:Epiphany Catholic Church Community Center\, 6596 Smiley Ave.\, St. Louis\, MO\, 63139\, United States
ATTACH;FMTTYPE=image/jpeg:https://www.bsator.com/wp-content/uploads/2016/06/17359_253180862778_7717243_n.jpg.opt430x322o00s430x322.jpg
ORGANIZER;CN="John Remelius":MAILTO:jhremo@hotmail.com
GEO:38.607009;-90.3026069
X-APPLE-STRUCTURED-LOCATION;VALUE=URI;X-ADDRESS=Epiphany Catholic Church Community Center 6596 Smiley Ave. St. Louis MO 63139 United States;X-APPLE-RADIUS=500;X-TITLE=6596 Smiley Ave.:geo:-90.3026069,38.607009
END:VEVENT
BEGIN:VEVENT
DTSTART;TZID=UTC:20161118T170000
DTEND;TZID=UTC:20161119T130000
DTSTAMP:20260423T192623
CREATED:20160601T113141Z
LAST-MODIFIED:20160903T054606Z
UID:10000044-1479488400-1479560400@www.bsator.com
SUMMARY:28th Annual Greater St. Louis Trade-O-Ree - State: Missouri
DESCRIPTION:Date: November 18-19\, 2016 \nAddress:\nEpiphany Catholic Church Community Center\n6596 Smiley Ave.\nSt. Louis\, MO 63139 \nTimes:\nFriday: 5pm – 11pm\nSaturday: 9am – 1pm \nContact 1: John Remelius\nEmail: jhremo@hotmail.com\nPhone: (314) 353-3285 \nFlyer: Click Here\n\nRegister Now \n\n    Download the PDF file .
URL:https://www.bsator.com/event/28th-annual-greater-st-louis-trade-o-ree-state-missouri/
LOCATION:Epiphany Catholic Church Community Center\, 6596 Smiley Ave.\, St. Louis\, MO\, 63139\, United States
ATTACH;FMTTYPE=image/jpeg:https://www.bsator.com/wp-content/uploads/2016/06/17359_253180862778_7717243_n.jpg.opt430x322o00s430x322.jpg
ORGANIZER;CN="John Remelius":MAILTO:jhremo@hotmail.com
GEO:38.607009;-90.3026069
X-APPLE-STRUCTURED-LOCATION;VALUE=URI;X-ADDRESS=Epiphany Catholic Church Community Center 6596 Smiley Ave. St. Louis MO 63139 United States;X-APPLE-RADIUS=500;X-TITLE=6596 Smiley Ave.:geo:-90.3026069,38.607009
END:VEVENT
END:VCALENDAR