BEGIN:VCALENDAR
VERSION:2.0
PRODID:-//Boy Scout Trade-O-Ree Calendar - ECPv6.15.20//NONSGML v1.0//EN
CALSCALE:GREGORIAN
METHOD:PUBLISH
X-WR-CALNAME:Boy Scout Trade-O-Ree Calendar
X-ORIGINAL-URL:https://www.bsator.com
X-WR-CALDESC:Events for Boy Scout Trade-O-Ree Calendar
REFRESH-INTERVAL;VALUE=DURATION:PT1H
X-Robots-Tag:noindex
X-PUBLISHED-TTL:PT1H
BEGIN:VTIMEZONE
TZID:UTC
BEGIN:STANDARD
TZOFFSETFROM:+0000
TZOFFSETTO:+0000
TZNAME:UTC
DTSTART:20160101T000000
END:STANDARD
END:VTIMEZONE
BEGIN:VEVENT
DTSTART;TZID=UTC:20250509T140000
DTEND;TZID=UTC:20250510T150000
DTSTAMP:20260423T160540
CREATED:20240821T165323Z
LAST-MODIFIED:20241122T045323Z
UID:10000544-1746799200-1746889200@www.bsator.com
SUMMARY:11th Annual Alabama Trade-O-Ree
DESCRIPTION:Date: May 9-10\, 2025 \nAddress:\nFive Points Baptist Church\n3718 36th Street\nNorthport\, ALABAMA 35473\n(Located behind the Northport Civic Center off Hwy 43) \nTimes:\nFriday: 2pm – 10pm (Dealer Set up: 12pm)\nSaturday: 8am – 3pm \nContact: Jon Hall\nEmail: camper481@aol.com\nPhone: (205) 799-5939 \nOver 100 tables sold last year! Great event with plenty of local walk through and dealers from 15 states. Display competition. Food on site. Lots of local attractions\, good hotels/motels and resturants. \nRegister Now\n \nTrade-O-Ree Flyer\n\n\n    Download the PDF file .
URL:https://www.bsator.com/event/11th-annual-alabama-trade-o-ree/
LOCATION:Five Points Baptist Church\, 3718 36th Street\, Northport\, AL\, 35473\, United States
ATTACH;FMTTYPE=image/jpeg:https://www.bsator.com/wp-content/uploads/2016/09/Alabama-Image.jpg
ORGANIZER;CN="Jon Hall":MAILTO:camper481@aol.com
END:VEVENT
BEGIN:VEVENT
DTSTART;TZID=UTC:20240510T120000
DTEND;TZID=UTC:20240511T150000
DTSTAMP:20260423T160540
CREATED:20231019T230114Z
LAST-MODIFIED:20231019T230451Z
UID:10000503-1715342400-1715439600@www.bsator.com
SUMMARY:10th Annual Alabama Trade-O-Ree
DESCRIPTION:Date: May 10-11\, 2024 \nAddress:\nFive Points Baptist Church\n3718 36th Street\nNorthport\, ALABAMA 35473\n(Located behind the Northport Civic Center off Hwy 43) \nTimes:\nFriday: 2pm – 10pm (Dealer Set up: 12pm)\nSaturday: 8am – 3pm \nContact 1: Jon Hall\nEmail: camper481@aol.com\nPhone: (205) 799-5939 \nOver 100 tables sold last year! Great event with plenty of local walk through and dealers from 15 states. Display competition. Food on site. Lots of local attractions\, good hotels/motels and resturants. \nRegister Now\n \nTrade-O-Ree Flyer\n\n\n    Download the PDF file .
URL:https://www.bsator.com/event/10th-annual-alabama-trade-o-ree/
LOCATION:Five Points Baptist Church\, 3718 36th Street\, Northport\, AL\, 35473\, United States
ATTACH;FMTTYPE=image/jpeg:https://www.bsator.com/wp-content/uploads/2016/09/Alabama-Image.jpg
ORGANIZER;CN="Jon Hall":MAILTO:camper481@aol.com
END:VEVENT
BEGIN:VEVENT
DTSTART;TZID=UTC:20230512T140000
DTEND;TZID=UTC:20230513T150000
DTSTAMP:20260423T160540
CREATED:20221214T231816Z
LAST-MODIFIED:20221214T232120Z
UID:10000468-1683900000-1683990000@www.bsator.com
SUMMARY:9th Annual Alabama Trade-O-Ree
DESCRIPTION:Date: May 12-13\, 2023 \nAddress:\nFive Points Baptist Church\n3718 36th Street\nNorthport\, ALABAMA 35473\n(Located behind the Northport Civic Center off Hwy 43) \nTimes:\nFriday: 2pm – 10pm (Dealers Setup: 12pm)\nSaturday: 8am – 3pm \nContact 1: Jon Hall\nEmail: camper481@aol.com\nPhone: (205) 799-5939 \nRegister Now\n \nTrade-O-Ree Flyer\n\n\n    Download the PDF file .
URL:https://www.bsator.com/event/9th-annual-alabama-trade-o-ree-2/
LOCATION:Five Points Baptist Church\, 3718 36th Street\, Northport\, AL\, 35473\, United States
ATTACH;FMTTYPE=image/jpeg:https://www.bsator.com/wp-content/uploads/2016/09/Alabama-Image.jpg
ORGANIZER;CN="Jon Hall":MAILTO:camper481@aol.com
END:VEVENT
BEGIN:VEVENT
DTSTART;TZID=UTC:20221028T160000
DTEND;TZID=UTC:20221029T220000
DTSTAMP:20260423T160540
CREATED:20220112T175712Z
LAST-MODIFIED:20220819T151249Z
UID:10000423-1666972800-1667080800@www.bsator.com
SUMMARY:Black Warrior Council Centennial Encampment and Trade-O-Ree
DESCRIPTION:Date: October 28-29\, 2022 \nAddress:\nMoundville Archeological Park\n634 Mound State Parkway\nMoundville\, AL 35474-6413 \nTimes:\nFriday: 4pm – 10pm\nSaturday: 8am – 10pm \nContact: Jon Hall\nEmail: camper481@aol.com or jhall@tusc.k12.al.us\nPhone: (205) 799-5939 \n\n \nTrade-O-Ree Flyer\n\n\n    Download the PDF file .
URL:https://www.bsator.com/event/black-warrior-council-centennial-encampment-and-trade-o-ree/
LOCATION:Moundville Archeological Park\, 634 Mound State Parkway\, Moundville\, AL\, 35474-6413\, United States
ATTACH;FMTTYPE=image/jpeg:https://www.bsator.com/wp-content/uploads/2016/06/SWAPSHOP_zpsd7821994-4-1.jpg.opt430x360o00s430x360-4-1.jpg
ORGANIZER;CN="Jon Hall":MAILTO:camper481@aol.com
END:VEVENT
BEGIN:VEVENT
DTSTART;TZID=UTC:20220513T140000
DTEND;TZID=UTC:20220514T150000
DTSTAMP:20260423T160540
CREATED:20220112T174743Z
LAST-MODIFIED:20220112T174743Z
UID:10000422-1652450400-1652540400@www.bsator.com
SUMMARY:8th Annual Alabama Trade-O-Ree
DESCRIPTION:Date: May 13-14\, 2022 \nAddress:\nFive Points Baptist Church\n3718 36th Street\nNorthport\, ALABAMA 35473\n(Located behind the Northport Civic Center off Hwy 43) \nTimes:\nFriday: 2pm – 10pm (Dealers Setup: 12pm)\nSaturday: 8am – 3pm \nContact 1: Jon Hall\nEmail: camper481@aol.com\nPhone: (205) 799-5939 \nRegister Now\n\n    Download the PDF file .
URL:https://www.bsator.com/event/8th-annual-alabama-trade-o-ree/
LOCATION:Five Points Baptist Church\, 3718 36th Street\, Northport\, AL\, 35473\, United States
ATTACH;FMTTYPE=image/jpeg:https://www.bsator.com/wp-content/uploads/2016/09/Alabama-Image.jpg
ORGANIZER;CN="Jon Hall":MAILTO:camper481@aol.com
END:VEVENT
BEGIN:VEVENT
DTSTART;TZID=UTC:20210507T140000
DTEND;TZID=UTC:20210508T160000
DTSTAMP:20260423T160540
CREATED:20210303T173814Z
LAST-MODIFIED:20210303T173814Z
UID:10000378-1620396000-1620489600@www.bsator.com
SUMMARY:7th Annual Alabama Trade-O-Ree
DESCRIPTION:Date: May 7-8\, 2021 \nAddress:\nFive Points Baptist Church\n3718 36th Street\nNorthport\, ALABAMA 35473\n(Located behind the Northport Civic Center off Hwy 43) \nTimes:\nFriday: 2pm – 11pm (Dealers Setup: 11am)\nSaturday: 7am – 4pm \nContact 1: Jon Hall\nEmail: camper481@aol.com\nPhone: (205) 799-5939 \nRegister Now\n\n    Download the PDF file .
URL:https://www.bsator.com/event/7th-annual-alabama-trade-o-ree-2/
LOCATION:Five Points Baptist Church\, 3718 36th Street\, Northport\, AL\, 35473\, United States
ATTACH;FMTTYPE=image/jpeg:https://www.bsator.com/wp-content/uploads/2016/09/Alabama-Image.jpg
ORGANIZER;CN="Jon Hall":MAILTO:camper481@aol.com
END:VEVENT
BEGIN:VEVENT
DTSTART;TZID=UTC:20200508T140000
DTEND;TZID=UTC:20200509T150000
DTSTAMP:20260423T160540
CREATED:20191128T210907Z
LAST-MODIFIED:20200417T020427Z
UID:10000325-1588946400-1589036400@www.bsator.com
SUMMARY:CANCELED: 7th Annual Alabama Trade-O-Ree
DESCRIPTION:THIS EVENT HAS BEEN CANCELEDDUE TO THE CORONAVIRUS\n \n \nDate: May 8-9\, 2020 \nAddress:\nFive Points Baptist Church\n3718 36th Street\nNorthport\, ALABAMA 35473\n(Located behind the Northport Civic Center off Hwy 43) \nTimes:\nFriday: 2pm – 11pm\nSaturday: 8am – 3pm \nContact 1: Jon Hall\nEmail: camper481@aol.com\nPhone: (205) 799-5939 \nRegister Now\n\n    Download the PDF file .
URL:https://www.bsator.com/event/7th-annual-alabama-trade-o-ree/
LOCATION:Five Points Baptist Church\, 3718 36th Street\, Northport\, AL\, 35473\, United States
ATTACH;FMTTYPE=image/jpeg:https://www.bsator.com/wp-content/uploads/2016/09/Alabama-Image.jpg
ORGANIZER;CN="Jon Hall":MAILTO:camper481@aol.com
END:VEVENT
BEGIN:VEVENT
DTSTART;TZID=UTC:20190510T140000
DTEND;TZID=UTC:20190511T160000
DTSTAMP:20260423T160540
CREATED:20180929T025910Z
LAST-MODIFIED:20181001T222307Z
UID:10000105-1557496800-1557590400@www.bsator.com
SUMMARY:6th Annual Alabama Trade-O-Ree
DESCRIPTION:Date: May 10-11\, 2019 \nAddress:\nFive Points Baptist Church\n3718 36th Street\nNorthport\, ALABAMA 35473\n(Located behind the Northport Civic Center off Hwy 43) \nTimes:\nFriday: 2pm – 11pm\nSaturday: 8am – 4pm \nContact 1: Jon Hall\nEmail: camper481@aol.com\nPhone: (205) 799-5939 \nRegister Now\n\n    Download the PDF file .
URL:https://www.bsator.com/event/6th-annual-alabama-trade-o-ree/
LOCATION:Five Points Baptist Church\, 3718 36th Street\, Northport\, AL\, 35473\, United States
ATTACH;FMTTYPE=image/jpeg:https://www.bsator.com/wp-content/uploads/2016/09/Alabama-Image.jpg
ORGANIZER;CN="Jon Hall":MAILTO:camper481@aol.com
END:VEVENT
BEGIN:VEVENT
DTSTART;TZID=UTC:20180511T140000
DTEND;TZID=UTC:20180512T160000
DTSTAMP:20260423T160540
CREATED:20171013T031330Z
LAST-MODIFIED:20171013T032334Z
UID:10000063-1526047200-1526140800@www.bsator.com
SUMMARY:5th Annual Alabama Trade-O-Ree
DESCRIPTION:Date: May 11-12\, 2018 \nAddress:\nFive Points Baptist Church\n3718 36th Street\nNorthport\, ALABAMA 35473\n(Located behind the Northport Civic Center off Hwy 43) \nTimes:\nFriday: 2pm – 11pm\nSaturday: 8am – 4pm \nContact 1: Jon Hall\nEmail: camper481@aol.com\nPhone: (205) 799-5939 \nRegister Now\n\n    Download the PDF file .
URL:https://www.bsator.com/event/5th-annual-alabama-trade-o-ree/
LOCATION:Five Points Baptist Church\, 3718 36th Street\, Northport\, AL\, 35473\, United States
ATTACH;FMTTYPE=image/jpeg:https://www.bsator.com/wp-content/uploads/2016/09/Alabama-Image.jpg
ORGANIZER;CN="Jon Hall":MAILTO:camper481@aol.com
END:VEVENT
BEGIN:VEVENT
DTSTART;TZID=UTC:20170512T140000
DTEND;TZID=UTC:20170513T150000
DTSTAMP:20260423T160540
CREATED:20160909T222238Z
LAST-MODIFIED:20170307T093303Z
UID:10000083-1494597600-1494687600@www.bsator.com
SUMMARY:4th Annual Alabama Trade-O-Ree
DESCRIPTION:Date: May 12-13\, 2017 \nAddress:\nNorthport Civic Center\n3500 McFarland Blvd.\nNorthport\, AL 35476 \nTimes:\nFriday: 2pm – 9:30pm\nSaturday: 8am – 3pm \nContact 1: Jon Hall\nEmail: camper481@aol.com\nPhone: (205) 799-5939 \nFlyer: Click Here\n\nRegister Now \n\n    Download the PDF file .
URL:https://www.bsator.com/event/4th-annual-alabama-trade-o-ree/
LOCATION:Northport Civic Center\, 3500 McFarland Blvd.\, Northport\, AL\, 35476\, United States
ATTACH;FMTTYPE=image/jpeg:https://www.bsator.com/wp-content/uploads/2016/09/Alabama-Image.jpg
ORGANIZER;CN="Jon Hall":MAILTO:camper481@aol.com
GEO:33.2407929;-87.592305
X-APPLE-STRUCTURED-LOCATION;VALUE=URI;X-ADDRESS=Northport Civic Center 3500 McFarland Blvd. Northport AL 35476 United States;X-APPLE-RADIUS=500;X-TITLE=3500 McFarland Blvd.:geo:-87.592305,33.2407929
END:VEVENT
END:VCALENDAR