BEGIN:VCALENDAR
VERSION:2.0
PRODID:-//Boy Scout Trade-O-Ree Calendar - ECPv6.15.20//NONSGML v1.0//EN
CALSCALE:GREGORIAN
METHOD:PUBLISH
X-WR-CALNAME:Boy Scout Trade-O-Ree Calendar
X-ORIGINAL-URL:https://www.bsator.com
X-WR-CALDESC:Events for Boy Scout Trade-O-Ree Calendar
REFRESH-INTERVAL;VALUE=DURATION:PT1H
X-Robots-Tag:noindex
X-PUBLISHED-TTL:PT1H
BEGIN:VTIMEZONE
TZID:UTC
BEGIN:STANDARD
TZOFFSETFROM:+0000
TZOFFSETTO:+0000
TZNAME:UTC
DTSTART:20200101T000000
END:STANDARD
END:VTIMEZONE
BEGIN:VEVENT
DTSTART;TZID=UTC:20220827T080000
DTEND;TZID=UTC:20220827T160000
DTSTAMP:20260423T200141
CREATED:20220206T131650Z
LAST-MODIFIED:20220807T062943Z
UID:10000431-1661587200-1661616000@www.bsator.com
SUMMARY:POSTPONED: 2nd Annual Patch Blast Trade-O-Ree - State: Ohio
DESCRIPTION:THIS EVENT HAS BEEN POSTPONED TO A FUTURE DATE!\n \n \nDate: August 27\, 2022 \nAddress:\nCamp Stambaugh\n3712 Leffingwell Rd.\nCanfield\, OH 44406 \nTimes:\nSaturday: 10am – 4pm (Vendor Setup: 8am – 10am) \nContact: Kurt Hilderbrand\nEmail: krh23@msn.com\nPhone: (330) 719-4168 \n\n \nTrade-O-Ree Flyer\n\n\n    Download the PDF file .
URL:https://www.bsator.com/event/2nd-annual-patch-blast-trade-o-ree-state-ohio/
LOCATION:Camp Stambaugh\, 3712 Leffingwell Rd.\, Canfield\, OH\, 44406\, United States
ATTACH;FMTTYPE=image/jpeg:https://www.bsator.com/wp-content/uploads/2022/02/thumbnail.jpg
ORGANIZER;CN="Kurt Hilderbrand":MAILTO:krh23@msn.com
END:VEVENT
BEGIN:VEVENT
DTSTART;TZID=UTC:20210821T080000
DTEND;TZID=UTC:20210821T160000
DTSTAMP:20260423T200141
CREATED:20210217T003909Z
LAST-MODIFIED:20210217T004421Z
UID:10000370-1629532800-1629561600@www.bsator.com
SUMMARY:Patch Blast Trade-O-Ree - State: Ohio
DESCRIPTION:Date: August 21\, 2021 \nAddress:\nCamp Stambaugh\n3712 Leffingwell Rd.\nCanfield\, OH 44406 \nTimes:\nSaturday: 10am – 4pm (Vendor Setup: 8am – 10am) \nContact 1: Kurt Hilderbrand\nEmail: krh23@msn.com\nPhone: (330) 719-4168 \n\n    Download the PDF file .
URL:https://www.bsator.com/event/patch-blast-trade-o-ree-state-ohio/
LOCATION:Camp Stambaugh\, 3712 Leffingwell Rd.\, Canfield\, OH\, 44406\, United States
ATTACH;FMTTYPE=image/jpeg:https://www.bsator.com/wp-content/uploads/2016/06/SWAPSHOP_zpsd7821994-4-1.jpg.opt430x360o00s430x360-4-1.jpg
ORGANIZER;CN="Kurt Hilderbrand":MAILTO:krh23@msn.com
END:VEVENT
END:VCALENDAR