BEGIN:VCALENDAR
VERSION:2.0
PRODID:-//Boy Scout Trade-O-Ree Calendar - ECPv6.15.20//NONSGML v1.0//EN
CALSCALE:GREGORIAN
METHOD:PUBLISH
X-ORIGINAL-URL:https://www.bsator.com
X-WR-CALDESC:Events for Boy Scout Trade-O-Ree Calendar
REFRESH-INTERVAL;VALUE=DURATION:PT1H
X-Robots-Tag:noindex
X-PUBLISHED-TTL:PT1H
BEGIN:VTIMEZONE
TZID:UTC
BEGIN:STANDARD
TZOFFSETFROM:+0000
TZOFFSETTO:+0000
TZNAME:UTC
DTSTART:20160101T000000
END:STANDARD
END:VTIMEZONE
BEGIN:VEVENT
DTSTART;TZID=UTC:20210430T100000
DTEND;TZID=UTC:20210501T140000
DTSTAMP:20260423T182517
CREATED:20210225T164517Z
LAST-MODIFIED:20210225T164517Z
UID:10000373-1619776800-1619877600@www.bsator.com
SUMMARY:2021 Tulsa Trade-O-Ree - State: Oklahoma
DESCRIPTION:Date: April 30 – May 1\, 2021 \nAddress:\nFirst Presbyterian Church\n222 North Adams Road\nSand Springs\, OK 74063 \nTimes:\nFriday: 10am – 9pm\nSaturday: 9am – 2pm \nContact 1: Larry Trook\nEmail: besonleno@cox.net\nPhone: (918) 636-5480 \nContact 2: John Gastorf\nEmail: grumpy138@olp.net\nPhone: (918) 369-1057 \nContact 3: Mike Cale\nEmail: mikecale@cox.net\nPhone: (918) 760-1690 \n\n    Download the PDF file .
URL:https://www.bsator.com/event/2021-tulsa-trade-o-ree-state-oklahoma/
LOCATION:First Presbyterian Church\, 222 North Adams Road\, Sand Springs\, OK\, 74063\, United States
ATTACH;FMTTYPE=image/jpeg:https://www.bsator.com/wp-content/uploads/2016/06/SWAPSHOP_zpsd7821994-4-1.jpg.opt430x360o00s430x360-4-1.jpg
ORGANIZER;CN="Larry Trook":MAILTO:besonleno@cox.net
END:VEVENT
BEGIN:VEVENT
DTSTART;TZID=UTC:20190308T100000
DTEND;TZID=UTC:20190309T140000
DTSTAMP:20260423T182517
CREATED:20181120T173230Z
LAST-MODIFIED:20200221T080535Z
UID:10000265-1552039200-1552140000@www.bsator.com
SUMMARY:2019 Tulsa Trade-O-Ree - State: Oklahoma
DESCRIPTION:Date: March 8-9\, 2019 \nAddress:\nSpirit Bank Event Center\n10441 S. Regal Blvd.\nTulsa\, OK 74133 \nTimes:\nFriday: 10am – 10pm\nSaturday: 9am – 2pm \nContact 1: Larry Trook\nEmail: besonleno@cox.net\nPhone: (918) 636-5480 \nContact 2: John Gastorf\nEmail: grumpy138@olp.net\nPhone: (918) 369-1057 \n\n    Download the PDF file .
URL:https://www.bsator.com/event/2019-tulsa-trade-o-ree-state-oklahoma/
LOCATION:Spirit Bank Event Center\, 10441 S. Regal Blvd.\, Tulsa\, OK\, 74133\, United States
ATTACH;FMTTYPE=image/jpeg:https://www.bsator.com/wp-content/uploads/2016/06/SWAPSHOP_zpsd7821994-4-1.jpg.opt430x360o00s430x360-4-1.jpg
ORGANIZER;CN="Larry Trook":MAILTO:besonleno@cox.net
GEO:36.0115757;-95.884659
X-APPLE-STRUCTURED-LOCATION;VALUE=URI;X-ADDRESS=Spirit Bank Event Center 10441 S. Regal Blvd. Tulsa OK 74133 United States;X-APPLE-RADIUS=500;X-TITLE=10441 S. Regal Blvd.:geo:-95.884659,36.0115757
END:VEVENT
BEGIN:VEVENT
DTSTART;TZID=UTC:20180309T100000
DTEND;TZID=UTC:20180310T140000
DTSTAMP:20260423T182517
CREATED:20171112T104037Z
LAST-MODIFIED:20171112T104229Z
UID:10000194-1520589600-1520690400@www.bsator.com
SUMMARY:2018 Tulsa Trade-O-Ree - State: Oklahoma
DESCRIPTION:Date: March 9-10\, 2018 \nAddress:\nSpirit Bank Event Center\n10441 S. Regal Blvd.\nTulsa\, OK 74133 \nTimes:\nFriday: 10am – 10pm\nSaturday: 9am – 2pm \nContact 1: Larry Trook\nEmail: besonleno@cox.net\nPhone: (918) 636-5480 \nContact 1: John Gastorf\nEmail: grumpy138@olp.net\nPhone: (918) 369-1057 \n\n    Download the PDF file .
URL:https://www.bsator.com/event/2018-tulsa-trade-o-ree-state-oklahoma/
ORGANIZER;CN="Larry Trook":MAILTO:besonleno@cox.net
END:VEVENT
BEGIN:VEVENT
DTSTART;TZID=UTC:20170310T100000
DTEND;TZID=UTC:20170311T140000
DTSTAMP:20260423T182517
CREATED:20160813T052230Z
LAST-MODIFIED:20160929T223028Z
UID:10000004-1489140000-1489240800@www.bsator.com
SUMMARY:Tulsa Trade-O-Ree - State: Oklahoma
DESCRIPTION:Date: March 10-11\, 2017 \nAddress:\nSpirit Bank Event Center\n10441 S. Regal Blvd.\nTulsa\, OK 74133 \nTimes:\nFriday: 10am – 10pm\nSaturday: 9am – 2pm \nContact 1: Larry Trook\nEmail: besonleno@cox.net\nPhone: (918) 636-5480 \nContact 1: John Gastorf\nEmail: grumpy138@olp.net\nPhone: (918) 369-1057 \nFlyer: Click Here \n\n    Download the PDF file .
URL:https://www.bsator.com/event/tulsa-trade-o-ree-state-oklahoma/
LOCATION:Spirit Bank Event Center\, 10441 S. Regal Blvd.\, Tulsa\, OK\, 74133\, United States
ATTACH;FMTTYPE=image/jpeg:https://www.bsator.com/wp-content/uploads/2016/06/SWAPSHOP_zpsd7821994-4-1.jpg.opt430x360o00s430x360-4-1.jpg
ORGANIZER;CN="Larry Trook":MAILTO:besonleno@cox.net
GEO:36.0115757;-95.884659
X-APPLE-STRUCTURED-LOCATION;VALUE=URI;X-ADDRESS=Spirit Bank Event Center 10441 S. Regal Blvd. Tulsa OK 74133 United States;X-APPLE-RADIUS=500;X-TITLE=10441 S. Regal Blvd.:geo:-95.884659,36.0115757
END:VEVENT
END:VCALENDAR