BEGIN:VCALENDAR
VERSION:2.0
PRODID:-//Boy Scout Trade-O-Ree Calendar - ECPv6.15.20//NONSGML v1.0//EN
CALSCALE:GREGORIAN
METHOD:PUBLISH
X-WR-CALNAME:Boy Scout Trade-O-Ree Calendar
X-ORIGINAL-URL:https://www.bsator.com
X-WR-CALDESC:Events for Boy Scout Trade-O-Ree Calendar
REFRESH-INTERVAL;VALUE=DURATION:PT1H
X-Robots-Tag:noindex
X-PUBLISHED-TTL:PT1H
BEGIN:VTIMEZONE
TZID:UTC
BEGIN:STANDARD
TZOFFSETFROM:+0000
TZOFFSETTO:+0000
TZNAME:UTC
DTSTART:20240101T000000
END:STANDARD
END:VTIMEZONE
BEGIN:VEVENT
DTSTART;TZID=UTC:20250509T130000
DTEND;TZID=UTC:20250510T150000
DTSTAMP:20260423T185027
CREATED:20250202T170437Z
LAST-MODIFIED:20250202T174143Z
UID:10000366-1746795600-1746889200@www.bsator.com
SUMMARY:2025 Southeastern Massachusetts Trade-O-Ree
DESCRIPTION:Date: May 9-10\, 2025 \nAddress:\nHoly Name of the Sacred Heart of Jesus (Church Hall)\n121 Mt. Pleasant St.\nNew Bedford\, MA 02740 \nTimes:\nFriday:  1pm – 10pm (Dealer setup begins at 12 Noon)\nSaturday: 8am – 3pm \nContact: Manny Bagaco\nEmail: picoeagle11@yahoo.com\nPhone: (774) 451-5519 \n\n \nTrade-O-Ree Flyer\n\n\n    Download the PDF file .
URL:https://www.bsator.com/event/2025-southeastern-massachusetts-trade-o-ree/
LOCATION:Holy Name of the Sacred Heart of Jesus (Church Hall)\, 121 Mt. Pleasant St.\, New Bedford\, MA\, 02740\, United States
ORGANIZER;CN="Manny Bagaco":MAILTO:picoeagle11@yahoo.com
END:VEVENT
END:VCALENDAR