BEGIN:VCALENDAR
VERSION:2.0
PRODID:-//Boy Scout Trade-O-Ree Calendar - ECPv6.15.20//NONSGML v1.0//EN
CALSCALE:GREGORIAN
METHOD:PUBLISH
X-ORIGINAL-URL:https://www.bsator.com
X-WR-CALDESC:Events for Boy Scout Trade-O-Ree Calendar
REFRESH-INTERVAL;VALUE=DURATION:PT1H
X-Robots-Tag:noindex
X-PUBLISHED-TTL:PT1H
BEGIN:VTIMEZONE
TZID:UTC
BEGIN:STANDARD
TZOFFSETFROM:+0000
TZOFFSETTO:+0000
TZNAME:UTC
DTSTART:20220101T000000
END:STANDARD
END:VTIMEZONE
BEGIN:VEVENT
DTSTART;TZID=UTC:20230310T170000
DTEND;TZID=UTC:20230311T140000
DTSTAMP:20260423T204309
CREATED:20220719T144645Z
LAST-MODIFIED:20230211T181341Z
UID:10000447-1678467600-1678543200@www.bsator.com
SUMMARY:Postponed to 2024 - Inaugural Show-Me Trade-O-Ree
DESCRIPTION:THIS EVENT HAS BEEN POSTPONED TO 2024CANCELED FOR THE YEAR 2023!\n \n \nDate: March 10-11\, 2023 \nAddress:\nGreat Rivers Council Scouting Adventure Center\n6081 W. Van Horn Tavern Rd.\nColumbia\, MO 65203 \nTimes:\nFriday: 5pm – 10pm\nSaturday: 9am – 2pm \nContact: Mark Scheiderer\nEmail: mark@scheiderer.com\nPhone: (660) 414-7994 \nRegister Now\n\n \nTrade-O-Ree Flyer
URL:https://www.bsator.com/event/inaugural-show-me-trade-o-ree/
LOCATION:Great Rivers Council Scouting Adventure Center\, 6081 W. Van Horn Tavern Rd.\, Columbia\, MO\, 65203\, United States
ATTACH;FMTTYPE=image/jpeg:https://www.bsator.com/wp-content/uploads/2016/06/SWAPSHOP_zpsd7821994-4-1.jpg.opt430x360o00s430x360-4-1.jpg
ORGANIZER;CN="Mark Scheiderer":MAILTO:mark@scheiderer.com
END:VEVENT
END:VCALENDAR