BEGIN:VCALENDAR
VERSION:2.0
PRODID:-//Boy Scout Trade-O-Ree Calendar - ECPv6.15.20//NONSGML v1.0//EN
CALSCALE:GREGORIAN
METHOD:PUBLISH
X-ORIGINAL-URL:https://www.bsator.com
X-WR-CALDESC:Events for Boy Scout Trade-O-Ree Calendar
REFRESH-INTERVAL;VALUE=DURATION:PT1H
X-Robots-Tag:noindex
X-PUBLISHED-TTL:PT1H
BEGIN:VTIMEZONE
TZID:UTC
BEGIN:STANDARD
TZOFFSETFROM:+0000
TZOFFSETTO:+0000
TZNAME:UTC
DTSTART:20210101T000000
END:STANDARD
END:VTIMEZONE
BEGIN:VEVENT
DTSTART;TZID=UTC:20220729T083000
DTEND;TZID=UTC:20220730T180000
DTSTAMP:20260423T201415
CREATED:20211210T155544Z
LAST-MODIFIED:20211210T155544Z
UID:10000420-1659083400-1659204000@www.bsator.com
SUMMARY:40th Word Scout & Guide Collectors Meeting - Brig\, Switzerland
DESCRIPTION:Swiss collectors have organized the 40th World Scout & Girl Scout Collectors Meeting (WSGCM)\, which will be held from 28 July to 31 July\, 2022 on the occasion of the Federal Camp of the Swiss Scout Movement in Brig (VS). \nBy participating in such an event you will be able to visit the Scout memorabilia and history exhibition\, learn more about Scouting worldwide and collecting\, meet collectors from other countries\, make contacts for future exchanges\, purchase items for your own collection\, exchange badges\, metal badges\, scarves\, belt buckles\, books\, stamps\, magazines\, photos\, coffee mugs and all kinds of collector’s items and of course make new friends. Three meetings have taken place in Switzerland so far\, the first in 1983 in Bullet\, the 11th in 1992 in Kandersteg on the occasion of the World Moot and the 12th in 1993 again in Bullet. \n\n \nDate: July 29-30\, 2022 \nAddress:\nPfarreizentrum Brig\nAlte Simplonstrasse 13\nBrig\, CH 3900\nSwitzerland \nTimes:\nFriday: 8:30am – 6pm\nSaturday: 9am – 6pm \nContact 1: Martin Bosle\nEmail: wsgcm2022@gmx.net\nPhone: +41 76 411 81 41 \n\n \nTrade-O-Ree Flyer\n\n\n    Download the PDF file .
URL:https://www.bsator.com/event/40th-word-scout-guide-collectors-meeting-brig-switzerland/
LOCATION:Pfarreizentrum Brig\, Alte Simplonstrasse 13\, Brig\, CH\, 3900\, Switzerland
ATTACH;FMTTYPE=image/jpeg:https://www.bsator.com/wp-content/uploads/2016/06/SWAPSHOP_zpsd7821994-4-1.jpg.opt430x360o00s430x360-4-1.jpg
ORGANIZER;CN="Martin Bosle":MAILTO:wsgcm2022@gmx.net
END:VEVENT
END:VCALENDAR