BEGIN:VCALENDAR
VERSION:2.0
PRODID:-//Boy Scout Trade-O-Ree Calendar - ECPv6.15.20//NONSGML v1.0//EN
CALSCALE:GREGORIAN
METHOD:PUBLISH
X-WR-CALNAME:Boy Scout Trade-O-Ree Calendar
X-ORIGINAL-URL:https://www.bsator.com
X-WR-CALDESC:Events for Boy Scout Trade-O-Ree Calendar
REFRESH-INTERVAL;VALUE=DURATION:PT1H
X-Robots-Tag:noindex
X-PUBLISHED-TTL:PT1H
BEGIN:VTIMEZONE
TZID:UTC
BEGIN:STANDARD
TZOFFSETFROM:+0000
TZOFFSETTO:+0000
TZNAME:UTC
DTSTART:20150101T000000
END:STANDARD
END:VTIMEZONE
BEGIN:VEVENT
DTSTART;TZID=UTC:20250530T160000
DTEND;TZID=UTC:20250531T150000
DTSTAMP:20260423T160713
CREATED:20250204T161350Z
LAST-MODIFIED:20250204T161350Z
UID:10000565-1748620800-1748703600@www.bsator.com
SUMMARY:47th Annual California Inland Empire Council Trade-O-Ree
DESCRIPTION:Date: May 30-31\, 2025 \nAddress:\nImmanuel Lutheran Church & School\n5455 Alessandro Blvd.\nRiverside\, CA 92506-3537 \nTimes:\nFriday: 4pm – 9pm\nSaturday: 9am – 3pm \nContact 1: Matt Brandt\nEmail: mkb969@verizon.net\nPhone: (951) 992-9438 \n\n    Download the PDF file .
URL:https://www.bsator.com/event/47th-annual-california-inland-empire-council-trade-o-ree/
LOCATION:Immanuel Lutheran Church\, 5545 Alessandro Blvd\, Riverside\, CA\, 92506\, United States
ATTACH;FMTTYPE=image/jpeg:https://www.bsator.com/wp-content/uploads/2016/06/1890417_10202588828390422_5847759151497661390_o.jpg.opt430x286o00s430x286.jpg
ORGANIZER;CN="Matt Brandt":MAILTO:mkb969@verizon.net
END:VEVENT
BEGIN:VEVENT
DTSTART;TZID=UTC:20240503T180000
DTEND;TZID=UTC:20240504T160000
DTSTAMP:20260423T160713
CREATED:20240209T015828Z
LAST-MODIFIED:20240209T020003Z
UID:10000324-1714759200-1714838400@www.bsator.com
SUMMARY:46th Annual California Inland Empire Council Trade-O-Ree
DESCRIPTION:Date: May 3-4\, 2024 \nAddress:\nRiverside County Bar Association (3rd Floor)\n4129 Main Street\nRiverside\, CA 92501 \nTimes:\nFriday: 6pm – 9pm\nSaturday: 9am – 4pm \nContact 1: Matt Brandt\nEmail: mkb969@verizon.net\nPhone: (951) 992-9438 \n\n    Download the PDF file .
URL:https://www.bsator.com/event/46th-annual-california-inland-empire-council-trade-o-ree/
LOCATION:Immanuel Lutheran Church\, 5545 Alessandro Blvd\, Riverside\, CA\, 92506\, United States
ATTACH;FMTTYPE=image/jpeg:https://www.bsator.com/wp-content/uploads/2016/06/1890417_10202588828390422_5847759151497661390_o.jpg.opt430x286o00s430x286.jpg
ORGANIZER;CN="Matt Brandt":MAILTO:mkb969@verizon.net
END:VEVENT
BEGIN:VEVENT
DTSTART;TZID=UTC:20220520T180000
DTEND;TZID=UTC:20220521T160000
DTSTAMP:20260423T160713
CREATED:20220520T045422Z
LAST-MODIFIED:20220520T045517Z
UID:10000234-1653069600-1653148800@www.bsator.com
SUMMARY:44th Annual California Inland Empire Council Trade-O-Ree
DESCRIPTION:Date: May 20-21\, 2022 \nAddress:\nRiverside County Bar Association (3rd Floor)\n4129 Main Street\nRiverside\, CA 92501 \nTimes:\nFriday: 6pm – 9pm\nSaturday: 9am – 4pm \nContact 1: Matt Brandt\nEmail: mkb969@verizon.net\nPhone: (951) 992-9438 \n\n    Download the PDF file .
URL:https://www.bsator.com/event/44th-annual-california-inland-empire-council-trade-o-ree/
LOCATION:Riverside County Bar Association (3rd Floor)\, 4129 Main St. \, Riverside\, CA 92506
ATTACH;FMTTYPE=image/jpeg:https://www.bsator.com/wp-content/uploads/2016/06/1890417_10202588828390422_5847759151497661390_o.jpg.opt430x286o00s430x286.jpg
ORGANIZER;CN="Matt Brandt":MAILTO:mkb969@verizon.net
GEO:33.9788949;-117.3769625
X-APPLE-STRUCTURED-LOCATION;VALUE=URI;X-ADDRESS=Riverside County Bar Association (3rd Floor) 4129 Main St.  Riverside CA 92506;X-APPLE-RADIUS=500;X-TITLE=4129 Main St.:geo:-117.3769625,33.9788949
END:VEVENT
BEGIN:VEVENT
DTSTART;TZID=UTC:20200515T180000
DTEND;TZID=UTC:20200516T160000
DTSTAMP:20260423T160713
CREATED:20200228T191838Z
LAST-MODIFIED:20200501T013918Z
UID:10000344-1589565600-1589644800@www.bsator.com
SUMMARY:CANCELED: 42nd Annual California Inland Empire Council Trade-O-Ree
DESCRIPTION:THIS EVENT HAS BEEN CANCELEDDUE TO THE CORONAVIRUS\n \n \nDate: May 15-16\, 2020 \nAddress:\nRiverside County Bar Association (3rd Floor)\n4129 Main Street\nRiverside\, CA 92501 \nTimes:\nFriday: 6pm – 9pm\nSaturday: 9am – 4pm \nContact 1: Matt Brandt\nEmail: mkb969@verizon.net\nPhone: (951) 992-9438 \n\n    Download the PDF file .
URL:https://www.bsator.com/event/42nd-annual-california-inland-empire-council-trade-o-ree/
LOCATION:Riverside County Bar Association (3rd Floor)\, 4129 Main St. \, Riverside\, CA 92506
ATTACH;FMTTYPE=image/jpeg:https://www.bsator.com/wp-content/uploads/2016/06/1890417_10202588828390422_5847759151497661390_o.jpg.opt430x286o00s430x286.jpg
ORGANIZER;CN="Matt Brandt":MAILTO:mkb969@verizon.net
GEO:33.9788949;-117.3769625
X-APPLE-STRUCTURED-LOCATION;VALUE=URI;X-ADDRESS=Riverside County Bar Association (3rd Floor) 4129 Main St.  Riverside CA 92506;X-APPLE-RADIUS=500;X-TITLE=4129 Main St.:geo:-117.3769625,33.9788949
END:VEVENT
BEGIN:VEVENT
DTSTART;TZID=UTC:20190517T080000
DTEND;TZID=UTC:20190518T170000
DTSTAMP:20260423T160714
CREATED:20190131T052343Z
LAST-MODIFIED:20200228T191214Z
UID:10000119-1558080000-1558198800@www.bsator.com
SUMMARY:41st Annual California Inland Empire Council Trade-O-Ree
DESCRIPTION:Date: May 17-18\, 2019 \nAddress:\nRiverside County Bar Association (3rd Floor)\n4129 Main Street\nRiverside\, CA 92501 \nTimes:\nFriday: 6pm – 9pm\nSaturday: 9am – 4pm \nContact 1: Matt Brandt\nEmail: mkb969@verizon.net\nPhone: (951) 992-9438 \n\n    Download the PDF file .
URL:https://www.bsator.com/event/41st-annual-california-inland-empire-council-trade-o-ree/
LOCATION:Riverside County Bar Association (3rd Floor)\, 4129 Main St. \, Riverside\, CA 92506
ATTACH;FMTTYPE=image/jpeg:https://www.bsator.com/wp-content/uploads/2016/06/1890417_10202588828390422_5847759151497661390_o.jpg.opt430x286o00s430x286.jpg
ORGANIZER;CN="Matt Brandt":MAILTO:mkb969@verizon.net
GEO:33.9788949;-117.3769625
X-APPLE-STRUCTURED-LOCATION;VALUE=URI;X-ADDRESS=Riverside County Bar Association (3rd Floor) 4129 Main St.  Riverside CA 92506;X-APPLE-RADIUS=500;X-TITLE=4129 Main St.:geo:-117.3769625,33.9788949
END:VEVENT
BEGIN:VEVENT
DTSTART;TZID=UTC:20180427T180000
DTEND;TZID=UTC:20180428T160000
DTSTAMP:20260423T160714
CREATED:20180209T040427Z
LAST-MODIFIED:20200228T191348Z
UID:10000236-1524852000-1524931200@www.bsator.com
SUMMARY:39th Annual California Inland Empire Council Trade-O-Ree
DESCRIPTION:Date: April 27-28\, 2018 \nAddress:\nRiverside County Bar Association (3rd Floor)\n4129 Main Street\nRiverside\, CA 92501 \nTimes:\nFriday: 6pm – 9pm\nSaturday: 9am – 4pm \nContact 1: Matt Brandt\nEmail: mkb969@verizon.net\nPhone: (951) 992-9438 \n\n    Download the PDF file .
URL:https://www.bsator.com/event/2018-california-inland-empire-council-trade-o-ree/
LOCATION:Riverside County Bar Association (3rd Floor)\, 4129 Main St. \, Riverside\, CA 92506
ATTACH;FMTTYPE=image/jpeg:https://www.bsator.com/wp-content/uploads/2016/06/1890417_10202588828390422_5847759151497661390_o.jpg.opt430x286o00s430x286.jpg
ORGANIZER;CN="Matt Brandt":MAILTO:mkb969@verizon.net
GEO:33.9788949;-117.3769625
X-APPLE-STRUCTURED-LOCATION;VALUE=URI;X-ADDRESS=Riverside County Bar Association (3rd Floor) 4129 Main St.  Riverside CA 92506;X-APPLE-RADIUS=500;X-TITLE=4129 Main St.:geo:-117.3769625,33.9788949
END:VEVENT
BEGIN:VEVENT
DTSTART;TZID=UTC:20170519T180000
DTEND;TZID=UTC:20170520T160000
DTSTAMP:20260423T160714
CREATED:20170211T064846Z
LAST-MODIFIED:20170211T065848Z
UID:10000166-1495216800-1495296000@www.bsator.com
SUMMARY:California Inland Empire Council Trade-O-Ree
DESCRIPTION:Date: May 19-20\, 2017 \nAddress: \nTimes:\nFriday: 6pm – 9pm\nSaturday: 9am – 4pm \nContact 1: Matt Brandt\nEmail: mkb969@verizon.net\nPhone: (951) 992-9438 \n\n    Download the PDF file .
URL:https://www.bsator.com/event/california-inland-empire-council-trade-o-ree/
LOCATION:Riverside County Bar Association (3rd Floor)\, 4129 Main St. \, Riverside\, CA 92506
ATTACH;FMTTYPE=image/jpeg:https://www.bsator.com/wp-content/uploads/2016/06/1890417_10202588828390422_5847759151497661390_o.jpg.opt430x286o00s430x286.jpg
ORGANIZER;CN="Matt Brandt":MAILTO:mkb969@verizon.net
GEO:33.9788949;-117.3769625
X-APPLE-STRUCTURED-LOCATION;VALUE=URI;X-ADDRESS=Riverside County Bar Association (3rd Floor) 4129 Main St.  Riverside CA 92506;X-APPLE-RADIUS=500;X-TITLE=4129 Main St.:geo:-117.3769625,33.9788949
END:VEVENT
BEGIN:VEVENT
DTSTART;TZID=UTC:20160805T180000
DTEND;TZID=UTC:20160806T160000
DTSTAMP:20260423T160714
CREATED:20160601T092136Z
LAST-MODIFIED:20160730T175925Z
UID:10000026-1470420000-1470499200@www.bsator.com
SUMMARY:California Inland Empire Council 37th Annual Memorabilia Auction & Trade-O-Ree - State: California
DESCRIPTION:Date: August 5-6\, 2016 \nAddress:\nRiverside County Bar Association (3rd Floor)\n4129 Main St.\nRiverside\, CA 92501 \nPLEASE NOTE: THE ADDRESS HAS BEEN CHANGED. THE CORRECT ADDRESS HAS BEEN UPDATED ABOVE. THE ADDRESS MENTIONED IN THE FLYER IS THE OLD ADDRESS!!! \nTimes:\nFriday: 6pm – 9pm\nSaturday: 9am – 4pm \nContact 1: Matt Brandt\nEmail: mkb969@verizon.net\nPhone: (951) 992-9438 \nFlyer: Click Here \nRegister Now\n\n    Download the PDF file .
URL:https://www.bsator.com/event/california-inland-empire-council-37th-annual-memorabilia-auction-trade-o-ree-state-california/
LOCATION:Riverside County Bar Association (3rd Floor)\, 4129 Main St. \, Riverside\, CA 92506
ATTACH;FMTTYPE=image/jpeg:https://www.bsator.com/wp-content/uploads/2016/06/1890417_10202588828390422_5847759151497661390_o.jpg.opt430x286o00s430x286.jpg
ORGANIZER;CN="Matt Brandt":MAILTO:mkb969@verizon.net
GEO:33.9788949;-117.3769625
X-APPLE-STRUCTURED-LOCATION;VALUE=URI;X-ADDRESS=Riverside County Bar Association (3rd Floor) 4129 Main St.  Riverside CA 92506;X-APPLE-RADIUS=500;X-TITLE=4129 Main St.:geo:-117.3769625,33.9788949
END:VEVENT
END:VCALENDAR