BEGIN:VCALENDAR
VERSION:2.0
PRODID:-//Boy Scout Trade-O-Ree Calendar - ECPv6.15.20//NONSGML v1.0//EN
CALSCALE:GREGORIAN
METHOD:PUBLISH
X-WR-CALNAME:Boy Scout Trade-O-Ree Calendar
X-ORIGINAL-URL:https://www.bsator.com
X-WR-CALDESC:Events for Boy Scout Trade-O-Ree Calendar
REFRESH-INTERVAL;VALUE=DURATION:PT1H
X-Robots-Tag:noindex
X-PUBLISHED-TTL:PT1H
BEGIN:VTIMEZONE
TZID:UTC
BEGIN:STANDARD
TZOFFSETFROM:+0000
TZOFFSETTO:+0000
TZNAME:UTC
DTSTART:20160101T000000
END:STANDARD
END:VTIMEZONE
BEGIN:VEVENT
DTSTART;TZID=UTC:20170224T180000
DTEND;TZID=UTC:20170225T150000
DTSTAMP:20260423T201330
CREATED:20160601T115133Z
LAST-MODIFIED:20160927T180704Z
UID:10000034-1487959200-1488034800@www.bsator.com
SUMMARY:Tu-Cubin-Noonie Lodge Trade-O-Ree - State: Utah
DESCRIPTION:Date: February 24-25\, 2017 \nAddress:\nUNPC Council Service Center\n748 North 1340 West\nOrem\, UT 84057 \nTimes:\nFriday: 6pm – 11pm\nSaturday: 9am – ? \nContact 1: Michael Keller\nEmail: kellerm@carbonschools.org\nPhone: (435) 637-6062 (Home)\nPhone: (435) 650-1947 (Cell) \nFlyer: Click Here\n\nRegister Now \n\n    Download the PDF file .
URL:https://www.bsator.com/event/tu-cubin-noonie-lodge-trade-o-ree-state-utah/
LOCATION:UNPC Council Service Center\, 748 North 1340 West\, Orem\, UT 84057
ATTACH;FMTTYPE=image/jpeg:https://www.bsator.com/wp-content/uploads/2016/06/IMG_1811.JPG.opt430x322o00s430x322.jpg
ORGANIZER;CN="Michael Keller":MAILTO:kellerm@carbonschools.org
GEO:40.3112694;-111.7274993
X-APPLE-STRUCTURED-LOCATION;VALUE=URI;X-ADDRESS=UNPC Council Service Center 748 North 1340 West Orem UT 84057;X-APPLE-RADIUS=500;X-TITLE=748 North 1340 West:geo:-111.7274993,40.3112694
END:VEVENT
END:VCALENDAR