BEGIN:VCALENDAR
VERSION:2.0
PRODID:-//Boy Scout Trade-O-Ree Calendar - ECPv6.15.20//NONSGML v1.0//EN
CALSCALE:GREGORIAN
METHOD:PUBLISH
X-WR-CALNAME:Boy Scout Trade-O-Ree Calendar
X-ORIGINAL-URL:https://www.bsator.com
X-WR-CALDESC:Events for Boy Scout Trade-O-Ree Calendar
REFRESH-INTERVAL;VALUE=DURATION:PT1H
X-Robots-Tag:noindex
X-PUBLISHED-TTL:PT1H
BEGIN:VTIMEZONE
TZID:UTC
BEGIN:STANDARD
TZOFFSETFROM:+0000
TZOFFSETTO:+0000
TZNAME:UTC
DTSTART:20150101T000000
END:STANDARD
END:VTIMEZONE
BEGIN:VEVENT
DTSTART;TZID=UTC:20191011T120000
DTEND;TZID=UTC:20191012T150000
DTSTAMP:20260423T202010
CREATED:20190706T175909Z
LAST-MODIFIED:20190706T175909Z
UID:10000130-1570795200-1570892400@www.bsator.com
SUMMARY:28th Annual Central Ohio Trade-O-Ree - State: Ohio
DESCRIPTION:Date: October 11-12\, 2019 \nAddress:\nFranklin County Fairgrounds – Edwards Bldg\n4100 Columbia St.\nHilliard\, Ohio 43026 \nTimes:\nFriday: 12pm – 1am\nSaturday: 8am – 3pm \nContact 1: Mike Lush\nEmail: csptrader@wans.net\nPhone: (614) 755-9393 \nContact 2: Rich Braessler\nEmail: ?\nPhone: (614) 436-7200 or (800) 433-4051 (Ohio) \nContact 3: Ben Wasmer\nEmail: benwasmer@gmail.com\nPhone: (740) 395-7588 \n\n    Download the PDF file .
URL:https://www.bsator.com/event/28th-annual-central-ohio-trade-o-ree-state-ohio/
LOCATION:Franklin County Fairgrounds – Edwards Bldg\, 4100 Columbia St.\, Hilliard\, OH\, 43026\, United States
ATTACH;FMTTYPE=image/jpeg:https://www.bsator.com/wp-content/uploads/2016/05/10719252_984284581597474_1819720191_n.jpg
ORGANIZER;CN="Mike Lush":MAILTO:csptrader@wans.net
GEO:40.035124;-83.1561852
X-APPLE-STRUCTURED-LOCATION;VALUE=URI;X-ADDRESS=Franklin County Fairgrounds – Edwards Bldg 4100 Columbia St. Hilliard OH 43026 United States;X-APPLE-RADIUS=500;X-TITLE=4100 Columbia St.:geo:-83.1561852,40.035124
END:VEVENT
BEGIN:VEVENT
DTSTART;TZID=UTC:20181012T120000
DTEND;TZID=UTC:20181013T150000
DTSTAMP:20260423T202010
CREATED:20180716T183413Z
LAST-MODIFIED:20180716T183541Z
UID:10000253-1539345600-1539442800@www.bsator.com
SUMMARY:27th Annual Central Ohio Trade-O-Ree - State: Ohio
DESCRIPTION:Date: October 12-13\, 2018 \nAddress:\nFranklin County Fairgrounds – Edwards Bldg\n4100 Columbia St.\nHilliard\, Ohio 43026 \nTimes:\nFriday: 12pm – 1am\nSaturday: 8am – 3pm \nContact 1: Mike Lush\nEmail: csptrader@wans.net\nPhone: (614) 755-9393 \nContact 2: Rich Braessler\nEmail: ?\nPhone: (614) 436-7200 or (800) 433-4051 (Ohio) \nContact 3: Ben Wasmer\nEmail: benwasmer@gmail.com\nPhone: (740) 395-7588 \n\n    Download the PDF file .
URL:https://www.bsator.com/event/27th-annual-central-ohio-trade-o-ree-state-ohio/
LOCATION:Franklin County Fairgrounds – Edwards Bldg\, 4100 Columbia St.\, Hilliard\, OH\, 43026\, United States
ATTACH;FMTTYPE=image/jpeg:https://www.bsator.com/wp-content/uploads/2016/05/10719252_984284581597474_1819720191_n.jpg
ORGANIZER;CN="Mike Lush":MAILTO:csptrader@wans.net
GEO:40.035124;-83.1561852
X-APPLE-STRUCTURED-LOCATION;VALUE=URI;X-ADDRESS=Franklin County Fairgrounds – Edwards Bldg 4100 Columbia St. Hilliard OH 43026 United States;X-APPLE-RADIUS=500;X-TITLE=4100 Columbia St.:geo:-83.1561852,40.035124
END:VEVENT
BEGIN:VEVENT
DTSTART;TZID=UTC:20171013T120000
DTEND;TZID=UTC:20171014T150000
DTSTAMP:20260423T202010
CREATED:20161010T190343Z
LAST-MODIFIED:20170228T164558Z
UID:10000139-1507896000-1507993200@www.bsator.com
SUMMARY:26th Annual Central Ohio Trade-O-Ree - State: Ohio
DESCRIPTION:Date: October 13-14\, 2017 \nAddress:\nFranklin County Fairgrounds – Edwards Bldg\n4100 Columbia St.\nHilliard\, Ohio 43026 \nTimes:\nFriday: 12pm – 1am\nSaturday: 8am – 3pm \nContact 1: Mike Lush\nEmail: csptrader@wans.net\nPhone: (614) 755-9393 \nContact 2: Rich Braessler\nEmail: ?\nPhone: (614) 436-7200 \nContact 3: Ben Wasmer\nEmail: benwasmer@gmail.com\nPhone: ? \nFlyer: Coming Soon! \n\n    Download the PDF file .
URL:https://www.bsator.com/event/26th-annual-central-ohio-trade-o-ree-state-ohio/
LOCATION:Franklin County Fairgrounds – Edwards Bldg\, 4100 Columbia St.\, Hilliard\, OH\, 43026\, United States
ATTACH;FMTTYPE=image/jpeg:https://www.bsator.com/wp-content/uploads/2016/05/10719252_984284581597474_1819720191_n.jpg
ORGANIZER;CN="Mike Lush":MAILTO:csptrader@wans.net
GEO:40.035124;-83.1561852
X-APPLE-STRUCTURED-LOCATION;VALUE=URI;X-ADDRESS=Franklin County Fairgrounds – Edwards Bldg 4100 Columbia St. Hilliard OH 43026 United States;X-APPLE-RADIUS=500;X-TITLE=4100 Columbia St.:geo:-83.1561852,40.035124
END:VEVENT
BEGIN:VEVENT
DTSTART;TZID=UTC:20161007T120000
DTEND;TZID=UTC:20161008T150000
DTSTAMP:20260423T202010
CREATED:20160601T102424Z
LAST-MODIFIED:20160829T212806Z
UID:10000062-1475841600-1475938800@www.bsator.com
SUMMARY:25th Annual Central Ohio Trade-O-Ree - State: Ohio
DESCRIPTION:Date: October 7-8\, 2016 \nAddress:\nFranklin County Fairgrounds – Edwards Bldg\n4100 Columbia St.\nHilliard\, Ohio 43026 \nTimes:\nFriday: 12pm – 1am\nSaturday: 8am – 3pm \nContact 1: Mike Lush\nEmail: csptrader@wans.net\nPhone: (614) 755-9393 \nContact 2: Rich Braessler\nEmail: ?\nPhone: (614) 436-7200 \nContact 3: Dean Gross\nEmail: deangross65@yahoo.com\nPhone: (740) 344-3479 \nFlyer: Click Here\n\nRegister Now \n\n    Download the PDF file .
URL:https://www.bsator.com/event/25th-annual-central-ohio-trade-o-ree-state-ohio/
LOCATION:Franklin County Fairgrounds – Edwards Bldg\, 4100 Columbia St.\, Hilliard\, OH\, 43026\, United States
ATTACH;FMTTYPE=image/jpeg:https://www.bsator.com/wp-content/uploads/2016/06/10719252_984284581597474_1819720191_n-768x576.jpg
ORGANIZER;CN="Mike Lush":MAILTO:csptrader@wans.net
GEO:40.035124;-83.1561852
X-APPLE-STRUCTURED-LOCATION;VALUE=URI;X-ADDRESS=Franklin County Fairgrounds – Edwards Bldg 4100 Columbia St. Hilliard OH 43026 United States;X-APPLE-RADIUS=500;X-TITLE=4100 Columbia St.:geo:-83.1561852,40.035124
END:VEVENT
END:VCALENDAR