BEGIN:VCALENDAR
VERSION:2.0
PRODID:-//Boy Scout Trade-O-Ree Calendar - ECPv6.15.20//NONSGML v1.0//EN
CALSCALE:GREGORIAN
METHOD:PUBLISH
X-WR-CALNAME:Boy Scout Trade-O-Ree Calendar
X-ORIGINAL-URL:https://www.bsator.com
X-WR-CALDESC:Events for Boy Scout Trade-O-Ree Calendar
REFRESH-INTERVAL;VALUE=DURATION:PT1H
X-Robots-Tag:noindex
X-PUBLISHED-TTL:PT1H
BEGIN:VTIMEZONE
TZID:UTC
BEGIN:STANDARD
TZOFFSETFROM:+0000
TZOFFSETTO:+0000
TZNAME:UTC
DTSTART:20160101T000000
END:STANDARD
END:VTIMEZONE
BEGIN:VEVENT
DTSTART;TZID=UTC:20260411T080000
DTEND;TZID=UTC:20260411T150000
DTSTAMP:20260423T174005
CREATED:20250410T150951Z
LAST-MODIFIED:20250410T150951Z
UID:10000584-1775894400-1775919600@www.bsator.com
SUMMARY:25th Annual Allentown Trade-O-Ree – State: Pennsylvania
DESCRIPTION:Date: April 11\, 2026 \nAddress:\nJordan Lutheran Church\n5103 Snowdrift Rd\nOrefield\, PA 18069 \nTimes:\nSaturday: 8am – 3pm \nContact 1: Mike or Scott Best\nEmail: tradeoree@allentowntor.com\nPhone: (610) 767-6079 \n\n \nTrade-O-Ree Flyer\n\n\n    Download the PDF file .
URL:https://www.bsator.com/event/25th-annual-allentown-trade-o-ree-state-pennsylvania/
LOCATION:Jordan Lutheran Church\, 5103 Snowdrift Rd\, Orefield\, PA 18069
ATTACH;FMTTYPE=image/jpeg:https://www.bsator.com/wp-content/uploads/2016/05/IMG_4618.JPG.opt415x311o00s415x311.jpg
ORGANIZER;CN="Mike or Scott Best":MAILTO:tradeoree@allentowntor.com
GEO:40.613104;-75.585292
X-APPLE-STRUCTURED-LOCATION;VALUE=URI;X-ADDRESS=Jordan Lutheran Church 5103 Snowdrift Rd Orefield PA 18069;X-APPLE-RADIUS=500;X-TITLE=5103 Snowdrift Rd:geo:-75.585292,40.613104
END:VEVENT
BEGIN:VEVENT
DTSTART;TZID=UTC:20250405T080000
DTEND;TZID=UTC:20250405T150000
DTSTAMP:20260423T174005
CREATED:20240419T045828Z
LAST-MODIFIED:20240419T050117Z
UID:10000530-1743840000-1743865200@www.bsator.com
SUMMARY:24th Annual Allentown Trade-O-Ree – State: Pennsylvania
DESCRIPTION:Date: April 5\, 2025 \nAddress:\nJordan Lutheran Church\n5103 Snowdrift Rd\nOrefield\, PA 18069 \nTimes:\nSaturday: 8am – 3pm \nContact 1: Mike or Scott Best\nEmail: tradeoree@allentowntor.com\nPhone: (610) 767-6079 \n\n \nTrade-O-Ree Flyer\n\n\n    Download the PDF file .
URL:https://www.bsator.com/event/24th-annual-allentown-trade-o-ree-state-pennsylvania/
LOCATION:Jordan Lutheran Church\, 5103 Snowdrift Rd\, Orefield\, PA 18069
ATTACH;FMTTYPE=image/jpeg:https://www.bsator.com/wp-content/uploads/2016/05/IMG_4618.JPG.opt415x311o00s415x311.jpg
ORGANIZER;CN="Mike or Scott Best":MAILTO:tradeoree@allentowntor.com
GEO:40.613104;-75.585292
X-APPLE-STRUCTURED-LOCATION;VALUE=URI;X-ADDRESS=Jordan Lutheran Church 5103 Snowdrift Rd Orefield PA 18069;X-APPLE-RADIUS=500;X-TITLE=5103 Snowdrift Rd:geo:-75.585292,40.613104
END:VEVENT
BEGIN:VEVENT
DTSTART;TZID=UTC:20240406T080000
DTEND;TZID=UTC:20240406T150000
DTSTAMP:20260423T174005
CREATED:20231006T045851Z
LAST-MODIFIED:20231006T050356Z
UID:10000500-1712390400-1712415600@www.bsator.com
SUMMARY:23rd Annual Allentown Trade-O-Ree – State: Pennsylvania
DESCRIPTION:Date: April 6\, 2024 \nAddress:\nJordan Lutheran Church\n5103 Snowdrift Rd\nOrefield\, PA 18069 \nTimes:\nSaturday: 8am – 3pm \nContact 1: Mike or Scott Best\nEmail: tradeoree@allentowntor.com\nPhone: (610) 767-6079 \n\n \nTrade-O-Ree Flyer\n\n\n    Download the PDF file .
URL:https://www.bsator.com/event/23rd-annual-allentown-trade-o-ree-state-pennsylvania/
LOCATION:Jordan Lutheran Church\, 5103 Snowdrift Rd\, Orefield\, PA 18069
ATTACH;FMTTYPE=image/jpeg:https://www.bsator.com/wp-content/uploads/2016/05/IMG_4618.JPG.opt415x311o00s415x311.jpg
ORGANIZER;CN="Mike or Scott Best":MAILTO:tradeoree@allentowntor.com
GEO:40.613104;-75.585292
X-APPLE-STRUCTURED-LOCATION;VALUE=URI;X-ADDRESS=Jordan Lutheran Church 5103 Snowdrift Rd Orefield PA 18069;X-APPLE-RADIUS=500;X-TITLE=5103 Snowdrift Rd:geo:-75.585292,40.613104
END:VEVENT
BEGIN:VEVENT
DTSTART;TZID=UTC:20230401T080000
DTEND;TZID=UTC:20230401T150000
DTSTAMP:20260423T174005
CREATED:20220415T162350Z
LAST-MODIFIED:20220415T162350Z
UID:10000229-1680336000-1680361200@www.bsator.com
SUMMARY:22nd Annual Allentown Trade-O-Ree – State: Pennsylvania
DESCRIPTION:Date: April 1\, 2023 \nAddress:\nJordan Lutheran Church\n5103 Snowdrift Rd\nOrefield\, PA 18069 \nTimes:\nSaturday: 8am – 3pm \nContact 1: Mike or Scott Best\nEmail: tradeoree@allentowntor.com\nPhone: (610) 767-6079 \n\n \nTrade-O-Ree Flyer\n\n\n    Download the PDF file .
URL:https://www.bsator.com/event/22nd-annual-allentown-trade-o-ree-state-pennsylvania/
LOCATION:Jordan Lutheran Church\, 5103 Snowdrift Rd\, Orefield\, PA 18069
ATTACH;FMTTYPE=image/jpeg:https://www.bsator.com/wp-content/uploads/2016/05/IMG_4618.JPG.opt415x311o00s415x311.jpg
ORGANIZER;CN="Mike or Scott Best":MAILTO:tradeoree@allentowntor.com
GEO:40.613104;-75.585292
X-APPLE-STRUCTURED-LOCATION;VALUE=URI;X-ADDRESS=Jordan Lutheran Church 5103 Snowdrift Rd Orefield PA 18069;X-APPLE-RADIUS=500;X-TITLE=5103 Snowdrift Rd:geo:-75.585292,40.613104
END:VEVENT
BEGIN:VEVENT
DTSTART;TZID=UTC:20220402T080000
DTEND;TZID=UTC:20220402T170000
DTSTAMP:20260423T174005
CREATED:20210225T170355Z
LAST-MODIFIED:20211210T043935Z
UID:10000374-1648886400-1648918800@www.bsator.com
SUMMARY:21st Annual Allentown Trade-O-Ree – State: Pennsylvania
DESCRIPTION:Date: April 2\, 2022 \nAddress:\nJordan Lutheran Church\n5103 Snowdrift Rd\nOrefield\, PA 18069 \nTimes:\nSaturday: 8am – 3pm \nContact 1: Mike or Scott Best\nEmail: tradeoree@allentowntor.com\nPhone: (610) 767-6079 \n\n \nTrade-O-Ree Flyer\n\n\n    Download the PDF file .
URL:https://www.bsator.com/event/21st-annual-allentown-trade-o-ree-state-pennsylvania-2/
LOCATION:Jordan Lutheran Church\, 5103 Snowdrift Rd\, Orefield\, PA 18069
ATTACH;FMTTYPE=image/jpeg:https://www.bsator.com/wp-content/uploads/2016/05/IMG_4618.JPG.opt415x311o00s415x311.jpg
ORGANIZER;CN="Mike or Scott Best":MAILTO:tradeoree@allentowntor.com
GEO:40.613104;-75.585292
X-APPLE-STRUCTURED-LOCATION;VALUE=URI;X-ADDRESS=Jordan Lutheran Church 5103 Snowdrift Rd Orefield PA 18069;X-APPLE-RADIUS=500;X-TITLE=5103 Snowdrift Rd:geo:-75.585292,40.613104
END:VEVENT
BEGIN:VEVENT
DTSTART;TZID=UTC:20210410T080000
DTEND;TZID=UTC:20210410T150000
DTSTAMP:20260423T174005
CREATED:20200501T022646Z
LAST-MODIFIED:20210221T045134Z
UID:10000348-1618041600-1618066800@www.bsator.com
SUMMARY:CANCELED: 21st Annual Allentown Trade-O-Ree – State: Pennsylvania
DESCRIPTION:THIS EVENT HAS BEEN CANCELEDDUE TO THE CORONAVIRUS\n \n \nDate: April 10\, 2021 \nAddress:\nJordan Lutheran Church\n5103 Snowdrift Rd\nOrefield\, PA 18069 \nTimes:\nSaturday: 8am – 3pm \nContact 1: Mike or Scott Best\nEmail: tradeoree@allentowntor.com\nPhone: (610) 767-6079 \n\n    Download the PDF file .
URL:https://www.bsator.com/event/21st-annual-allentown-trade-o-ree-state-pennsylvania/
LOCATION:Jordan Lutheran Church\, 5103 Snowdrift Rd\, Orefield\, PA 18069
ATTACH;FMTTYPE=image/jpeg:https://www.bsator.com/wp-content/uploads/2016/05/IMG_4618.JPG.opt415x311o00s415x311.jpg
ORGANIZER;CN="Mike or Scott Best":MAILTO:tradeoree@allentowntor.com
GEO:40.613104;-75.585292
X-APPLE-STRUCTURED-LOCATION;VALUE=URI;X-ADDRESS=Jordan Lutheran Church 5103 Snowdrift Rd Orefield PA 18069;X-APPLE-RADIUS=500;X-TITLE=5103 Snowdrift Rd:geo:-75.585292,40.613104
END:VEVENT
BEGIN:VEVENT
DTSTART;TZID=UTC:20200404T080000
DTEND;TZID=UTC:20200404T170000
DTSTAMP:20260423T174005
CREATED:20190405T124332Z
LAST-MODIFIED:20200501T022602Z
UID:10000299-1585987200-1586019600@www.bsator.com
SUMMARY:CANCELED: 21st Annual Allentown Trade-O-Ree – State: Pennsylvania
DESCRIPTION:THIS EVENT HAS BEEN CANCELEDDUE TO THE CORONAVIRUS\n \n \nDate: April 4\, 2020 \nAddress:\nJordan Lutheran Church\n5103 Snowdrift Rd\nOrefield\, PA 18069 \nTimes:\nSaturday: 8am – 3pm \nContact 1: Mike or Scott Best\nEmail: tradeoree@allentowntor.com\nPhone: (610) 767-6079 \n\n    Download the PDF file .
URL:https://www.bsator.com/event/canceled-21st-annual-allentown-trade-o-ree-state-pennsylvania/
LOCATION:Jordan Lutheran Church\, 5103 Snowdrift Rd\, Orefield\, PA 18069
ATTACH;FMTTYPE=image/jpeg:https://www.bsator.com/wp-content/uploads/2016/05/IMG_4618.JPG.opt415x311o00s415x311.jpg
ORGANIZER;CN="Mike or Scott Best":MAILTO:tradeoree@allentowntor.com
GEO:40.613104;-75.585292
X-APPLE-STRUCTURED-LOCATION;VALUE=URI;X-ADDRESS=Jordan Lutheran Church 5103 Snowdrift Rd Orefield PA 18069;X-APPLE-RADIUS=500;X-TITLE=5103 Snowdrift Rd:geo:-75.585292,40.613104
END:VEVENT
BEGIN:VEVENT
DTSTART;TZID=UTC:20190406T080000
DTEND;TZID=UTC:20190406T150000
DTSTAMP:20260423T174005
CREATED:20180409T185825Z
LAST-MODIFIED:20190405T124101Z
UID:10000241-1554537600-1554562800@www.bsator.com
SUMMARY:20th Annual Allentown Trade-O-Ree – State: Pennsylvania
DESCRIPTION:Date: April 6\, 2019 \nAddress:\nJordan Lutheran Church\n5103 Snowdrift Rd\nOrefield\, PA 18069 \nTimes:\nSaturday: 8am – 3pm \nContact 1: Mike or Scott Best\nEmail: tradeoree@allentowntor.com\nPhone: (610) 767-6079 \n\n    Download the PDF file .
URL:https://www.bsator.com/event/20th-annual-allentown-trade-o-ree-state-pennsylvania/
LOCATION:Jordan Lutheran Church\, 5103 Snowdrift Rd\, Orefield\, PA 18069
ATTACH;FMTTYPE=image/jpeg:https://www.bsator.com/wp-content/uploads/2016/05/IMG_4618.JPG.opt415x311o00s415x311.jpg
ORGANIZER;CN="Mike or Scott Best":MAILTO:tradeoree@allentowntor.com
GEO:40.613104;-75.585292
X-APPLE-STRUCTURED-LOCATION;VALUE=URI;X-ADDRESS=Jordan Lutheran Church 5103 Snowdrift Rd Orefield PA 18069;X-APPLE-RADIUS=500;X-TITLE=5103 Snowdrift Rd:geo:-75.585292,40.613104
END:VEVENT
BEGIN:VEVENT
DTSTART;TZID=UTC:20180407T080000
DTEND;TZID=UTC:20180407T150000
DTSTAMP:20260423T174005
CREATED:20170627T215141Z
LAST-MODIFIED:20170908T172156Z
UID:10000047-1523088000-1523113200@www.bsator.com
SUMMARY:19th Annual Allentown Trade-O-Ree – State: Pennsylvania
DESCRIPTION:Date: April 7\, 2018 \nAddress:\nJordan Lutheran Church\n5103 Snowdrift Rd\nOrefield\, PA 18069 \nTimes:\nSaturday: 8am – 3pm \nContact 1: Mike or Scott Best\nEmail: tradeoree@allentowntor.com\nPhone: (610) 767-6079 \nRegister Now\n\n    Download the PDF file .
URL:https://www.bsator.com/event/19th-annual-allentown-trade-o-ree-state-pennsylvania/
LOCATION:Jordan Lutheran Church\, 5103 Snowdrift Rd\, Orefield\, PA 18069
ATTACH;FMTTYPE=image/jpeg:https://www.bsator.com/wp-content/uploads/2016/05/IMG_4618.JPG.opt415x311o00s415x311.jpg
ORGANIZER;CN="Mike or Scott Best":MAILTO:tradeoree@allentowntor.com
GEO:40.613104;-75.585292
X-APPLE-STRUCTURED-LOCATION;VALUE=URI;X-ADDRESS=Jordan Lutheran Church 5103 Snowdrift Rd Orefield PA 18069;X-APPLE-RADIUS=500;X-TITLE=5103 Snowdrift Rd:geo:-75.585292,40.613104
END:VEVENT
BEGIN:VEVENT
DTSTART;TZID=UTC:20170401T080000
DTEND;TZID=UTC:20170401T150000
DTSTAMP:20260423T174005
CREATED:20160601T120243Z
LAST-MODIFIED:20160719T175824Z
UID:10000030-1491033600-1491058800@www.bsator.com
SUMMARY:Allentown Trade-O-Ree - State: Pennsylvania
DESCRIPTION:Date: April 1\, 2017 \nAddress:\nJordan Lutheran Church\n5103 Snowdrift Rd\nOrefield\, PA 18069 \nTimes:\nSaturday: 8am – 3pm \nContact 1: Mike or Scott Best\nEmail: tradeoree@allentowntor.com\nPhone: (610) 767-6079 \nFlyer: Click Here \nRegister Now\n\n    Download the PDF file .
URL:https://www.bsator.com/event/allentown-trade-o-ree-state-pennsylvania/
LOCATION:Jordan Lutheran Church\, 5103 Snowdrift Rd\, Orefield\, PA 18069
ATTACH;FMTTYPE=image/jpeg:https://www.bsator.com/wp-content/uploads/2016/06/16916326025_d4a0d77c40_b.jpg.opt430x322o00s430x322.jpg
ORGANIZER;CN="Mike or Scott Best":MAILTO:tradeoree@allentowntor.com
GEO:40.613104;-75.585292
X-APPLE-STRUCTURED-LOCATION;VALUE=URI;X-ADDRESS=Jordan Lutheran Church 5103 Snowdrift Rd Orefield PA 18069;X-APPLE-RADIUS=500;X-TITLE=5103 Snowdrift Rd:geo:-75.585292,40.613104
END:VEVENT
END:VCALENDAR