BEGIN:VCALENDAR
VERSION:2.0
PRODID:-//Boy Scout Trade-O-Ree Calendar - ECPv6.15.20//NONSGML v1.0//EN
CALSCALE:GREGORIAN
METHOD:PUBLISH
X-ORIGINAL-URL:https://www.bsator.com
X-WR-CALDESC:Events for Boy Scout Trade-O-Ree Calendar
REFRESH-INTERVAL;VALUE=DURATION:PT1H
X-Robots-Tag:noindex
X-PUBLISHED-TTL:PT1H
BEGIN:VTIMEZONE
TZID:UTC
BEGIN:STANDARD
TZOFFSETFROM:+0000
TZOFFSETTO:+0000
TZNAME:UTC
DTSTART:20250101T000000
END:STANDARD
END:VTIMEZONE
BEGIN:VEVENT
DTSTART;TZID=UTC:20260821T163000
DTEND;TZID=UTC:20260822T140000
DTSTAMP:20260423T144149
CREATED:20251207T053440Z
LAST-MODIFIED:20251207T054117Z
UID:10000603-1787329800-1787407200@www.bsator.com
SUMMARY:Unami Lodge One - 2026 Scout Memorabilia Show - State: Pennsylvania
DESCRIPTION:Date: August 21-22\, 2026 \nAddress:\nCentral Schwenkfelder Church – Community Center\n2067 Steelman Rd.\nLansdale\, PA 19446 \nTimes:\nFriday: 4:30pm – 9:30pm\nSaturday: 8am – 2pm \nContact: Rhys Wallace\nEmail: rcw2email@gmail.com\nPhone: (610) 906-9140 \nReserve Your Tables \n\n \nTrade-O-Ree Flyer\n\n\n    Download the PDF file .
URL:https://www.bsator.com/event/unami-lodge-one-2026-scout-memorabilia-show-state-pennsylvania/
LOCATION:Central Schwenkfelder Church – Community Center\, 2067 Steelman Rd.\, Lansdale\, PA\, 19446\, United States
ATTACH;FMTTYPE=image/jpeg:https://www.bsator.com/wp-content/uploads/2016/05/1540443_10204174328632508_6809621361728788690_o.jpg.opt431x322o00s431x322.jpg
ORGANIZER;CN="Rhys Wallace":MAILTO:rcw2email@gmail.com
END:VEVENT
END:VCALENDAR