BEGIN:VCALENDAR
VERSION:2.0
PRODID:-//Boy Scout Trade-O-Ree Calendar - ECPv6.15.20//NONSGML v1.0//EN
CALSCALE:GREGORIAN
METHOD:PUBLISH
X-ORIGINAL-URL:https://www.bsator.com
X-WR-CALDESC:Events for Boy Scout Trade-O-Ree Calendar
REFRESH-INTERVAL;VALUE=DURATION:PT1H
X-Robots-Tag:noindex
X-PUBLISHED-TTL:PT1H
BEGIN:VTIMEZONE
TZID:UTC
BEGIN:STANDARD
TZOFFSETFROM:+0000
TZOFFSETTO:+0000
TZNAME:UTC
DTSTART:20180101T000000
END:STANDARD
END:VTIMEZONE
BEGIN:VEVENT
DTSTART;TZID=UTC:20190329T150000
DTEND;TZID=UTC:20190330T150000
DTSTAMP:20260423T202040
CREATED:20190206T190204Z
LAST-MODIFIED:20190206T190410Z
UID:10000122-1553871600-1553958000@www.bsator.com
SUMMARY:2019 Palm Beach Trade-O-Ree - State: Florida
DESCRIPTION:Date: March 29-30\, 2019 \nAddress:\nTanah Keeta Scout Reservation\n8501 SE Boy Scout Rd\nJupiter\, FL 33469 \nTimes:\nFriday: 3pm – 12am\nSaturday: 9am – 3pm \nTable Registration: https://www.gulfstreamcouncil.org/TOR-vendor \nContact 1: Richard Fore\nEmail: richardfore@bellsouth.net\nPhone: (561) 722-6095 or (561) 791-3789 \n\n    Download the PDF file .
URL:https://www.bsator.com/event/2019-palm-beach-trade-o-ree-state-florida/
LOCATION:Tanah Keeta Scout Reservation\, 8501 SE Boy Scout Rd.\, Jupiter\, FL\, 33469\, United States
ATTACH;FMTTYPE=image/jpeg:https://www.bsator.com/wp-content/uploads/2016/05/12474017_10207524908034549_968335160736370096_o.jpg.opt415x415o00s415x415.jpg
ORGANIZER;CN="Richard Fore":MAILTO:richardfore@bellsouth.net
GEO:26.9870603;-80.1388518
X-APPLE-STRUCTURED-LOCATION;VALUE=URI;X-ADDRESS=Tanah Keeta Scout Reservation 8501 SE Boy Scout Rd. Jupiter FL 33469 United States;X-APPLE-RADIUS=500;X-TITLE=8501 SE Boy Scout Rd.:geo:-80.1388518,26.9870603
END:VEVENT
END:VCALENDAR