BEGIN:VCALENDAR
VERSION:2.0
PRODID:-//Boy Scout Trade-O-Ree Calendar - ECPv6.15.20//NONSGML v1.0//EN
CALSCALE:GREGORIAN
METHOD:PUBLISH
X-ORIGINAL-URL:https://www.bsator.com
X-WR-CALDESC:Events for Boy Scout Trade-O-Ree Calendar
REFRESH-INTERVAL;VALUE=DURATION:PT1H
X-Robots-Tag:noindex
X-PUBLISHED-TTL:PT1H
BEGIN:VTIMEZONE
TZID:UTC
BEGIN:STANDARD
TZOFFSETFROM:+0000
TZOFFSETTO:+0000
TZNAME:UTC
DTSTART:20260101T000000
END:STANDARD
END:VTIMEZONE
BEGIN:VEVENT
DTSTART;TZID=UTC:20270403T080000
DTEND;TZID=UTC:20270403T140000
DTSTAMP:20260423T142853
CREATED:20260416T140112Z
LAST-MODIFIED:20260416T140355Z
UID:10000634-1806739200-1806760800@www.bsator.com
SUMMARY:2nd Annual Mid-Iowa Council Trade-O-Ree
DESCRIPTION:Date: April 3\, 2027 \nAddress:\nMid Iowa Council\n6123 Scout Trail\nDes Moines\, Iowa 50321\n\nTimes:\nSaturday: 8am – 2pm\n\nContact: Rick Romeo\nPhone: (515) 418-6069\nEmail:  ?\n\nContact: Mike Orgler\nPhone: (515) 231-2158\nEmail: mikeorgler@huxcomm.net\n\n \nTrade-O-Ree Flyer\n\n\n    Download the PDF file .
URL:https://www.bsator.com/event/2nd-annual-mid-iowa-council-trade-o-ree/
LOCATION:Mid Iowa Council\, 6123 Scout Trail\, Des Moines\, IA\, 50321\, United States
ATTACH;FMTTYPE=image/jpeg:https://www.bsator.com/wp-content/uploads/2016/06/SWAPSHOP_zpsd7821994-4-1.jpg.opt430x360o00s430x360-4-1.jpg
ORGANIZER;CN="Rick Romeo":MAILTO:mikeorgler@huxcomm.net
END:VEVENT
END:VCALENDAR