BEGIN:VCALENDAR
VERSION:2.0
PRODID:-//Boy Scout Trade-O-Ree Calendar - ECPv6.15.20//NONSGML v1.0//EN
CALSCALE:GREGORIAN
METHOD:PUBLISH
X-WR-CALNAME:Boy Scout Trade-O-Ree Calendar
X-ORIGINAL-URL:https://www.bsator.com
X-WR-CALDESC:Events for Boy Scout Trade-O-Ree Calendar
REFRESH-INTERVAL;VALUE=DURATION:PT1H
X-Robots-Tag:noindex
X-PUBLISHED-TTL:PT1H
BEGIN:VTIMEZONE
TZID:UTC
BEGIN:STANDARD
TZOFFSETFROM:+0000
TZOFFSETTO:+0000
TZNAME:UTC
DTSTART:20220101T000000
END:STANDARD
END:VTIMEZONE
BEGIN:VEVENT
DTSTART;TZID=UTC:20250502T160000
DTEND;TZID=UTC:20250503T150000
DTSTAMP:20260423T160643
CREATED:20250202T164316Z
LAST-MODIFIED:20250203T033031Z
UID:10000364-1746201600-1746284400@www.bsator.com
SUMMARY:2025 Quinipissa Lodge Trade-O-Ree - State: Louisiana
DESCRIPTION:Date: May 2-3\, 2025 \nAddress:\nBroadmoor United Methodist Church\n10230 Mollylea DR\nBaton Rouge\, LA 70815 \nTimes:\nFriday: 4pm – 10pm\nSaturday: 8am – 3pm \nRegister For Tables: https://www.istroumascouting.org/OA_Tradeoree \nContact: John Snead\nEmail: ​iacpatchevent@gmail.com\nPhone: (225) 229-8540 \nContact: Rob Bourgeois\nEmail: ?\nPhone: (225) 610-3706 \n\n \nTrade-O-Ree Flyer\n\n\n    Download the PDF file .
URL:https://www.bsator.com/event/2025-quinipissa-lodge-trade-o-ree-state-louisiana/
LOCATION:Broadmoor United Methodist Church\, 10230 Mollylea DR\, Baton Rouge\, LA\, 70815\, United States
ATTACH;FMTTYPE=image/jpeg:https://www.bsator.com/wp-content/uploads/2019/10/58933306_2659934560694561_5191450356495679488_o.jpg
ORGANIZER;CN="John Snead":MAILTO:iacpatchevent@gmail.com
END:VEVENT
BEGIN:VEVENT
DTSTART;TZID=UTC:20240503T160000
DTEND;TZID=UTC:20240504T150000
DTSTAMP:20260423T160643
CREATED:20240206T091454Z
LAST-MODIFIED:20250202T163946Z
UID:10000322-1714752000-1714834800@www.bsator.com
SUMMARY:2024 Quinipissa Lodge Trade-O-Ree - State: Louisiana
DESCRIPTION:Date: May 3-4\, 2024 \nAddress:\nBroadmoor United Methodist Church\n10230 Mollylea DR\nBaton Rouge\, LA 70815 \nTimes:\nFriday: 4pm – 10pm\nSaturday: 8am – 3pm \nRegister For Tables: https://www.istroumascouting.org/OA_Tradeoree \nContact: John Snead\nEmail: ​iacpatchevent@gmail.com\nPhone: (225) 229-8540 \nContact: Rob Bourgeois\nEmail: ?\nPhone: (225) 610-3706 \n\n \nTrade-O-Ree Flyer\n\n\n    Download the PDF file .
URL:https://www.bsator.com/event/2024-quinipissa-lodge-trade-o-ree-state-louisiana/
LOCATION:Broadmoor United Methodist Church\, 10230 Mollylea DR\, Baton Rouge\, LA\, 70815\, United States
ATTACH;FMTTYPE=image/jpeg:https://www.bsator.com/wp-content/uploads/2019/10/58933306_2659934560694561_5191450356495679488_o.jpg
ORGANIZER;CN="John Snead":MAILTO:iacpatchevent@gmail.com
END:VEVENT
BEGIN:VEVENT
DTSTART;TZID=UTC:20230505T160000
DTEND;TZID=UTC:20230506T150000
DTSTAMP:20260423T160644
CREATED:20230119T181701Z
LAST-MODIFIED:20230119T182114Z
UID:10000266-1683302400-1683385200@www.bsator.com
SUMMARY:2023 Quinipissa Lodge Trade-O-Ree - State: Louisiana
DESCRIPTION:Date: May 5-6\, 2023 \nAddress:\nBroadmoor United Methodist Church\n10230 Mollylea DR\nBaton Rouge\, LA 70815 \nTimes:\nFriday: 4pm – 11pm\nSaturday: 8am – 3pm \nRegister For Tables: https://www.iacbsa.org/OA_tradoree_23 \nContact: John Snead\nEmail: ​iacpatchevent@gmail.com\nPhone: (225) 229-8540 \nContact: Rob Bourgeois\nEmail: ?\nPhone: (225) 610-3706 \n\n    Download the PDF file .
URL:https://www.bsator.com/event/2023-quinipissa-lodge-trade-o-ree-state-louisiana/
LOCATION:Broadmoor United Methodist Church\, 10230 Mollylea DR\, Baton Rouge\, LA\, 70815\, United States
ATTACH;FMTTYPE=image/jpeg:https://www.bsator.com/wp-content/uploads/2019/10/58933306_2659934560694561_5191450356495679488_o.jpg
ORGANIZER;CN="John Snead":MAILTO:iacpatchevent@gmail.com
END:VEVENT
END:VCALENDAR