BEGIN:VCALENDAR
VERSION:2.0
PRODID:-//Boy Scout Trade-O-Ree Calendar - ECPv6.15.20//NONSGML v1.0//EN
CALSCALE:GREGORIAN
METHOD:PUBLISH
X-ORIGINAL-URL:https://www.bsator.com
X-WR-CALDESC:Events for Boy Scout Trade-O-Ree Calendar
REFRESH-INTERVAL;VALUE=DURATION:PT1H
X-Robots-Tag:noindex
X-PUBLISHED-TTL:PT1H
BEGIN:VTIMEZONE
TZID:UTC
BEGIN:STANDARD
TZOFFSETFROM:+0000
TZOFFSETTO:+0000
TZNAME:UTC
DTSTART:20250101T000000
END:STANDARD
END:VTIMEZONE
BEGIN:VEVENT
DTSTART;TZID=UTC:20260501T160000
DTEND;TZID=UTC:20260502T150000
DTSTAMP:20260423T144213
CREATED:20251207T041412Z
LAST-MODIFIED:20260416T134209Z
UID:10000598-1777651200-1777734000@www.bsator.com
SUMMARY:2026 Quinipissa Lodge Trade-O-Ree - State: Louisiana
DESCRIPTION:Date: May 1-2\, 2026 \nAddress:\nBroadmoor United Methodist Church\n10230 Mollylea DR\nBaton Rouge\, LA 70815 \nTimes:\nFriday: 4pm – 10pm\nSaturday: 8am – 3pm \nRegister For Tables: https://www.istroumascouting.org/OA_Tradeoree \nContact: Rob Bourgeois\nEmail: ​iacpatchevent@gmail.com\nPhone: (225) 610-3706 \nContact: John Snead\nEmail:\nPhone: (225) 229-8540 \n\n \nTrade-O-Ree Flyer\n\n\n    Download the PDF file . \n\n\n\n    Download the PDF file .
URL:https://www.bsator.com/event/2026-quinipissa-lodge-trade-o-ree-state-louisiana/
LOCATION:Broadmoor United Methodist Church\, 10230 Mollylea DR\, Baton Rouge\, LA\, 70815\, United States
ATTACH;FMTTYPE=image/jpeg:https://www.bsator.com/wp-content/uploads/2019/10/58933306_2659934560694561_5191450356495679488_o.jpg
END:VEVENT
END:VCALENDAR