BEGIN:VCALENDAR
VERSION:2.0
PRODID:-//Boy Scout Trade-O-Ree Calendar - ECPv6.15.20//NONSGML v1.0//EN
CALSCALE:GREGORIAN
METHOD:PUBLISH
X-WR-CALNAME:Boy Scout Trade-O-Ree Calendar
X-ORIGINAL-URL:https://www.bsator.com
X-WR-CALDESC:Events for Boy Scout Trade-O-Ree Calendar
REFRESH-INTERVAL;VALUE=DURATION:PT1H
X-Robots-Tag:noindex
X-PUBLISHED-TTL:PT1H
BEGIN:VTIMEZONE
TZID:UTC
BEGIN:STANDARD
TZOFFSETFROM:+0000
TZOFFSETTO:+0000
TZNAME:UTC
DTSTART:20160101T000000
END:STANDARD
END:VTIMEZONE
BEGIN:VEVENT
DTSTART;TZID=UTC:20200418T100000
DTEND;TZID=UTC:20200418T150000
DTSTAMP:20260423T213231
CREATED:20200131T080558Z
LAST-MODIFIED:20200318T160631Z
UID:10000161-1587204000-1587222000@www.bsator.com
SUMMARY:CANCELED: 2020 Seneca Waterways Council Trade-O-Ree
DESCRIPTION:THIS EVENT HAS BEEN CANCELEDDUE TO THE CORONAVIRUS\n \n \nDate: April 18\, 2020 \nAddress:\nSeneca Waterways Council\n2320 Brighton‐Henrietta Townline Road\nRochester\, NY 14623 \nTimes:\nSaturday: 10am – 3pm (Dealer Set-up: 9am) \nContact 1: Robert Cunningham\nEmail: tyohni@aol.com\nPhone: (585) 615-1547 \n\n    Download the PDF file .
URL:https://www.bsator.com/event/2020-seneca-waterways-council-trade-o-ree/
LOCATION:Seneca Waterways Council\, 2320 Brighton‐Henrietta Townline Road\, Rochester\, NY\, 14623\, United States
ATTACH;FMTTYPE=image/jpeg:https://www.bsator.com/wp-content/uploads/2018/04/30441524_10216420600136558_5219071312651091968_o.jpg
ORGANIZER;CN="Robert Cunningham":MAILTO:tyohni@aol.com
GEO:43.095551;-77.615851
X-APPLE-STRUCTURED-LOCATION;VALUE=URI;X-ADDRESS=Seneca Waterways Council 2320 Brighton‐Henrietta Townline Road Rochester NY 14623 United States;X-APPLE-RADIUS=500;X-TITLE=2320 Brighton‐Henrietta Townline Road:geo:-77.615851,43.095551
END:VEVENT
BEGIN:VEVENT
DTSTART;TZID=UTC:20190413T100000
DTEND;TZID=UTC:20190413T150000
DTSTAMP:20260423T213231
CREATED:20181005T173347Z
LAST-MODIFIED:20181005T173347Z
UID:10000107-1555149600-1555167600@www.bsator.com
SUMMARY:2019 Seneca Waterways Council Trade-O-Ree
DESCRIPTION:Date: April 13\, 2019 \nAddress:\nSeneca Waterways Council\n2320 Brighton‐Henrietta Townline Road\nRochester\, NY 14623 \nTimes:\nSaturday: 10am – 3pm (Dealer Set-up: 9am) \nContact 1: Robert Cunningham\nEmail: tyohni@aol.com\nPhone: (585) 615-1547 \n\n    Download the PDF file .
URL:https://www.bsator.com/event/2019-seneca-waterways-council-trade-o-ree/
LOCATION:Seneca Waterways Council\, 2320 Brighton‐Henrietta Townline Road\, Rochester\, NY\, 14623\, United States
ATTACH;FMTTYPE=image/jpeg:https://www.bsator.com/wp-content/uploads/2018/04/30441524_10216420600136558_5219071312651091968_o.jpg
ORGANIZER;CN="Robert Cunningham":MAILTO:tyohni@aol.com
GEO:43.095551;-77.615851
X-APPLE-STRUCTURED-LOCATION;VALUE=URI;X-ADDRESS=Seneca Waterways Council 2320 Brighton‐Henrietta Townline Road Rochester NY 14623 United States;X-APPLE-RADIUS=500;X-TITLE=2320 Brighton‐Henrietta Townline Road:geo:-77.615851,43.095551
END:VEVENT
BEGIN:VEVENT
DTSTART;TZID=UTC:20180407T100000
DTEND;TZID=UTC:20180407T150000
DTSTAMP:20260423T213231
CREATED:20180124T184605Z
LAST-MODIFIED:20180408T070520Z
UID:10000228-1523095200-1523113200@www.bsator.com
SUMMARY:2018 Seneca Waterways Council Trade-O-Ree
DESCRIPTION:Date: April 7\, 2018 \nAddress:\nSeneca Waterways Council\n2320 Brighton‐Henrietta Townline Road\nRochester\, NY 14623 \nTimes:\nSaturday: 10am – 3pm \nContact 1: Robert Cunningham\nEmail: tyohni@aol.com\nPhone: (585) 615-1547 \n\n    Download the PDF file .
URL:https://www.bsator.com/event/2018-seneca-waterways-council-trade-o-ree/
LOCATION:Seneca Waterways Council\, 2320 Brighton‐Henrietta Townline Road\, Rochester\, NY\, 14623\, United States
ATTACH;FMTTYPE=image/jpeg:https://www.bsator.com/wp-content/uploads/2018/04/30441524_10216420600136558_5219071312651091968_o.jpg
ORGANIZER;CN="Robert Cunningham":MAILTO:tyohni@aol.com
GEO:43.095551;-77.615851
X-APPLE-STRUCTURED-LOCATION;VALUE=URI;X-ADDRESS=Seneca Waterways Council 2320 Brighton‐Henrietta Townline Road Rochester NY 14623 United States;X-APPLE-RADIUS=500;X-TITLE=2320 Brighton‐Henrietta Townline Road:geo:-77.615851,43.095551
END:VEVENT
BEGIN:VEVENT
DTSTART;TZID=UTC:20170429T100000
DTEND;TZID=UTC:20170429T150000
DTSTAMP:20260423T213231
CREATED:20170113T022338Z
LAST-MODIFIED:20200221T160544Z
UID:10000143-1493460000-1493478000@www.bsator.com
SUMMARY:Seneca Waterways Council Trade-O-Ree
DESCRIPTION:Date: April 29\, 2017 \nAddress:\nSeneca Waterways Council\n2320 Brighton‐Henrietta Townline Road\nRochester\, NY 14623 \nTimes:\nSaturday: 10am – 3pm \nContact 1: Robert Cunningham\nEmail: tyohni@aol.com\nPhone: (585) 615-1547 \n\n    Download the PDF file .
URL:https://www.bsator.com/event/seneca-waterways-council-trade-o-ree/
LOCATION:Seneca Waterways Council\, 2320 Brighton‐Henrietta Townline Road\, Rochester\, NY\, 14623\, United States
ATTACH;FMTTYPE=image/jpeg:https://www.bsator.com/wp-content/uploads/2017/01/57038287_2759168487445464_4642034042592559104_n.jpg
ORGANIZER;CN="Robert Cunningham":MAILTO:tyohni@aol.com
GEO:43.095551;-77.615851
X-APPLE-STRUCTURED-LOCATION;VALUE=URI;X-ADDRESS=Seneca Waterways Council 2320 Brighton‐Henrietta Townline Road Rochester NY 14623 United States;X-APPLE-RADIUS=500;X-TITLE=2320 Brighton‐Henrietta Townline Road:geo:-77.615851,43.095551
END:VEVENT
END:VCALENDAR