BEGIN:VCALENDAR
VERSION:2.0
PRODID:-//Boy Scout Trade-O-Ree Calendar - ECPv6.15.20//NONSGML v1.0//EN
CALSCALE:GREGORIAN
METHOD:PUBLISH
X-WR-CALNAME:Boy Scout Trade-O-Ree Calendar
X-ORIGINAL-URL:https://www.bsator.com
X-WR-CALDESC:Events for Boy Scout Trade-O-Ree Calendar
REFRESH-INTERVAL;VALUE=DURATION:PT1H
X-Robots-Tag:noindex
X-PUBLISHED-TTL:PT1H
BEGIN:VTIMEZONE
TZID:UTC
BEGIN:STANDARD
TZOFFSETFROM:+0000
TZOFFSETTO:+0000
TZNAME:UTC
DTSTART:20220101T000000
END:STANDARD
END:VTIMEZONE
BEGIN:VEVENT
DTSTART;TZID=UTC:20230929T180000
DTEND;TZID=UTC:20230930T150000
DTSTAMP:20260423T173258
CREATED:20230624T160615Z
LAST-MODIFIED:20250328T053627Z
UID:10000488-1696010400-1696086000@www.bsator.com
SUMMARY:NY Capital District 2023 Scout Memorabilia Trade-O-Ree
DESCRIPTION:Date: September 29-30\, 2023 \nAddress:\nWASHINGTON COUNTY FAIRGROUNDS\n392 Old Schuylerville Road\nGreenwich\, NY 12834 \nTimes:\nFriday: 6pm – 11pm\nSaturday: 9am – 3pm \nContact 1: Robert Pattison\nEmail: pattison_r@yahoo.com\nPhone: (518) 944-5794 \nRegister Now\n\n \nTrade-O-Ree Flyer\n\n\n    Download the PDF file .
URL:https://www.bsator.com/event/ny-capital-district-2023-scout-memorabilia-trade-o-ree/
LOCATION:WASHINGTON COUNTY FAIRGROUNDS\, 392 Old Schuylerville Road\, Greenwich\, NY\, 12834\, United States
ATTACH;FMTTYPE=image/jpeg:https://www.bsator.com/wp-content/uploads/2023/06/385786099_10233437609828571_9140442303049247041_n.jpg
ORGANIZER;CN="Robert Pattison":MAILTO:pattison_r@yahoo.com
END:VEVENT
END:VCALENDAR