BEGIN:VCALENDAR
VERSION:2.0
PRODID:-//Boy Scout Trade-O-Ree Calendar - ECPv6.15.20//NONSGML v1.0//EN
CALSCALE:GREGORIAN
METHOD:PUBLISH
X-WR-CALNAME:Boy Scout Trade-O-Ree Calendar
X-ORIGINAL-URL:https://www.bsator.com
X-WR-CALDESC:Events for Boy Scout Trade-O-Ree Calendar
REFRESH-INTERVAL;VALUE=DURATION:PT1H
X-Robots-Tag:noindex
X-PUBLISHED-TTL:PT1H
BEGIN:VTIMEZONE
TZID:UTC
BEGIN:STANDARD
TZOFFSETFROM:+0000
TZOFFSETTO:+0000
TZNAME:UTC
DTSTART:20160101T000000
END:STANDARD
END:VTIMEZONE
BEGIN:VEVENT
DTSTART;TZID=UTC:20250124T090000
DTEND;TZID=UTC:20250125T230000
DTSTAMP:20260423T201251
CREATED:20240210T012015Z
LAST-MODIFIED:20240210T012015Z
UID:10000331-1737709200-1737846000@www.bsator.com
SUMMARY:46th Annual Dallas National Trade-O-Ree – State: Texas
DESCRIPTION:Date: January 24-25\, 2025 \nAddress:\nGrapevine Convention Center\n1209 South Main Street\nGrapevine\, TX 76051 \nTimes:\nThursday: 8pm (Pre-TOR Open House Party at Dave Thomas’ House for all TOR attendees at 603 Asher Court\, Arlington\, Texas 76006. All are encouraged to come and bring a friend!)\nFriday: 9am – 12pm (Table Renters Only)\nFriday: 12pm – 11pm (Open To Public)\nSaturday: 9am – 11pm \nContact: Ron Aldridge\nEmail: noacman@aol.com\nPhone: (214) 770 – 3574 \nContact: Dave Thomas\nEmail: firstflaps@aol.com\nPhone: (972) 991-2121 \nRegister Now\n\n \nTrade-O-Ree Flyer\n\n\n    Download the PDF file .
URL:https://www.bsator.com/event/46th-annual-dallas-national-trade-o-ree-state-texas/
LOCATION:Grapevine Convention Center\, 1209 South Main Street\, Grapevine\, TX 76051
ATTACH;FMTTYPE=image/jpeg:https://www.bsator.com/wp-content/uploads/2016/06/1010206_250086738501514_1011829559_n-768x576.jpg
ORGANIZER;CN="Ron Aldridge":MAILTO:noacman@aol.com
GEO:32.9288972;-97.0762493
X-APPLE-STRUCTURED-LOCATION;VALUE=URI;X-ADDRESS=Grapevine Convention Center 1209 South Main Street Grapevine TX 76051;X-APPLE-RADIUS=500;X-TITLE=1209 South Main Street:geo:-97.0762493,32.9288972
END:VEVENT
BEGIN:VEVENT
DTSTART;TZID=UTC:20240126T090000
DTEND;TZID=UTC:20240127T230000
DTSTAMP:20260423T201251
CREATED:20230119T161257Z
LAST-MODIFIED:20230305T065332Z
UID:10000473-1706259600-1706396400@www.bsator.com
SUMMARY:45th Annual Dallas National Trade-O-Ree – State: Texas
DESCRIPTION:Date: January 26-27\, 2024 \nAddress:\nGrapevine Convention Center\n1209 South Main Street\nGrapevine\, TX 76051 \nTimes:\nThursday: 8pm (Pre-TOR Open House Party at Dave Thomas’ House for all TOR attendees at 603 Asher Court\, Arlington\, Texas 76006. All are encouraged to come and bring a friend!)\nFriday: 9am – 12pm (Table Renters Only)\nFriday: 12pm – 11pm (Open To Public)\nSaturday: 9am – 11pm \nContact: Ron Aldridge\nEmail: noacman@aol.com\nPhone: (214) 770 – 3574 \nContact: Dave Thomas\nEmail: firstflaps@aol.com\nPhone: (972) 991-2121 \nRegister Now\n\n \nTrade-O-Ree Flyer\n\n\n    Download the PDF file .
URL:https://www.bsator.com/event/45th-annual-dallas-national-trade-o-ree-state-texas/
LOCATION:Grapevine Convention Center\, 1209 South Main Street\, Grapevine\, TX 76051
ATTACH;FMTTYPE=image/jpeg:https://www.bsator.com/wp-content/uploads/2016/06/1010206_250086738501514_1011829559_n-768x576.jpg
ORGANIZER;CN="Ron Aldridge":MAILTO:noacman@aol.com
GEO:32.9288972;-97.0762493
X-APPLE-STRUCTURED-LOCATION;VALUE=URI;X-ADDRESS=Grapevine Convention Center 1209 South Main Street Grapevine TX 76051;X-APPLE-RADIUS=500;X-TITLE=1209 South Main Street:geo:-97.0762493,32.9288972
END:VEVENT
BEGIN:VEVENT
DTSTART;TZID=UTC:20230113T090000
DTEND;TZID=UTC:20230114T230000
DTSTAMP:20260423T201251
CREATED:20220520T053934Z
LAST-MODIFIED:20220520T054836Z
UID:10000240-1673600400-1673737200@www.bsator.com
SUMMARY:44th Annual Dallas National Trade-O-Ree – State: Texas
DESCRIPTION:Date: January 13-14\, 2023 \nAddress:\nGrapevine Convention Center\n1209 South Main Street\nGrapevine\, TX 76051 \nTimes:\nThursday: 8pm (Pre-TOR Open House Party at Dave Thomas’ House for all TOR attendees at 603 Asher Court\, Arlington\, Texas 76006. All are encouraged to come and bring a friend!)\nFriday: 9am – 12pm (Table Renters Only)\nFriday: 12pm – 11pm (Open To Public)\nSaturday: 9am – 11pm \nContact 1: Ron Aldridge\nEmail: noacman@aol.com\nPhone: (214) 770 – 3574 \nContact 2: Dave Thomas\nEmail: firstflaps@aol.com\nPhone: (972) 991-2121 \nRegister Now\n\n \nTrade-O-Ree Flyer\n\n\n    Download the PDF file .
URL:https://www.bsator.com/event/44th-annual-dallas-national-trade-o-ree-state-texas/
LOCATION:Grapevine Convention Center\, 1209 South Main Street\, Grapevine\, TX 76051
ATTACH;FMTTYPE=image/jpeg:https://www.bsator.com/wp-content/uploads/2016/06/1010206_250086738501514_1011829559_n-768x576.jpg
ORGANIZER;CN="Ron Aldridge":MAILTO:noacman@aol.com
GEO:32.9288972;-97.0762493
X-APPLE-STRUCTURED-LOCATION;VALUE=URI;X-ADDRESS=Grapevine Convention Center 1209 South Main Street Grapevine TX 76051;X-APPLE-RADIUS=500;X-TITLE=1209 South Main Street:geo:-97.0762493,32.9288972
END:VEVENT
BEGIN:VEVENT
DTSTART;TZID=UTC:20220114T090000
DTEND;TZID=UTC:20220115T230000
DTSTAMP:20260423T201251
CREATED:20210617T175809Z
LAST-MODIFIED:20211210T044341Z
UID:10000401-1642150800-1642287600@www.bsator.com
SUMMARY:43rd Annual Dallas National Trade-O-Ree – State: Texas
DESCRIPTION:Date: January 14-15\, 2022 \nAddress:\nGrapevine Convention Center\n1209 South Main Street\nGrapevine\, TX 76051 \nTimes:\nThursday: 8pm (Pre-TOR Open House Party at Dave Thomas’ House for all TOR attendees at 603 Asher Court\, Arlington\, Texas 76006. All are encouraged to come and bring a friend!)\nFriday: 9am – 12pm (Table Renters Only)\nFriday: 12pm – 11pm (Open To Public)\nSaturday: 9am – 11pm\nSaturday: 9:30am – 4pm (ISCA National Conference) \nContact 1: Ron Aldridge\nEmail: noacman@aol.com\nPhone: (214) 770 – 3574 \nContact 2: Dave Thomas\nEmail: firstflaps@aol.com\nPhone: (972) 991-2121 \nRegister Now\n\n \nTrade-O-Ree Flyer\n\n\n    Download the PDF file .
URL:https://www.bsator.com/event/43rd-annual-dallas-national-trade-o-ree-state-texas-2/
LOCATION:Grapevine Convention Center\, 1209 South Main Street\, Grapevine\, TX 76051
ATTACH;FMTTYPE=image/jpeg:https://www.bsator.com/wp-content/uploads/2016/06/1010206_250086738501514_1011829559_n-768x576.jpg
ORGANIZER;CN="Ron Aldridge":MAILTO:noacman@aol.com
GEO:32.9288972;-97.0762493
X-APPLE-STRUCTURED-LOCATION;VALUE=URI;X-ADDRESS=Grapevine Convention Center 1209 South Main Street Grapevine TX 76051;X-APPLE-RADIUS=500;X-TITLE=1209 South Main Street:geo:-97.0762493,32.9288972
END:VEVENT
BEGIN:VEVENT
DTSTART;TZID=UTC:20210115T090000
DTEND;TZID=UTC:20210116T230000
DTSTAMP:20260423T201251
CREATED:20200129T171844Z
LAST-MODIFIED:20200918T232407Z
UID:10000159-1610701200-1610838000@www.bsator.com
SUMMARY:CANCELED: 43rd Annual Dallas National Trade-O-Ree – State: Texas
DESCRIPTION:THIS EVENT HAS BEEN CANCELEDDUE TO THE CORONAVIRUS\n \n \nDate: January 15-16\, 2021 \nAddress:\nGrapevine Convention Center\n1209 South Main Street\nGrapevine\, TX 76051 \nTimes:\nFriday: 9am – 12pm (Table Renters Only)\nFriday: 12pm – 11pm (Open To Public)\nSaturday: 9am – 11pm\nSaturday: 9:30am – 4pm (ISCA National Conference) \nContact 1: Ron Aldridge\nEmail: noacman@aol.com\nPhone: (214) 770 – 3574 \nContact 2: Dave Thomas\nEmail: firstflaps@aol.com\nPhone: (972) 991-2121 \nRegister Now\n\n    Download the PDF file .
URL:https://www.bsator.com/event/43rd-annual-dallas-national-trade-o-ree-state-texas/
LOCATION:Grapevine Convention Center\, 1209 South Main Street\, Grapevine\, TX 76051
ATTACH;FMTTYPE=image/jpeg:https://www.bsator.com/wp-content/uploads/2016/06/1010206_250086738501514_1011829559_n-768x576.jpg
ORGANIZER;CN="Ron Aldridge":MAILTO:noacman@aol.com
GEO:32.9288972;-97.0762493
X-APPLE-STRUCTURED-LOCATION;VALUE=URI;X-ADDRESS=Grapevine Convention Center 1209 South Main Street Grapevine TX 76051;X-APPLE-RADIUS=500;X-TITLE=1209 South Main Street:geo:-97.0762493,32.9288972
END:VEVENT
BEGIN:VEVENT
DTSTART;TZID=UTC:20200124T090000
DTEND;TZID=UTC:20200125T230000
DTSTAMP:20260423T201251
CREATED:20190113T065527Z
LAST-MODIFIED:20190113T065527Z
UID:10000118-1579856400-1579993200@www.bsator.com
SUMMARY:42nd Annual Dallas National Trade-O-Ree – 17th ISCA Convention - State: Texas
DESCRIPTION:Date: January 24-25\, 2020 \nAddress:\nGrapevine Convention Center\n1209 South Main Street\nGrapevine\, TX 76051 \nTimes:\nFriday: 9am – 12pm (Table Renters Only)\nFriday: 12pm – 11pm (Open To Public)\nSaturday: 9am – 11pm\nSaturday: 9:30am – 4pm (ISCA National Conference) \nContact 1: Ron Aldridge\nEmail: noacman@aol.com\nPhone: (214) 770 – 3574 \nContact 2: Dave Thomas\nEmail: firstflaps@aol.com\nPhone: (972) 991-2121 \nRegister Now\n\n    Download the PDF file .
URL:https://www.bsator.com/event/42nd-annual-dallas-national-trade-o-ree-17th-isca-convention-state-texas/
LOCATION:Grapevine Convention Center\, 1209 South Main Street\, Grapevine\, TX 76051
ATTACH;FMTTYPE=image/jpeg:https://www.bsator.com/wp-content/uploads/2016/06/1010206_250086738501514_1011829559_n-768x576.jpg
ORGANIZER;CN="Ron Aldridge":MAILTO:noacman@aol.com
GEO:32.9288972;-97.0762493
X-APPLE-STRUCTURED-LOCATION;VALUE=URI;X-ADDRESS=Grapevine Convention Center 1209 South Main Street Grapevine TX 76051;X-APPLE-RADIUS=500;X-TITLE=1209 South Main Street:geo:-97.0762493,32.9288972
END:VEVENT
BEGIN:VEVENT
DTSTART;TZID=UTC:20190125T090000
DTEND;TZID=UTC:20190126T160000
DTSTAMP:20260423T201251
CREATED:20180111T180742Z
LAST-MODIFIED:20180331T051648Z
UID:10000222-1548406800-1548518400@www.bsator.com
SUMMARY:41st Annual Dallas National Trade-O-Ree – 16th ISCA Convention - State: Texas
DESCRIPTION:Date: January 25-26\, 2019 \nAddress:\nGrapevine Convention Center\n1209 South Main Street\nGrapevine\, TX 76051 \nTimes:\nFriday: 9am – 12pm (Table Renters Only)\nFriday: 12pm – 11pm (Open To Public)\nSaturday: 9am – 11pm\nSaturday: 9:30am – 4pm (ISCA National Conference) \nContact 1: Ron Aldridge\nEmail: noacman@aol.com\nPhone: (214) 770 – 3574 \nContact 2: Dave Thomas\nEmail: firstflaps@aol.com\nPhone: (972) 991-2121 \nRegister Now\n\n    Download the PDF file .
URL:https://www.bsator.com/event/41st-annual-dallas-national-trade-o-ree-16th-isca-convention-state-texas/
LOCATION:Grapevine Convention Center\, 1209 South Main Street\, Grapevine\, TX 76051
ATTACH;FMTTYPE=image/jpeg:https://www.bsator.com/wp-content/uploads/2016/06/1010206_250086738501514_1011829559_n-768x576.jpg
ORGANIZER;CN="Ron Aldridge":MAILTO:noacman@aol.com
GEO:32.9288972;-97.0762493
X-APPLE-STRUCTURED-LOCATION;VALUE=URI;X-ADDRESS=Grapevine Convention Center 1209 South Main Street Grapevine TX 76051;X-APPLE-RADIUS=500;X-TITLE=1209 South Main Street:geo:-97.0762493,32.9288972
END:VEVENT
BEGIN:VEVENT
DTSTART;TZID=UTC:20180119T090000
DTEND;TZID=UTC:20180120T230000
DTSTAMP:20260423T201251
CREATED:20170206T222824Z
LAST-MODIFIED:20170206T223106Z
UID:10000160-1516352400-1516489200@www.bsator.com
SUMMARY:40th Annual Dallas National Trade-O-Ree – 15th ISCA Convention - State: Texas
DESCRIPTION:Date: January 19-20\, 2018 \nAddress:\nGrapevine Convention Center\n1209 South Main Street\nGrapevine\, TX 76051 \nTimes:\nFriday: 9am – 12pm (Table Renters Only)\nFriday: 12pm – 11pm (Open To Public)\nSaturday: 9am – 11pm\nSaturday: 9:30am – 4pm (ISCA National Conference) \nContact 1: Ron Aldridge\nEmail: noacman@aol.com\nPhone: (214) 770 – 3574 \nRegister Now\n\n    Download the PDF file .
URL:https://www.bsator.com/event/40th-annual-dallas-trade-o-ree/
LOCATION:Grapevine Convention Center\, 1209 South Main Street\, Grapevine\, TX 76051
ATTACH;FMTTYPE=image/jpeg:https://www.bsator.com/wp-content/uploads/2016/06/1010206_250086738501514_1011829559_n-768x576.jpg
ORGANIZER;CN="Ron Aldridge":MAILTO:noacman@aol.com
GEO:32.9288972;-97.0762493
X-APPLE-STRUCTURED-LOCATION;VALUE=URI;X-ADDRESS=Grapevine Convention Center 1209 South Main Street Grapevine TX 76051;X-APPLE-RADIUS=500;X-TITLE=1209 South Main Street:geo:-97.0762493,32.9288972
END:VEVENT
BEGIN:VEVENT
DTSTART;TZID=UTC:20170120T090000
DTEND;TZID=UTC:20170121T230000
DTSTAMP:20260423T201252
CREATED:20160601T114530Z
LAST-MODIFIED:20170206T222952Z
UID:10000040-1484902800-1485039600@www.bsator.com
SUMMARY:39th Annual Dallas National Trade-O-Ree – 14th ISCA Convention - State: Texas
DESCRIPTION:Date: January 20-21\, 2017 \nAddress:\nGrapevine Convention Center\n1209 South Main Street\nGrapevine\, TX 76051 \nTimes:\nFriday: 9am – 12pm (Table Renters Only)\nFriday: 12pm – 11pm (Open To Public)\nSaturday: 9am – 11pm\nSaturday: 9:30am – 4pm (ISCA National Conference) \nContact 1: Ron Aldridge\nEmail: noacman@aol.com\nPhone: (214) 770 – 3574 \nFlyer: Click Here\n\nRegister Now \n\n    Download the PDF file .
URL:https://www.bsator.com/event/39th-annual-dallas-national-trade-o-ree-14th-isca-convention-state-texas/
LOCATION:Grapevine Convention Center\, 1209 South Main Street\, Grapevine\, TX 76051
ATTACH;FMTTYPE=image/jpeg:https://www.bsator.com/wp-content/uploads/2016/06/1010206_250086738501514_1011829559_n-768x576.jpg
ORGANIZER;CN="Ron Aldridge":MAILTO:noacman@aol.com
GEO:32.9288972;-97.0762493
X-APPLE-STRUCTURED-LOCATION;VALUE=URI;X-ADDRESS=Grapevine Convention Center 1209 South Main Street Grapevine TX 76051;X-APPLE-RADIUS=500;X-TITLE=1209 South Main Street:geo:-97.0762493,32.9288972
END:VEVENT
END:VCALENDAR