BEGIN:VCALENDAR
VERSION:2.0
PRODID:-//Boy Scout Trade-O-Ree Calendar - ECPv6.15.20//NONSGML v1.0//EN
CALSCALE:GREGORIAN
METHOD:PUBLISH
X-WR-CALNAME:Boy Scout Trade-O-Ree Calendar
X-ORIGINAL-URL:https://www.bsator.com
X-WR-CALDESC:Events for Boy Scout Trade-O-Ree Calendar
REFRESH-INTERVAL;VALUE=DURATION:PT1H
X-Robots-Tag:noindex
X-PUBLISHED-TTL:PT1H
BEGIN:VTIMEZONE
TZID:UTC
BEGIN:STANDARD
TZOFFSETFROM:+0000
TZOFFSETTO:+0000
TZNAME:UTC
DTSTART:20170101T000000
END:STANDARD
END:VTIMEZONE
BEGIN:VEVENT
DTSTART;TZID=UTC:20250411T170000
DTEND;TZID=UTC:20250412T150000
DTSTAMP:20260423T193704
CREATED:20240720T043643Z
LAST-MODIFIED:20241220T015339Z
UID:10000535-1744390800-1744470000@www.bsator.com
SUMMARY:2025 Crossroads of the West Council Spring Trade-O-Ree - State: Utah
DESCRIPTION:Date: April 11-12\, 2025 \nAddress:\nCamp Tracy\n3901 Mill Creek Canyon Rd\nSalt Lake City\, UT 84109 \nTimes:\nFriday: 5pm – 11pm\nSaturday: 9am – ? \nContact: Russ Baker\nPhone: (801) 891-3268 \nContact: Council Service Desk\nPhone: (801) 479-5460 \n \nTrade-O-Ree Flyer\n\n\n    Download the PDF file .
URL:https://www.bsator.com/event/2025-crossroads-of-the-west-council-spring-trade-o-ree-state-utah/
LOCATION:Camp Tracy\, 3901 Mill Creek Canyon Rd\, Salt Lake City\, UT\, 84109\, United States
ATTACH;FMTTYPE=image/jpeg:https://www.bsator.com/wp-content/uploads/2021/03/IMG_3008.jpg
ORGANIZER;CN="Russell Baker":MAILTO:elkutalodgeauction@yahoo.com
GEO:40.6892018;-111.7886351
X-APPLE-STRUCTURED-LOCATION;VALUE=URI;X-ADDRESS=Camp Tracy 3901 Mill Creek Canyon Rd Salt Lake City UT 84109 United States;X-APPLE-RADIUS=500;X-TITLE=3901 Mill Creek Canyon Rd:geo:-111.7886351,40.6892018
END:VEVENT
BEGIN:VEVENT
DTSTART;TZID=UTC:20201030T170000
DTEND;TZID=UTC:20201031T150000
DTSTAMP:20260423T193704
CREATED:20191205T082525Z
LAST-MODIFIED:20200221T080319Z
UID:10000334-1604077200-1604156400@www.bsator.com
SUMMARY:2020 EL-KU-TA Lodge Trade-O-Ree - State: Utah
DESCRIPTION:Date: October 30-31\, 2020 \nAddress:\nCamp Tracy Lodge – Millcreek Canyon\n3901 East 3800 South\nSalt Lake City\, UT \nTimes:\nFriday: 5pm – 12am\nSaturday: 9am – 3pm \nContact 1: Russell Baker\nEmail: elkutalodgeauction@yahoo.com\nPhone: (801) 891-3268 \nRegister Now\n\n    Download the PDF file .
URL:https://www.bsator.com/event/2020-el-ku-ta-lodge-trade-o-ree-state-utah/
LOCATION:Camp Tracy\, 3901 Mill Creek Canyon Rd\, Salt Lake City\, UT\, 84109\, United States
ATTACH;FMTTYPE=image/jpeg:https://www.bsator.com/wp-content/uploads/2019/12/73141369_10219752240067424_5314097146247512064_n.jpg
ORGANIZER;CN="Russell Baker":MAILTO:elkutalodgeauction@yahoo.com
GEO:40.6892018;-111.7886351
X-APPLE-STRUCTURED-LOCATION;VALUE=URI;X-ADDRESS=Camp Tracy 3901 Mill Creek Canyon Rd Salt Lake City UT 84109 United States;X-APPLE-RADIUS=500;X-TITLE=3901 Mill Creek Canyon Rd:geo:-111.7886351,40.6892018
END:VEVENT
BEGIN:VEVENT
DTSTART;TZID=UTC:20191025T170000
DTEND;TZID=UTC:20191026T150000
DTSTAMP:20260423T193704
CREATED:20181117T192029Z
LAST-MODIFIED:20200221T074640Z
UID:10000264-1572022800-1572102000@www.bsator.com
SUMMARY:2019 EL-KU-TA Lodge Trade-O-Ree - State: Utah
DESCRIPTION:Date: October 25-26\, 2019 \nAddress:\nCamp Tracy Lodge – Millcreek Canyon\n3901 East 3800 South\nSalt Lake City\, UT \nTimes:\nFriday: 5pm – 12am\nSaturday: 9am – 3pm \nContact 1: Russell Baker\nEmail: elkutalodgeauction@yahoo.com\nPhone: (801) 891-3268 \nRegister Now\n\n    Download the PDF file .
URL:https://www.bsator.com/event/2019-el-ku-ta-lodge-trade-o-ree-state-utah/
LOCATION:Camp Tracy\, 3901 Mill Creek Canyon Rd\, Salt Lake City\, UT\, 84109\, United States
ATTACH;FMTTYPE=image/jpeg:https://www.bsator.com/wp-content/uploads/2019/12/73141369_10219752240067424_5314097146247512064_n.jpg
ORGANIZER;CN="Russell Baker":MAILTO:elkutalodgeauction@yahoo.com
GEO:40.6892018;-111.7886351
X-APPLE-STRUCTURED-LOCATION;VALUE=URI;X-ADDRESS=Camp Tracy 3901 Mill Creek Canyon Rd Salt Lake City UT 84109 United States;X-APPLE-RADIUS=500;X-TITLE=3901 Mill Creek Canyon Rd:geo:-111.7886351,40.6892018
END:VEVENT
BEGIN:VEVENT
DTSTART;TZID=UTC:20181026T170000
DTEND;TZID=UTC:20181027T150000
DTSTAMP:20260423T193704
CREATED:20180122T063055Z
LAST-MODIFIED:20180122T063137Z
UID:10000227-1540573200-1540652400@www.bsator.com
SUMMARY:2018 EL-KU-TA Lodge Trade-O-Ree - State: Utah
DESCRIPTION:Date: October 26-27\, 2018 \nAddress:\nCamp Tracy Lodge – Millcreek Canyon\n3901 East 3800 South\nSalt Lake City\, UT \nTimes:\nFriday: 5pm – 12am\nSaturday: 9am – 3pm \nContact 1: Russell Baker\nEmail: elkutalodgeauction@yahoo.com\nPhone: (801) 891-3268 \nRegister Now\n\n    Download the PDF file .
URL:https://www.bsator.com/event/2018-el-ku-ta-lodge-trade-o-ree-state-utah/
LOCATION:Camp Tracy\, 3901 Mill Creek Canyon Rd\, Salt Lake City\, UT\, 84109\, United States
ATTACH;FMTTYPE=image/jpeg:https://www.bsator.com/wp-content/uploads/2016/06/SWAPSHOP_zpsd7821994-4-1.jpg.opt430x360o00s430x360-4-1.jpg
ORGANIZER;CN="Russell Baker":MAILTO:elkutalodgeauction@yahoo.com
GEO:40.6892018;-111.7886351
X-APPLE-STRUCTURED-LOCATION;VALUE=URI;X-ADDRESS=Camp Tracy 3901 Mill Creek Canyon Rd Salt Lake City UT 84109 United States;X-APPLE-RADIUS=500;X-TITLE=3901 Mill Creek Canyon Rd:geo:-111.7886351,40.6892018
END:VEVENT
END:VCALENDAR