BEGIN:VCALENDAR
VERSION:2.0
PRODID:-//Boy Scout Trade-O-Ree Calendar - ECPv6.15.20//NONSGML v1.0//EN
CALSCALE:GREGORIAN
METHOD:PUBLISH
X-ORIGINAL-URL:https://www.bsator.com
X-WR-CALDESC:Events for Boy Scout Trade-O-Ree Calendar
REFRESH-INTERVAL;VALUE=DURATION:PT1H
X-Robots-Tag:noindex
X-PUBLISHED-TTL:PT1H
BEGIN:VTIMEZONE
TZID:UTC
BEGIN:STANDARD
TZOFFSETFROM:+0000
TZOFFSETTO:+0000
TZNAME:UTC
DTSTART:20160101T000000
END:STANDARD
END:VTIMEZONE
BEGIN:VEVENT
DTSTART;TZID=UTC:20260306T160000
DTEND;TZID=UTC:20260307T160000
DTSTAMP:20260423T173502
CREATED:20250328T043102Z
LAST-MODIFIED:20251226T231351Z
UID:10000577-1772812800-1772899200@www.bsator.com
SUMMARY:17th Annual Michigan Crossroads Council Trade-O-Ree
DESCRIPTION:Date: March 6-7\, 2026 \nAddress:\nD-Bar-A Scout Ranch (Wyckoff Lodge Dining Hall)\n880 E. Sutton Road\nMetamora\, MI 48455 \nTimes:\nFriday: 4pm – 11pm\nSaturday: 8am – 4pm \nContact 1: Scott Wheeler\nEmail: panterat97@juno.com\nPhone: (586) 817-0654 \nContact 2: Denver Laabs\nEmail: Denver.laabs@scouting.org\nPhone: (313) 723-1488 \n\n \nTrade-O-Ree Flyer\n\n\n    Download the PDF file .
URL:https://www.bsator.com/event/17th-annual-michigan-crossroads-council-trade-o-ree/
LOCATION:D-Bar-A Scout Ranch (Wyckoff Lodge Dining Hall)\, 880 E. Sutton Road\, Metamora\, MI 48455
ATTACH;FMTTYPE=image/jpeg:https://www.bsator.com/wp-content/uploads/2021/11/IMG_0295a.jpg
ORGANIZER;CN="Scott Wheeler":MAILTO:panterat97@juno.com
GEO:42.9717489;-83.2579737
X-APPLE-STRUCTURED-LOCATION;VALUE=URI;X-ADDRESS=D-Bar-A Scout Ranch (Wyckoff Lodge Dining Hall) 880 E. Sutton Road Metamora MI 48455;X-APPLE-RADIUS=500;X-TITLE=880 E. Sutton Road:geo:-83.2579737,42.9717489
END:VEVENT
BEGIN:VEVENT
DTSTART;TZID=UTC:20250307T160000
DTEND;TZID=UTC:20250308T160000
DTSTAMP:20260423T173503
CREATED:20240527T173804Z
LAST-MODIFIED:20240707T172538Z
UID:10000531-1741363200-1741449600@www.bsator.com
SUMMARY:16th Annual Michigan Crossroads Council Trade-O-Ree
DESCRIPTION:Date: March 7-8\, 2025 \nAddress:\nD-Bar-A Scout Ranch (Wyckoff Lodge Dining Hall)\n880 E. Sutton Road\nMetamora\, MI 48455 \nTimes:\nFriday: 4pm – 11pm\nSaturday: 8am – 4pm \nContact 1: Scott Wheeler\nEmail: panterat97@juno.com\nPhone: (586) 817-0654 \nContact 2: Denver Laabs\nEmail: Denver.laabs@scouting.org\nPhone: (313) 723-1488 \n\n \nTrade-O-Ree Flyer\n\n\n    Download the PDF file .
URL:https://www.bsator.com/event/16th-annual-michigan-crossroads-council-trade-o-ree/
LOCATION:D-Bar-A Scout Ranch (Wyckoff Lodge Dining Hall)\, 880 E. Sutton Road\, Metamora\, MI 48455
ATTACH;FMTTYPE=image/jpeg:https://www.bsator.com/wp-content/uploads/2021/11/IMG_0295a.jpg
ORGANIZER;CN="Scott Wheeler":MAILTO:panterat97@juno.com
GEO:42.9717489;-83.2579737
X-APPLE-STRUCTURED-LOCATION;VALUE=URI;X-ADDRESS=D-Bar-A Scout Ranch (Wyckoff Lodge Dining Hall) 880 E. Sutton Road Metamora MI 48455;X-APPLE-RADIUS=500;X-TITLE=880 E. Sutton Road:geo:-83.2579737,42.9717489
END:VEVENT
BEGIN:VEVENT
DTSTART;TZID=UTC:20240315T160000
DTEND;TZID=UTC:20240316T160000
DTSTAMP:20260423T173503
CREATED:20230922T122742Z
LAST-MODIFIED:20230922T123530Z
UID:10000295-1710518400-1710604800@www.bsator.com
SUMMARY:15th Annual Michigan Crossroads Council Trade-O-Ree
DESCRIPTION:Date: March 15-16\, 2024 \nAddress:\nD-Bar-A Scout Ranch (Wyckoff Lodge Dining Hall)\n880 E. Sutton Road\nMetamora\, MI 48455 \nTimes:\nFriday: 4pm – 11pm\nSaturday: 8am – 4pm \nContact 1: Scott Wheeler\nEmail: panterat97@juno.com\nPhone: (586) 817-0654 \nContact 2: Denver Laabs\nEmail: Denver.laabs@scouting.org\nPhone: (248) 231-6524 \n\n \nTrade-O-Ree Flyer\n\n\n    Download the PDF file .
URL:https://www.bsator.com/event/15th-annual-michigan-crossroads-council-trade-o-ree/
LOCATION:D-Bar-A Scout Ranch (Wyckoff Lodge Dining Hall)\, 880 E. Sutton Road\, Metamora\, MI 48455
ATTACH;FMTTYPE=image/jpeg:https://www.bsator.com/wp-content/uploads/2021/11/IMG_0295a.jpg
ORGANIZER;CN="Scott Wheeler":MAILTO:panterat97@juno.com
GEO:42.9717489;-83.2579737
X-APPLE-STRUCTURED-LOCATION;VALUE=URI;X-ADDRESS=D-Bar-A Scout Ranch (Wyckoff Lodge Dining Hall) 880 E. Sutton Road Metamora MI 48455;X-APPLE-RADIUS=500;X-TITLE=880 E. Sutton Road:geo:-83.2579737,42.9717489
END:VEVENT
BEGIN:VEVENT
DTSTART;TZID=UTC:20230317T160000
DTEND;TZID=UTC:20230318T160000
DTSTAMP:20260423T173503
CREATED:20220826T054201Z
LAST-MODIFIED:20220826T055102Z
UID:10000455-1679068800-1679155200@www.bsator.com
SUMMARY:14th Annual Michigan Crossroads Council Trade-O-Ree
DESCRIPTION:Date: March 17-18\, 2023 \nAddress:\nD-Bar-A Scout Ranch (Wyckoff Lodge Dining Hall)\n880 E. Sutton Road\nMetamora\, MI 48455 \nTimes:\nFriday: 4pm – 11pm\nSaturday: 8am – 4pm \nContact 1: Scott Wheeler\nEmail: panterat97@juno.com\nPhone: (586) 817-0654 \nContact 2: Denver Laabs\nEmail: Denver.laabs@scouting.org\nPhone: (248) 231-6524 \n\n \nTrade-O-Ree Flyer\n\n\n    Download the PDF file .
URL:https://www.bsator.com/event/14th-annual-michigan-crossroads-council-trade-o-ree/
LOCATION:D-Bar-A Scout Ranch (Wyckoff Lodge Dining Hall)\, 880 E. Sutton Road\, Metamora\, MI 48455
ATTACH;FMTTYPE=image/jpeg:https://www.bsator.com/wp-content/uploads/2021/11/IMG_0295a.jpg
ORGANIZER;CN="Scott Wheeler":MAILTO:panterat97@juno.com
GEO:42.9717489;-83.2579737
X-APPLE-STRUCTURED-LOCATION;VALUE=URI;X-ADDRESS=D-Bar-A Scout Ranch (Wyckoff Lodge Dining Hall) 880 E. Sutton Road Metamora MI 48455;X-APPLE-RADIUS=500;X-TITLE=880 E. Sutton Road:geo:-83.2579737,42.9717489
END:VEVENT
BEGIN:VEVENT
DTSTART;TZID=UTC:20220318T160000
DTEND;TZID=UTC:20220319T160000
DTSTAMP:20260423T173503
CREATED:20211105T161350Z
LAST-MODIFIED:20211210T044011Z
UID:10000409-1647619200-1647705600@www.bsator.com
SUMMARY:13th Annual Michigan Crossroads Council Trade-O-Ree
DESCRIPTION:Date: March 18-19\, 2022 \nAddress:\nD-Bar-A Scout Ranch (Wyckoff Lodge Dining Hall)\n880 E. Sutton Road\nMetamora\, MI 48455 \nTimes:\nFriday: 4pm – 11pm\nSaturday: 8am – 4pm \nContact 1: Scott Wheeler\nEmail: panterat97@juno.com\nPhone: (586) 817-0654 \nContact 2: Denver Laabs\nEmail: Denver.laabs@scouting.org\nPhone: (313) 361-1272 \n\n \nTrade-O-Ree Flyer\n\n\n    Download the PDF file .
URL:https://www.bsator.com/event/13th-annual-michigan-crossroads-council-trade-o-ree/
LOCATION:D-Bar-A Scout Ranch (Wyckoff Lodge Dining Hall)\, 880 E. Sutton Road\, Metamora\, MI 48455
ATTACH;FMTTYPE=image/jpeg:https://www.bsator.com/wp-content/uploads/2021/11/IMG_0295a.jpg
ORGANIZER;CN="Scott Wheeler":MAILTO:panterat97@juno.com
GEO:42.9717489;-83.2579737
X-APPLE-STRUCTURED-LOCATION;VALUE=URI;X-ADDRESS=D-Bar-A Scout Ranch (Wyckoff Lodge Dining Hall) 880 E. Sutton Road Metamora MI 48455;X-APPLE-RADIUS=500;X-TITLE=880 E. Sutton Road:geo:-83.2579737,42.9717489
END:VEVENT
BEGIN:VEVENT
DTSTART;TZID=UTC:20200306T160000
DTEND;TZID=UTC:20200307T160000
DTSTAMP:20260423T173503
CREATED:20190405T123659Z
LAST-MODIFIED:20190818T042231Z
UID:10000128-1583510400-1583596800@www.bsator.com
SUMMARY:12th Annual Great Lakes FSC Council Boy Scout Memorabilia Show & Trade-O-Ree
DESCRIPTION:Date: March 6-7\, 2020 \nAddress:\nD-Bar-A Scout Ranch (Wyckoff Lodge Dining Hall)\n880 E. Sutton Road\nMetamora\, MI 48455 \nTimes:\nFriday: 4pm – 11pm\nSaturday: 8am – 4pm \nContact 1: Scott Wheeler\nEmail: panterat97@juno.com\nPhone: (586) 817-0654 \nContact 2: Denver Laabs\nEmail: Denver.laabs@scouting.org\nPhone: (248) 338-0035 x124\nPhone: (313) 361-1272 \n\n    Download the PDF file .
URL:https://www.bsator.com/event/12th-annual-great-lakes-fsc-council-boy-scout-memorabilia-show-trade-o-ree/
LOCATION:D-Bar-A Scout Ranch (Wyckoff Lodge Dining Hall)\, 880 E. Sutton Road\, Metamora\, MI 48455
ATTACH;FMTTYPE=image/jpeg:https://www.bsator.com/wp-content/uploads/2017/01/IMG_0295.jpg
ORGANIZER;CN="Scott Wheeler":MAILTO:panterat97@juno.com
GEO:42.9717489;-83.2579737
X-APPLE-STRUCTURED-LOCATION;VALUE=URI;X-ADDRESS=D-Bar-A Scout Ranch (Wyckoff Lodge Dining Hall) 880 E. Sutton Road Metamora MI 48455;X-APPLE-RADIUS=500;X-TITLE=880 E. Sutton Road:geo:-83.2579737,42.9717489
END:VEVENT
BEGIN:VEVENT
DTSTART;TZID=UTC:20190315T160000
DTEND;TZID=UTC:20190316T160000
DTSTAMP:20260423T173503
CREATED:20180525T052147Z
LAST-MODIFIED:20190121T194124Z
UID:10000245-1552665600-1552752000@www.bsator.com
SUMMARY:2019 Great Lakes FSC Council – 11th Annual Boy Scout Memorabilia Show & Trade-O-Ree
DESCRIPTION:Date: March 15-16\, 2019 \nAddress:\nD-Bar-A Scout Ranch (Wyckoff Lodge Dining Hall)\n880 E. Sutton Road\nMetamora\, MI 48455 \nTimes:\nFriday: 4pm – 11pm\nSaturday: 8am – 4pm \nContact 1: Scott Wheeler\nEmail: panterat97@juno.com\nPhone: (586) 817-0654 \nContact 2: Denver Laabs\nEmail: Denver.laabs@scouting.org\nPhone: (248) 338-0035 x124\nPhone: (313) 361-1272 \nRegister Now\n\n    Download the PDF file .
URL:https://www.bsator.com/event/2019-great-lakes-fsc-council-11th-annual-boy-scout-memorabilia-show-trade-o-ree/
LOCATION:D-Bar-A Scout Ranch (Wyckoff Lodge Dining Hall)\, 880 E. Sutton Road\, Metamora\, MI 48455
ATTACH;FMTTYPE=image/jpeg:https://www.bsator.com/wp-content/uploads/2017/01/IMG_0295.jpg
ORGANIZER;CN="Scott Wheeler":MAILTO:panterat97@juno.com
GEO:42.9717489;-83.2579737
X-APPLE-STRUCTURED-LOCATION;VALUE=URI;X-ADDRESS=D-Bar-A Scout Ranch (Wyckoff Lodge Dining Hall) 880 E. Sutton Road Metamora MI 48455;X-APPLE-RADIUS=500;X-TITLE=880 E. Sutton Road:geo:-83.2579737,42.9717489
END:VEVENT
BEGIN:VEVENT
DTSTART;TZID=UTC:20180316T160000
DTEND;TZID=UTC:20180317T160000
DTSTAMP:20260423T173503
CREATED:20170627T212403Z
LAST-MODIFIED:20170627T212941Z
UID:10000046-1521216000-1521302400@www.bsator.com
SUMMARY:10th Annual Great Lakes FSC Council Trade-O-Ree – State: Michigan
DESCRIPTION:Date: March 16-17\, 2018 \nAddress:\nD-Bar-A Scout Ranch (Wyckoff Lodge Dining Hall)\n880 E. Sutton Road\nMetamora\, MI 48455 \nTimes:\nFriday: 4pm – 11pm\nSaturday: 8am – 4pm \nContact 1: Scott Wheeler\nEmail: panterat97@juno.com\nPhone: (586) 817-0654 \nContact 2: Denver Laabs\nEmail: Denver.laabs@scouting.org\nPhone: (248) 338-0035 x124 \nRegister Now\n\n    Download the PDF file .
URL:https://www.bsator.com/event/10th-annual-great-lakes-fsc-council-trade-o-ree-state-michigan/
LOCATION:D-Bar-A Scout Ranch (Wyckoff Lodge Dining Hall)\, 880 E. Sutton Road\, Metamora\, MI 48455
ATTACH;FMTTYPE=image/jpeg:https://www.bsator.com/wp-content/uploads/2017/01/IMG_0295.jpg
ORGANIZER;CN="Scott Wheeler":MAILTO:panterat97@juno.com
GEO:42.9717489;-83.2579737
X-APPLE-STRUCTURED-LOCATION;VALUE=URI;X-ADDRESS=D-Bar-A Scout Ranch (Wyckoff Lodge Dining Hall) 880 E. Sutton Road Metamora MI 48455;X-APPLE-RADIUS=500;X-TITLE=880 E. Sutton Road:geo:-83.2579737,42.9717489
END:VEVENT
BEGIN:VEVENT
DTSTART;TZID=UTC:20170317T160000
DTEND;TZID=UTC:20170318T160000
DTSTAMP:20260423T173503
CREATED:20160601T115930Z
LAST-MODIFIED:20170106T111053Z
UID:10000029-1489766400-1489852800@www.bsator.com
SUMMARY:9th Annual Great Lakes FSC Council Trade-O-Ree - State: Michigan
DESCRIPTION:Date: March 17-18\, 2017 \nAddress:\nD-Bar-A Scout Ranch (Wyckoff Lodge Dining Hall)\n880 E. Sutton Road\nMetamora\, MI 48455 \nTimes:\nFriday: 4pm – 11pm\nSaturday: 8am – 4pm \nContact 1: Scott Wheeler\nEmail: panterat97@juno.com\nPhone: (586) 817-0654 \nContact 2: Denver Laabs\nEmail: Denver.laabs@scouting.org\nPhone: (248) 338-0035 x124 \nFlyer: Click Here\n\nRegister Now \n\n    Download the PDF file .
URL:https://www.bsator.com/event/9th-annual-great-lakes-fsc-council-trade-o-ree-state-michigan/
LOCATION:D-Bar-A Scout Ranch (Wyckoff Lodge Dining Hall)\, 880 E. Sutton Road\, Metamora\, MI 48455
ATTACH;FMTTYPE=image/jpeg:https://www.bsator.com/wp-content/uploads/2017/01/IMG_0295.jpg
ORGANIZER;CN="Scott Wheeler":MAILTO:panterat97@juno.com
GEO:42.9717489;-83.2579737
X-APPLE-STRUCTURED-LOCATION;VALUE=URI;X-ADDRESS=D-Bar-A Scout Ranch (Wyckoff Lodge Dining Hall) 880 E. Sutton Road Metamora MI 48455;X-APPLE-RADIUS=500;X-TITLE=880 E. Sutton Road:geo:-83.2579737,42.9717489
END:VEVENT
END:VCALENDAR