BEGIN:VCALENDAR
VERSION:2.0
PRODID:-//Boy Scout Trade-O-Ree Calendar - ECPv6.15.20//NONSGML v1.0//EN
CALSCALE:GREGORIAN
METHOD:PUBLISH
X-ORIGINAL-URL:https://www.bsator.com
X-WR-CALDESC:Events for Boy Scout Trade-O-Ree Calendar
REFRESH-INTERVAL;VALUE=DURATION:PT1H
X-Robots-Tag:noindex
X-PUBLISHED-TTL:PT1H
BEGIN:VTIMEZONE
TZID:UTC
BEGIN:STANDARD
TZOFFSETFROM:+0000
TZOFFSETTO:+0000
TZNAME:UTC
DTSTART:20240101T000000
END:STANDARD
END:VTIMEZONE
BEGIN:VEVENT
DTSTART;TZID=UTC:20250607T100000
DTEND;TZID=UTC:20250607T160000
DTSTAMP:20260423T174122
CREATED:20250204T181544Z
LAST-MODIFIED:20250531T011631Z
UID:10000566-1749290400-1749312000@www.bsator.com
SUMMARY:CANCELED: Troop 1042 Annual Trade-O-Ree - State: Wisconsin
DESCRIPTION:THIS EVENT HAS BEEN CANCELEDDUE TO COMPETING EVENTS AND LOW TURNOUT.REFUNDS WILL BE ISSUED.\n \n \nDate: June 7\, 2025 \nAddress:\nLuxemburg Sportsman’s Club\nE2066 WI-54\nLuxemburg\, Wisconsin 54218 \nTimes:\nSaturday: 10am – 4pm \nContact: Shawn Niemann\nPhone: (920) 366-4685\nEmail: luxscoutmaster@gmail.com \n \nTrade-O-Ree Flyer\n\n\n    Download the PDF file .
URL:https://www.bsator.com/event/troop-1042-annual-trade-o-ree-state-wisconsin/
LOCATION:Luxemburg Sportsman’s Club\, E2066 WI-54\, Luxemburg\, WI\, 54218\, United States
ATTACH;FMTTYPE=image/jpeg:https://www.bsator.com/wp-content/uploads/2025/02/ezgif-4532e4e406b04.jpg
ORGANIZER;CN="Shawn Niemann":MAILTO:luxscoutmaster@gmail.com
END:VEVENT
END:VCALENDAR