BEGIN:VCALENDAR
VERSION:2.0
PRODID:-//Boy Scout Trade-O-Ree Calendar - ECPv6.15.20//NONSGML v1.0//EN
CALSCALE:GREGORIAN
METHOD:PUBLISH
X-ORIGINAL-URL:https://www.bsator.com
X-WR-CALDESC:Events for Boy Scout Trade-O-Ree Calendar
REFRESH-INTERVAL;VALUE=DURATION:PT1H
X-Robots-Tag:noindex
X-PUBLISHED-TTL:PT1H
BEGIN:VTIMEZONE
TZID:UTC
BEGIN:STANDARD
TZOFFSETFROM:+0000
TZOFFSETTO:+0000
TZNAME:UTC
DTSTART:20220101T000000
END:STANDARD
END:VTIMEZONE
BEGIN:VEVENT
DTSTART;TZID=UTC:20240510T150000
DTEND;TZID=UTC:20240511T160000
DTSTAMP:20260423T201411
CREATED:20231006T033033Z
LAST-MODIFIED:20231006T034017Z
UID:10000298-1715353200-1715443200@www.bsator.com
SUMMARY:2024 Golden Gate Area Trade-O-Ree - State: California
DESCRIPTION:Date: May 10-11\, 2024 \nAddress:\nCamp Herms – Main Lodge\n1100 James Pl\nEl Cerrito\, CA 94530 \nTimes:\nFriday: 3pm – 11pm\nSaturday: 9am – 4pm \nContact: Steve Kline\nEmail: tor@oa-yerbabuena.org\nPhone: (510) 584-6081 \n\n \nTrade-O-Ree Flyer\n\n\n    Download the PDF file .
URL:https://www.bsator.com/event/2024-golden-gate-area-trade-o-ree-state-california/
LOCATION:Camp Herms\, 1100 James Pl\, El Cerrito\, CA\, 94530\, United States
ATTACH;FMTTYPE=image/jpeg:https://www.bsator.com/wp-content/uploads/2022/08/IMG_4138a.jpg
ORGANIZER;CN="Steve Kline":MAILTO:TOR@YerbaBuena.GGACBSA.ORG
END:VEVENT
BEGIN:VEVENT
DTSTART;TZID=UTC:20230512T150000
DTEND;TZID=UTC:20230513T160000
DTSTAMP:20260423T201411
CREATED:20220812T234048Z
LAST-MODIFIED:20230331T032804Z
UID:10000449-1683903600-1683993600@www.bsator.com
SUMMARY:2023 Golden Gate Area Trade-O-Ree - State: California
DESCRIPTION:Date: May 12-13\, 2023 \nAddress:\nCamp Herms – Main Lodge\n1100 James Pl\nEl Cerrito\, CA 94530 \nTimes:\nFriday: 3pm – 11pm\nSaturday: 9am – 4pm \nContact: Steve Kline\nEmail: TOR@YerbaBuena.GGACBSA.ORG\nPhone: (510) 584-6081 \n\n \nTrade-O-Ree Flyer\n\n\n    Download the PDF file .
URL:https://www.bsator.com/event/2023-golden-gate-area-trade-o-ree-state-california/
LOCATION:Camp Herms\, 1100 James Pl\, El Cerrito\, CA\, 94530\, United States
ATTACH;FMTTYPE=image/jpeg:https://www.bsator.com/wp-content/uploads/2022/08/IMG_4138a.jpg
ORGANIZER;CN="Steve Kline":MAILTO:TOR@YerbaBuena.GGACBSA.ORG
END:VEVENT
END:VCALENDAR