BEGIN:VCALENDAR
VERSION:2.0
PRODID:-//Boy Scout Trade-O-Ree Calendar - ECPv6.15.20//NONSGML v1.0//EN
CALSCALE:GREGORIAN
METHOD:PUBLISH
X-ORIGINAL-URL:https://www.bsator.com
X-WR-CALDESC:Events for Boy Scout Trade-O-Ree Calendar
REFRESH-INTERVAL;VALUE=DURATION:PT1H
X-Robots-Tag:noindex
X-PUBLISHED-TTL:PT1H
BEGIN:VTIMEZONE
TZID:UTC
BEGIN:STANDARD
TZOFFSETFROM:+0000
TZOFFSETTO:+0000
TZNAME:UTC
DTSTART:20170101T000000
END:STANDARD
END:VTIMEZONE
BEGIN:VEVENT
DTSTART;TZID=UTC:20190510T170000
DTEND;TZID=UTC:20190511T170000
DTSTAMP:20260423T223105
CREATED:20190214T192500Z
LAST-MODIFIED:20190214T193019Z
UID:10000124-1557507600-1557594000@www.bsator.com
SUMMARY:23rd Annual Michigan Crossroads Council Trade-O-Ree
DESCRIPTION:Date: May 10-11\, 2019 \nAddress:\nMonroe County Fairgrounds (Glen Stock Building)\n3775 S. Custer Road\nMonroe\, MI 48161 \nTimes:\nFriday: 5pm – 9pm\nSaturday: 9:30am – 5pm \nContact 1: Sue Johnson\nEmail: warnie@comcast.net\nPhone: (734) 658-9125 \n\n    Download the PDF file .
URL:https://www.bsator.com/event/23rd-annual-michigan-crossroads-council-trade-o-ree/
LOCATION:Monroe County Fairgrounds\, 3775 S. Custer Road\, Monroe\, MI\, 48161\, United States
ATTACH;FMTTYPE=image/jpeg:https://www.bsator.com/wp-content/uploads/2016/06/SWAPSHOP_zpsd7821994-4-1.jpg.opt430x360o00s430x360-4-1.jpg
ORGANIZER;CN="Sue Johnson":MAILTO:warnie@comcast.net
END:VEVENT
BEGIN:VEVENT
DTSTART;TZID=UTC:20180511T170000
DTEND;TZID=UTC:20180512T170000
DTSTAMP:20260423T223105
CREATED:20171020T050151Z
LAST-MODIFIED:20171107T091749Z
UID:10000187-1526058000-1526144400@www.bsator.com
SUMMARY:Southern Shores Field Service Council | Michigan Crossroads Council Trade-O-Ree
DESCRIPTION:Download the PDF file .
URL:https://www.bsator.com/event/southern-shores-field-service-council-michigan-crossroads-council-trade-o-ree/
LOCATION:Monroe County Fairgrounds\, 3775 S. Custer Road\, Monroe\, MI\, 48161\, United States
ATTACH;FMTTYPE=image/jpeg:https://www.bsator.com/wp-content/uploads/2016/06/SWAPSHOP_zpsd7821994-4-1.jpg.opt430x360o00s430x360-4-1.jpg
ORGANIZER;CN="Sue Johnson":MAILTO:warnie@comcast.net
END:VEVENT
END:VCALENDAR