BEGIN:VCALENDAR
VERSION:2.0
PRODID:-//Boy Scout Trade-O-Ree Calendar - ECPv6.15.20//NONSGML v1.0//EN
CALSCALE:GREGORIAN
METHOD:PUBLISH
X-WR-CALNAME:Boy Scout Trade-O-Ree Calendar
X-ORIGINAL-URL:https://www.bsator.com
X-WR-CALDESC:Events for Boy Scout Trade-O-Ree Calendar
REFRESH-INTERVAL;VALUE=DURATION:PT1H
X-Robots-Tag:noindex
X-PUBLISHED-TTL:PT1H
BEGIN:VTIMEZONE
TZID:UTC
BEGIN:STANDARD
TZOFFSETFROM:+0000
TZOFFSETTO:+0000
TZNAME:UTC
DTSTART:20210101T000000
END:STANDARD
END:VTIMEZONE
BEGIN:VEVENT
DTSTART;TZID=UTC:20240927T170000
DTEND;TZID=UTC:20240928T160000
DTSTAMP:20260423T195651
CREATED:20240528T150248Z
LAST-MODIFIED:20240929T035220Z
UID:10000532-1727456400-1727539200@www.bsator.com
SUMMARY:2024 Nevada Area Council Trade-O-Ree
DESCRIPTION:Date: September 27-28\, 2024 \nAddress:\nHuffaker Elementary School\n980 Wheatland Rd\nReno\, Nevada 89511 \nTimes:\nFriday: 5pm – 10pm\nSaturday: 9am – 4pm \nContact: Tammy Rodeback\nEmail: tammy.rodeback@scouting.org\nPhone: (775) 787-1111 \nCome learn the fun of Patch trading!   \nFriday evening you can join with Scouts and Scouters from a variety of states and trade / buy patches.  You will learn how to make the best trade and what to look for in a trade.  \nSaturday will be more buying\, selling\, trading\, silent auctions\, and a live auction! \nWe will also be holding 2 merit badge classes for Scouts BSA members. We are offering Scouting Heritage and Collections Merit Badges beginning at 9am.  \nGeneral admission- $10 (entry fee and event CSP)  \nTable- $20 (entry fee\, table\, event CSP and lunch)  \nMerit Badge Class- $10 (entry to event\, MB classes\, patch trading “starter kit” and event CSP) \nLunch- ($10)  \n\n \nTrade-O-Ree Flyer\n\n\n    Download the PDF file .
URL:https://www.bsator.com/event/2024-nevada-area-council-trade-o-ree/
LOCATION:Huffaker Elementary School\, 980 Wheatland Rd\, Reno\, NV\, 89511\, United States
ATTACH;FMTTYPE=image/jpeg:https://www.bsator.com/wp-content/uploads/2024/05/461481341_925153702978638_7841374924402268420_n.jpg
ORGANIZER;CN="Tammy Rodeback":MAILTO:tammy.rodeback@scouting.org
END:VEVENT
BEGIN:VEVENT
DTSTART;TZID=UTC:20230804T170000
DTEND;TZID=UTC:20230805T160000
DTSTAMP:20260423T195651
CREATED:20230422T052238Z
LAST-MODIFIED:20230716T005522Z
UID:10000481-1691168400-1691251200@www.bsator.com
SUMMARY:POSTPONED: 2023 Nevada Area Council Trade-O-Ree
DESCRIPTION:Date: August 4-5\, 2023\nThis event has been postponed to a future date!!! \nAddress:\nBishop Manogue High School\n110 Bishop Manogue Dr.\nReno\, NV 89511 \nTimes:\nFriday: 5pm – 10pm\nSaturday: 9am – 4pm \nContact: Tammy Rodeback\nEmail: tammy.rodeback@scouting.org\nPhone: (775) 787-1111 \n\n \nTrade-O-Ree Flyer\n\n\n    Download the PDF file .
URL:https://www.bsator.com/event/2023-nevada-area-council-trade-o-ree/
LOCATION:Bishop Manogue High School\, 110 Bishop Manogue Dr.\, Reno\, NV\, 89511\, United States
ATTACH;FMTTYPE=image/png:https://www.bsator.com/wp-content/uploads/2023/04/thumbnail.png
ORGANIZER;CN="Tammy Rodeback":MAILTO:tammy.rodeback@scouting.org
END:VEVENT
BEGIN:VEVENT
DTSTART;TZID=UTC:20221028T170000
DTEND;TZID=UTC:20221029T160000
DTSTAMP:20260423T195651
CREATED:20220610T070553Z
LAST-MODIFIED:20221021T190927Z
UID:10000244-1666976400-1667059200@www.bsator.com
SUMMARY:Nevada Area Council Trade-O-Ree
DESCRIPTION:I was informed of a venue change. The new address is listed below.\n \n \nDate: October 28-29\, 2022 \nAddress:\nOur Lady of the Snows School\n1125 Lander Street\nReno\, NV 89509 \nTimes:\nFriday: 5pm – 10pm\nSaturday: 9am – 4pm \nContact: Tammy Rodeback\nEmail: tammy.rodeback@scouting.org\nPhone: (775) 787-1111 \n\n \nTrade-O-Ree Flyer\n\n\n    Download the PDF file .
URL:https://www.bsator.com/event/nevada-area-council-trade-o-ree/
LOCATION:Reno-Sparks Livestock Events Center\, 1350 N Wells Ave\, Reno\, NV\, 89512-2447\, United States
ATTACH;FMTTYPE=image/png:https://www.bsator.com/wp-content/uploads/2022/06/screenshot-2022-05-10-125249.png
ORGANIZER;CN="Tammy Rodeback":MAILTO:tammy.rodeback@scouting.org
END:VEVENT
END:VCALENDAR