BEGIN:VCALENDAR
VERSION:2.0
PRODID:-//Boy Scout Trade-O-Ree Calendar - ECPv6.15.20//NONSGML v1.0//EN
CALSCALE:GREGORIAN
METHOD:PUBLISH
X-WR-CALNAME:Boy Scout Trade-O-Ree Calendar
X-ORIGINAL-URL:https://www.bsator.com
X-WR-CALDESC:Events for Boy Scout Trade-O-Ree Calendar
REFRESH-INTERVAL;VALUE=DURATION:PT1H
X-Robots-Tag:noindex
X-PUBLISHED-TTL:PT1H
BEGIN:VTIMEZONE
TZID:UTC
BEGIN:STANDARD
TZOFFSETFROM:+0000
TZOFFSETTO:+0000
TZNAME:UTC
DTSTART:20250101T000000
END:STANDARD
END:VTIMEZONE
BEGIN:VEVENT
DTSTART;TZID=UTC:20260613T090000
DTEND;TZID=UTC:20260613T150000
DTSTAMP:20260423T144018
CREATED:20251207T033959Z
LAST-MODIFIED:20260122T182218Z
UID:10000595-1781341200-1781362800@www.bsator.com
SUMMARY:Walamootkin Lodge 336 - 80th Anniversary Dinner and Trade-O-Ree - State: Washington
DESCRIPTION:Date: June 13\, 2026 \nAddress:\nCentral United Protestant Church\n1124 Stevens Drive\nRichland\, WA 99354 \nTimes:\nSaturday: 9am – 3pm \nContact: Bill Nelson\nEmail: wichne@gmail.com\nPhone: 301-367-6398 \nContact: Ted Weber (Section G14 Adviser)\nEmail: g14adviser.oa@gmail.com\nPhone: ? \n\n \nTrade-O-Ree Flyer\n\n\n    Download the PDF file .
URL:https://www.bsator.com/event/walamootkin-lodge-336-80th-anniversary-dinner-and-trade-o-ree-state-washington/
LOCATION:Central United Protestant Church\, 1124 Stevens Drive\, Richland\, WA\, 99354\, United States
ATTACH;FMTTYPE=image/jpeg:https://www.bsator.com/wp-content/uploads/2016/06/SWAPSHOP_zpsd7821994-4-1.jpg.opt430x360o00s430x360-4-1.jpg
ORGANIZER;CN="Bill Nelson":MAILTO:wichne@gmail.com
END:VEVENT
END:VCALENDAR