BEGIN:VCALENDAR
VERSION:2.0
PRODID:-//Boy Scout Trade-O-Ree Calendar - ECPv6.15.20//NONSGML v1.0//EN
CALSCALE:GREGORIAN
METHOD:PUBLISH
X-WR-CALNAME:Boy Scout Trade-O-Ree Calendar
X-ORIGINAL-URL:https://www.bsator.com
X-WR-CALDESC:Events for Boy Scout Trade-O-Ree Calendar
REFRESH-INTERVAL;VALUE=DURATION:PT1H
X-Robots-Tag:noindex
X-PUBLISHED-TTL:PT1H
BEGIN:VTIMEZONE
TZID:UTC
BEGIN:STANDARD
TZOFFSETFROM:+0000
TZOFFSETTO:+0000
TZNAME:UTC
DTSTART:20170101T000000
END:STANDARD
END:VTIMEZONE
BEGIN:VEVENT
DTSTART;TZID=UTC:20260213T150000
DTEND;TZID=UTC:20260214T150000
DTSTAMP:20260423T173935
CREATED:20250711T032458Z
LAST-MODIFIED:20250711T034839Z
UID:10000586-1770994800-1771081200@www.bsator.com
SUMMARY:6th Annual Greater Tampa Bay Area Trade-O-Ree - State: Florida
DESCRIPTION:Date: February 13-14\, 2026 \nAddress:\nSand Hill Scout Reservation\n11210 Cortez Boulevard\nBrooksville\, FL 34613 \nTimes:\nFriday: 3pm -10pm\nSaturday: 9am – 3pm \nContact: Tim Faughnan\nEmail: tim.faughnan@gmail.com\nPhone: (727) 534-6942 \nContact: George Romagnoli\nEmail: pascohouser@gmail.com\nPhone: (727) 992-2755 \n \nReserve your table today! (Reservations close 01/31/2026\, act fast!) \n\n \nTrade-O-Ree Flyer\n\n\n    Download the PDF file .
URL:https://www.bsator.com/event/6th-annual-greater-tampa-bay-area-trade-o-ree-state-florida/
LOCATION:Sand Hill Scout Reservation\, 11210 Cortez Boulevard\, Brooksville\, FL\, 34613\, United States
ATTACH;FMTTYPE=image/jpeg:https://www.bsator.com/wp-content/uploads/2018/05/44426272_252452038787415_7503875832587223040_n.jpg
ORGANIZER;CN="Tim Faughnan":MAILTO:tim.faughnan@gmail.com
END:VEVENT
BEGIN:VEVENT
DTSTART;TZID=UTC:20250207T150000
DTEND;TZID=UTC:20250208T150000
DTSTAMP:20260423T173935
CREATED:20240720T051430Z
LAST-MODIFIED:20250711T031305Z
UID:10000537-1738940400-1739026800@www.bsator.com
SUMMARY:5th Annual Greater Tampa Bay Area Trade-O-Ree - State: Florida
DESCRIPTION:Date: February 7-8\, 2025 \nAddress:\nSand Hill Scout Reservation\n11210 Cortez Boulevard\nBrooksville\, FL 34613 \nTimes:\nFriday: 3pm – 10pm\nSaturday: 9am – 3pm \nContact: Tim Faughnan\nEmail: tim.faughnan@gmail.com\nPhone: (727) 534-6942 \n\n \nTrade-O-Ree Flyer\n\n[PDF]https://www.bsator.com/wp-content/uploads/2024/07/Greater-Tampa-TOR.pdf[/PDF]
URL:https://www.bsator.com/event/5th-annual-greater-tampa-bay-area-trade-o-ree-state-florida/
LOCATION:Sand Hill Scout Reservation\, 11210 Cortez Boulevard\, Brooksville\, FL\, 34613\, United States
ATTACH;FMTTYPE=image/jpeg:https://www.bsator.com/wp-content/uploads/2018/05/44426272_252452038787415_7503875832587223040_n.jpg
ORGANIZER;CN="Tim Faughnan":MAILTO:tim.faughnan@gmail.com
END:VEVENT
BEGIN:VEVENT
DTSTART;TZID=UTC:20240217T100000
DTEND;TZID=UTC:20240218T140000
DTSTAMP:20260423T173935
CREATED:20230331T035720Z
LAST-MODIFIED:20230331T035814Z
UID:10000478-1708164000-1708264800@www.bsator.com
SUMMARY:4th Annual Greater Tampa Bay Area Trade-O-Ree - State: Florida
DESCRIPTION:Date: February 17-18\, 2024 \nAddress:\nCamp Soule\n2201 Soule Road\nClearwater\, FL 33759 \nTimes:\nSaturday: 10am – 11pm\nSunday: 9am – 2pm \nContact 1: Tim Faughnan\nEmail: tim.faughnan@gmail.com\nPhone: (727) 534-6942 \n\n    Download the PDF file .
URL:https://www.bsator.com/event/4th-annual-greater-tampa-bay-area-trade-o-ree-state-florida-2/
LOCATION:Camp Soule\, 2201 Soule Road\, Clearwater\, FL\, 33759\, United States
ATTACH;FMTTYPE=image/jpeg:https://www.bsator.com/wp-content/uploads/2018/05/44426272_252452038787415_7503875832587223040_n.jpg
ORGANIZER;CN="Tim Faughnan":MAILTO:tim.faughnan@gmail.com
END:VEVENT
BEGIN:VEVENT
DTSTART;TZID=UTC:20210917T150000
DTEND;TZID=UTC:20210918T150000
DTSTAMP:20260423T173935
CREATED:20210217T011621Z
LAST-MODIFIED:20210913T134519Z
UID:10000372-1631890800-1631977200@www.bsator.com
SUMMARY:CANCELED: 4th Annual Greater Tampa Bay Area Trade-O-Ree - State: Florida
DESCRIPTION:THIS EVENT HAS BEEN CANCELEDDUE TO THE CORONAVIRUS\n \n \nMessage from TOR Organizer:\n  \nGood Evening Traders! Unfortunately\, we will be cancelling the Greater Tampa Bay Area Trade O’Ree for 2021. We will be issuing refunds back to all the vendors who had reserved tables. The safety and well being of participants is our top concern. We are hoping that we will once again be able to come together again in 2022.\n \nIn Scouting-\nTim Faughnan\nGTBAC Training Chairman\n\nDate: September 17-18\, 2021 \nAddress:\nCamp Soule\n2201 Soule Road\nClearwater\, FL 33759 \nTimes:\nFriday: 3pm – 12am\nSaturday: 9am – 3pm \nContact 1: Tim Faughnan\nEmail: tim.faughnan@gmail.com\nPhone: (727) 534-6942 \n\n    Download the PDF file .
URL:https://www.bsator.com/event/4th-annual-greater-tampa-bay-area-trade-o-ree-state-florida/
LOCATION:Camp Soule\, 2201 Soule Road\, Clearwater\, FL\, 33759\, United States
ATTACH;FMTTYPE=image/jpeg:https://www.bsator.com/wp-content/uploads/2018/05/44426272_252452038787415_7503875832587223040_n.jpg
ORGANIZER;CN="Tim Faughnan":MAILTO:tim.faughnan@gmail.com
END:VEVENT
BEGIN:VEVENT
DTSTART;TZID=UTC:20200918T120000
DTEND;TZID=UTC:20200919T150000
DTSTAMP:20260423T173935
CREATED:20200109T073155Z
LAST-MODIFIED:20200109T073314Z
UID:10000339-1600430400-1600527600@www.bsator.com
SUMMARY:3rd Annual Greater Tampa Bay Area Trade-O-Ree - State: Florida
DESCRIPTION:Date: September 18-19\, 2020 \nAddress:\nCamp Soule\n2201 Soule Road\nClearwater\, FL 33759 \nTimes:\nFriday: 12pm – 11pm\nSaturday: 9am – 3pm \nContact 1: Tim Faughnan\nEmail: tim.faughnan@gmail.com\nPhone: (727) 534-6942 \n\n    Download the PDF file .
URL:https://www.bsator.com/event/3rd-annual-greater-tampa-bay-area-trade-o-ree-state-florida/
LOCATION:Camp Soule\, 2201 Soule Road\, Clearwater\, FL\, 33759\, United States
ATTACH;FMTTYPE=image/jpeg:https://www.bsator.com/wp-content/uploads/2018/05/44426272_252452038787415_7503875832587223040_n.jpg
ORGANIZER;CN="Tim Faughnan":MAILTO:tim.faughnan@gmail.com
END:VEVENT
BEGIN:VEVENT
DTSTART;TZID=UTC:20190920T150000
DTEND;TZID=UTC:20190921T150000
DTSTAMP:20260423T173935
CREATED:20190129T031451Z
LAST-MODIFIED:20190129T031622Z
UID:10000287-1568991600-1569078000@www.bsator.com
SUMMARY:2019 Greater Tampa Bay Area Trade-O-Ree - State: Florida
DESCRIPTION:Date: September 20-21\, 2019 \nAddress:\nTampa Bay Area Council\n13228 N Central Ave.\nTampa\, FL 33612 \nTimes:\nFriday: 3pm – 12am\nSaturday: 9am – 3pm \nContact 1: Tim Faughnan\nEmail: tim.faughnan@gmail.com\nPhone: (727) 534-6942 \n\n    Download the PDF file .
URL:https://www.bsator.com/event/2019-greater-tampa-bay-area-trade-o-ree-state-florida/
LOCATION:Tampa Bay Area Council\, 13228 N Central Ave.\, Tampa\, FL\, 33612\, United States
ATTACH;FMTTYPE=image/jpeg:https://www.bsator.com/wp-content/uploads/2018/05/44426272_252452038787415_7503875832587223040_n.jpg
ORGANIZER;CN="Tim Faughnan":MAILTO:tim.faughnan@gmail.com
END:VEVENT
BEGIN:VEVENT
DTSTART;TZID=UTC:20180914T150000
DTEND;TZID=UTC:20180915T150000
DTSTAMP:20260423T173935
CREATED:20180525T054519Z
LAST-MODIFIED:20190129T031149Z
UID:10000247-1536937200-1537023600@www.bsator.com
SUMMARY:Greater Tampa Bay Area Trade-O-Ree - State: Florida
DESCRIPTION:Date: September 14-15\, 2018 \nAddress:\nTampa Bay Area Council\n13228 N Central Ave.\nTampa\, FL 33612 \nTimes:\nFriday: 3pm – 12am\nSaturday: 9am – 3pm \nContact 1: Tim Faughnan\nEmail: tim.faughnan@gmail.com\nPhone: (727) 534-6942 \n\n    Download the PDF file .
URL:https://www.bsator.com/event/greater-tampa-bay-area-trade-o-ree-state-florida/
LOCATION:Tampa Bay Area Council\, 13228 N Central Ave.\, Tampa\, FL\, 33612\, United States
ATTACH;FMTTYPE=image/jpeg:https://www.bsator.com/wp-content/uploads/2018/05/44426272_252452038787415_7503875832587223040_n.jpg
ORGANIZER;CN="Tim Faughnan":MAILTO:tim.faughnan@gmail.com
END:VEVENT
END:VCALENDAR