BEGIN:VCALENDAR
VERSION:2.0
PRODID:-//Boy Scout Trade-O-Ree Calendar - ECPv6.15.20//NONSGML v1.0//EN
CALSCALE:GREGORIAN
METHOD:PUBLISH
X-ORIGINAL-URL:https://www.bsator.com
X-WR-CALDESC:Events for Boy Scout Trade-O-Ree Calendar
REFRESH-INTERVAL;VALUE=DURATION:PT1H
X-Robots-Tag:noindex
X-PUBLISHED-TTL:PT1H
BEGIN:VTIMEZONE
TZID:UTC
BEGIN:STANDARD
TZOFFSETFROM:+0000
TZOFFSETTO:+0000
TZNAME:UTC
DTSTART:20230101T000000
END:STANDARD
END:VTIMEZONE
BEGIN:VEVENT
DTSTART;TZID=UTC:20241019T170000
DTEND;TZID=UTC:20241019T170000
DTSTAMP:20260423T173352
CREATED:20231231T060836Z
LAST-MODIFIED:20240917T172523Z
UID:10000524-1729357200-1729357200@www.bsator.com
SUMMARY:4th Annual Sakima Lodge Trade-O-Ree - State: Indiana
DESCRIPTION:Date: October 19\, 2024 \nAddress:\nPotato Creek State Park\n25601 Sate Road 4\nNorth Liberty\, IN 46554 \nTimes:\nSaturday: Coming Soon \nContact: Jeff Smith\nEmail: j.smith@scouting.org\nPhone: ? \nContact: Tim Monaghan\nEmail: timgmonaghan@gmail.com\nPhone: ? \n\n \nTrade-O-Ree Flyer
URL:https://www.bsator.com/event/4th-annual-sakima-lodge-trade-o-ree-state-indiana/
LOCATION:Potato Creek State Park\, 25601 Sate Road 4\, North Liberty\, IN\, 46554\, United States
ATTACH;FMTTYPE=image/jpeg:https://www.bsator.com/wp-content/uploads/2020/12/tor-header.jpg
END:VEVENT
END:VCALENDAR