BEGIN:VCALENDAR
VERSION:2.0
PRODID:-//Boy Scout Trade-O-Ree Calendar - ECPv6.15.20//NONSGML v1.0//EN
CALSCALE:GREGORIAN
METHOD:PUBLISH
X-WR-CALNAME:Boy Scout Trade-O-Ree Calendar
X-ORIGINAL-URL:https://www.bsator.com
X-WR-CALDESC:Events for Boy Scout Trade-O-Ree Calendar
REFRESH-INTERVAL;VALUE=DURATION:PT1H
X-Robots-Tag:noindex
X-PUBLISHED-TTL:PT1H
BEGIN:VTIMEZONE
TZID:UTC
BEGIN:STANDARD
TZOFFSETFROM:+0000
TZOFFSETTO:+0000
TZNAME:UTC
DTSTART:20260101T000000
END:STANDARD
END:VTIMEZONE
BEGIN:VEVENT
DTSTART;TZID=UTC:20270122T100000
DTEND;TZID=UTC:20270123T230000
DTSTAMP:20260423T144016
CREATED:20260206T031900Z
LAST-MODIFIED:20260216T153304Z
UID:10000626-1800612000-1800745200@www.bsator.com
SUMMARY:48th Annual Dallas National Trade-O-Ree – State: Texas
DESCRIPTION:Date: January 22-23\, 2027 \nAddress:\nGrapevine Convention Center\n1209 South Main Street\nGrapevine\, TX 76051 \nTimes:\nFriday: 10am – 11pm (Dealer Setup at 9am)\nSaturday: 9am – 11pm \nContact: Tom Quinn\nEmail: tomquinnjr56@gmail.com\nPhone: (903) 277-0571 \nRegister Now\n\n \nTrade-O-Ree Flyer\n\n\n    Download the PDF file .
URL:https://www.bsator.com/event/48th-annual-dallas-national-trade-o-ree-state-texas/
LOCATION:Grapevine Convention Center\, 1209 South Main Street\, Grapevine\, TX 76051
ATTACH;FMTTYPE=image/jpeg:https://www.bsator.com/wp-content/uploads/2016/06/1010206_250086738501514_1011829559_n-768x576.jpg
ORGANIZER;CN="Tom Quinn":MAILTO:tomquinnjr56@gmail.com
GEO:32.9288972;-97.0762493
X-APPLE-STRUCTURED-LOCATION;VALUE=URI;X-ADDRESS=Grapevine Convention Center 1209 South Main Street Grapevine TX 76051;X-APPLE-RADIUS=500;X-TITLE=1209 South Main Street:geo:-97.0762493,32.9288972
END:VEVENT
END:VCALENDAR