BEGIN:VCALENDAR
VERSION:2.0
PRODID:-//Boy Scout Trade-O-Ree Calendar - ECPv6.15.20//NONSGML v1.0//EN
CALSCALE:GREGORIAN
METHOD:PUBLISH
X-WR-CALNAME:Boy Scout Trade-O-Ree Calendar
X-ORIGINAL-URL:https://www.bsator.com
X-WR-CALDESC:Events for Boy Scout Trade-O-Ree Calendar
REFRESH-INTERVAL;VALUE=DURATION:PT1H
X-Robots-Tag:noindex
X-PUBLISHED-TTL:PT1H
BEGIN:VTIMEZONE
TZID:UTC
BEGIN:STANDARD
TZOFFSETFROM:+0000
TZOFFSETTO:+0000
TZNAME:UTC
DTSTART:20160101T000000
END:STANDARD
END:VTIMEZONE
BEGIN:VEVENT
DTSTART;TZID=UTC:20170224T180000
DTEND;TZID=UTC:20170225T150000
DTSTAMP:20260423T213229
CREATED:20161017T195734Z
LAST-MODIFIED:20170207T033437Z
UID:10000140-1487959200-1488034800@www.bsator.com
SUMMARY:Wiatava Lodge Trade-O-Ree - State: California
DESCRIPTION:Date: February 24-25\, 2017 \nAddress:\nOrange County Council Service Center\n1211 East Dyer Road\nSanta Ana\, CA  92705 \nTimes:\nFriday: 6pm – 9pm\nSaturday: 8am – 3pm \nContact 1: Tom Brashears\nEmail: socaltomisme@yahoo.com\nPhone: (714) 794-9198 \nFlyer: Click Here \n\n    Download the PDF file .
URL:https://www.bsator.com/event/wiatava-lodge-trade-o-ree-state-california/
LOCATION:Orange County Council Service Center\, 1211 East Dyer Road\, Santa Ana\, CA\, 92705\, United States
ATTACH;FMTTYPE=image/jpeg:https://www.bsator.com/wp-content/uploads/2016/05/10623854_10203619238790038_3319654404955500227_o.jpg.opt415x277o00s415x277.jpg
ORGANIZER;CN="Tom Brashears":MAILTO:socaltomisme@yahoo.com
GEO:33.7092264;-117.8583109
X-APPLE-STRUCTURED-LOCATION;VALUE=URI;X-ADDRESS=Orange County Council Service Center 1211 East Dyer Road Santa Ana CA 92705 United States;X-APPLE-RADIUS=500;X-TITLE=1211 East Dyer Road:geo:-117.8583109,33.7092264
END:VEVENT
END:VCALENDAR