BEGIN:VCALENDAR
VERSION:2.0
PRODID:-//Boy Scout Trade-O-Ree Calendar - ECPv6.15.20//NONSGML v1.0//EN
CALSCALE:GREGORIAN
METHOD:PUBLISH
X-WR-CALNAME:Boy Scout Trade-O-Ree Calendar
X-ORIGINAL-URL:https://www.bsator.com
X-WR-CALDESC:Events for Boy Scout Trade-O-Ree Calendar
REFRESH-INTERVAL;VALUE=DURATION:PT1H
X-Robots-Tag:noindex
X-PUBLISHED-TTL:PT1H
BEGIN:VTIMEZONE
TZID:UTC
BEGIN:STANDARD
TZOFFSETFROM:+0000
TZOFFSETTO:+0000
TZNAME:UTC
DTSTART:20180101T000000
END:STANDARD
END:VTIMEZONE
BEGIN:VEVENT
DTSTART;TZID=UTC:20190823T160000
DTEND;TZID=UTC:20190824T150000
DTSTAMP:20260423T213124
CREATED:20181207T170017Z
LAST-MODIFIED:20181207T170017Z
UID:10000272-1566576000-1566658800@www.bsator.com
SUMMARY:6th Annual Occoneechee Lodge 104 Trade-O-Ree – State: North Carolina
DESCRIPTION:Date: August 23-24\, 2019 \nAddress:\nCamp Durant (Grand Lodge Dining Hall)\n4637 Old Carthage Rd.\nCarthage\, NC 28327 \nTimes:\nFriday: 4pm – 12am\nSaturday: 9am – 3pm \nContact 1: Matt Breneman\nEmail: mkbreneman@aol.com\nPhone: ? \nContact 2: Tyler Perkinson\nEmail: tperkins@bsamail.org\nPhone: ? \nRegister Now\n\n    Download the PDF file .
URL:https://www.bsator.com/event/6th-annual-occoneechee-lodge-104-trade-o-ree-state-north-carolina/
LOCATION:Camp Durant (Grand Lodge Dining Hall)\, 4637 Old Carthage Rd.\, Carthage\, NC 28327
ATTACH;FMTTYPE=image/jpeg:https://www.bsator.com/wp-content/uploads/2016/12/14064311_10209258917261489_4956445438124930068_n.jpg
ORGANIZER;CN="Matt Breneman":MAILTO:mkbreneman@aol.com
GEO:35.3421553;-79.5534724
X-APPLE-STRUCTURED-LOCATION;VALUE=URI;X-ADDRESS=Camp Durant (Grand Lodge Dining Hall) 4637 Old Carthage Rd. Carthage NC 28327;X-APPLE-RADIUS=500;X-TITLE=4637 Old Carthage Rd.:geo:-79.5534724,35.3421553
END:VEVENT
END:VCALENDAR