BEGIN:VCALENDAR
VERSION:2.0
PRODID:-//Boy Scout Trade-O-Ree Calendar - ECPv6.15.20//NONSGML v1.0//EN
CALSCALE:GREGORIAN
METHOD:PUBLISH
X-ORIGINAL-URL:https://www.bsator.com
X-WR-CALDESC:Events for Boy Scout Trade-O-Ree Calendar
REFRESH-INTERVAL;VALUE=DURATION:PT1H
X-Robots-Tag:noindex
X-PUBLISHED-TTL:PT1H
BEGIN:VTIMEZONE
TZID:UTC
BEGIN:STANDARD
TZOFFSETFROM:+0000
TZOFFSETTO:+0000
TZNAME:UTC
DTSTART:20160101T000000
END:STANDARD
END:VTIMEZONE
BEGIN:VEVENT
DTSTART;TZID=UTC:20170318T090000
DTEND;TZID=UTC:20170318T140000
DTSTAMP:20260423T193857
CREATED:20160813T081916Z
LAST-MODIFIED:20200221T081306Z
UID:10000005-1489827600-1489845600@www.bsator.com
SUMMARY:38th Annual Northeast Trade-O-Ree - State: New Jersey
DESCRIPTION:Date: March 18\, 2017 \nAddress:\nGuardian Angel RC Church\n320 Franklin Ave\nAllendale\, NJ 07401 \nTimes:\nSaturday: 9am – 2pm \nContact 1: Wayne Wharton\nEmail: wayne.wharton@verizon.net\nPhone: (201) 891-4076 \nContact 2: Ed Quinn\nEmail: nersmuseum@aol.com\nPhone: (201) 845-7777 \nContact 3: Tyler Wharton\nEmail: tyler.Wharton1@verizon.net\nPhone: ? \n\n    Download the PDF file .
URL:https://www.bsator.com/event/38th-annual-northeast-trade-o-ree-state-new-jersey/
LOCATION:Guardian Angel RC Church\, 320 Franklin Ave\, Allendale\, NJ\, 07401
ATTACH;FMTTYPE=image/jpeg:https://www.bsator.com/wp-content/uploads/2018/01/53910544_392176534929495_7993848742551748608_n.jpg
ORGANIZER;CN="Wayne Wharton":MAILTO:wayne.wharton@verizon.net
GEO:41.0300985;-74.1249689
X-APPLE-STRUCTURED-LOCATION;VALUE=URI;X-ADDRESS=Guardian Angel RC Church 320 Franklin Ave Allendale NJ 07401;X-APPLE-RADIUS=500;X-TITLE=320 Franklin Ave:geo:-74.1249689,41.0300985
END:VEVENT
END:VCALENDAR