BEGIN:VCALENDAR
VERSION:2.0
PRODID:-//Boy Scout Trade-O-Ree Calendar - ECPv6.15.20//NONSGML v1.0//EN
CALSCALE:GREGORIAN
METHOD:PUBLISH
X-WR-CALNAME:Boy Scout Trade-O-Ree Calendar
X-ORIGINAL-URL:https://www.bsator.com
X-WR-CALDESC:Events for Boy Scout Trade-O-Ree Calendar
REFRESH-INTERVAL;VALUE=DURATION:PT1H
X-Robots-Tag:noindex
X-PUBLISHED-TTL:PT1H
BEGIN:VTIMEZONE
TZID:UTC
BEGIN:STANDARD
TZOFFSETFROM:+0000
TZOFFSETTO:+0000
TZNAME:UTC
DTSTART:20250101T000000
END:STANDARD
END:VTIMEZONE
BEGIN:VEVENT
DTSTART;TZID=UTC:20261002T180000
DTEND;TZID=UTC:20261003T160000
DTSTAMP:20260423T143638
CREATED:20260323T070142Z
LAST-MODIFIED:20260323T164316Z
UID:10000631-1790964000-1791043200@www.bsator.com
SUMMARY:1st Annual Scenic City Trade-O-Ree - State: Tennessee
DESCRIPTION:Date: October 2-3\, 2026 \nAddress:\nClear Creek Church of Christ\n5612 Hixson Pike\nHixson\, TN 37343 \nTimes:\nFriday: 6pm -10pm (Vendor setup: 4:30pm – 6pm)\nSaturday: 8am – 4pm \nContact: Tim Faughnan\nEmail: tim.faughnan@gmail.com\nPhone: (727) 534-6942 \nContact: Wayne Williams\nEmail: wwchattscout@gmail.com\nPhone: (423) 774-5906 \n \nReserve your table today! \n\n \nTrade-O-Ree Flyer\n\n\n    Download the PDF file .
URL:https://www.bsator.com/event/1st-annual-scenic-city-trade-o-ree-state-tennessee/
LOCATION:Clear Creek Church of Christ (Gymnasium)\, 5612 Hixson Pike\, Hixson\, TN\, 37343\, United States
ATTACH;FMTTYPE=image/jpeg:https://www.bsator.com/wp-content/uploads/2016/06/SWAPSHOP_zpsd7821994-4-1.jpg.opt430x360o00s430x360-4-1.jpg
ORGANIZER;CN="Wayne Williams":MAILTO:wwchattscout@gmail.com
END:VEVENT
END:VCALENDAR