BEGIN:VCALENDAR
VERSION:2.0
PRODID:-//Boy Scout Trade-O-Ree Calendar - ECPv6.15.20//NONSGML v1.0//EN
CALSCALE:GREGORIAN
METHOD:PUBLISH
X-WR-CALNAME:Boy Scout Trade-O-Ree Calendar
X-ORIGINAL-URL:https://www.bsator.com
X-WR-CALDESC:Events for Boy Scout Trade-O-Ree Calendar
REFRESH-INTERVAL;VALUE=DURATION:PT1H
X-Robots-Tag:noindex
X-PUBLISHED-TTL:PT1H
BEGIN:VTIMEZONE
TZID:UTC
BEGIN:STANDARD
TZOFFSETFROM:+0000
TZOFFSETTO:+0000
TZNAME:UTC
DTSTART:20150101T000000
END:STANDARD
END:VTIMEZONE
BEGIN:VEVENT
DTSTART;TZID=UTC:20191207T090000
DTEND;TZID=UTC:20191207T150000
DTSTAMP:20260423T182422
CREATED:20191107T225534Z
LAST-MODIFIED:20191107T225632Z
UID:10000319-1575709200-1575730800@www.bsator.com
SUMMARY:29th Annual Old Corn Belt Trade-O-Ree - State: Illinois
DESCRIPTION:Date: December 7\, 2019 \nAddress:\nSt. Mary’s School Gym\n603 West Jackson Street\nBloomington\, IL 61701 \nTimes:\nSaturday: 9am – 3pm \nContact 1: Wilbur Williamson\nEmail: gnwscout@aol.com\nPhone: (309) 663-4259 \n\n    Download the PDF file .
URL:https://www.bsator.com/event/29th-annual-old-corn-belt-trade-o-ree-state-illinois/
LOCATION:St. Mary’s School Gym\, 603 West Jackson Street\, Bloomington\, IL\, 61701\, United States
ATTACH;FMTTYPE=image/jpeg:https://www.bsator.com/wp-content/uploads/2016/06/SWAPSHOP_zpsd7821994-4-1.jpg.opt430x360o00s430x360-4-1.jpg
ORGANIZER;CN="Wilbur Williamson":MAILTO:gnwscout@aol.com
GEO:40.4753137;-89.0000633
X-APPLE-STRUCTURED-LOCATION;VALUE=URI;X-ADDRESS=St. Mary’s School Gym 603 West Jackson Street Bloomington IL 61701 United States;X-APPLE-RADIUS=500;X-TITLE=603 West Jackson Street:geo:-89.0000633,40.4753137
END:VEVENT
BEGIN:VEVENT
DTSTART;TZID=UTC:20181201T090000
DTEND;TZID=UTC:20181201T150000
DTSTAMP:20260423T182422
CREATED:20180903T162141Z
LAST-MODIFIED:20180903T164228Z
UID:10000099-1543654800-1543676400@www.bsator.com
SUMMARY:28th Annual Old Corn Belt Trade-O-Ree - State: Illinois
DESCRIPTION:Date: December 1\, 2018 \nAddress:\nSt. Mary’s School Gym\n603 West Jackson Street\nBloomington\, IL 61701 \nTimes:\nSaturday: 9am – 3pm \nContact 1: Wilbur Williamson\nEmail: gnwscout@aol.com\nPhone: (309) 663-4259 \n\n    Download the PDF file .
URL:https://www.bsator.com/event/28th-annual-old-corn-belt-trade-o-ree-state-illinois/
LOCATION:St. Mary’s School Gym\, 603 West Jackson Street\, Bloomington\, IL\, 61701\, United States
ATTACH;FMTTYPE=image/jpeg:https://www.bsator.com/wp-content/uploads/2016/06/SWAPSHOP_zpsd7821994-4-1.jpg.opt430x360o00s430x360-4-1.jpg
ORGANIZER;CN="Wilbur Williamson":MAILTO:gnwscout@aol.com
GEO:40.4753137;-89.0000633
X-APPLE-STRUCTURED-LOCATION;VALUE=URI;X-ADDRESS=St. Mary’s School Gym 603 West Jackson Street Bloomington IL 61701 United States;X-APPLE-RADIUS=500;X-TITLE=603 West Jackson Street:geo:-89.0000633,40.4753137
END:VEVENT
BEGIN:VEVENT
DTSTART;TZID=UTC:20161203T090000
DTEND;TZID=UTC:20161203T150000
DTSTAMP:20260423T182422
CREATED:20160708T230020Z
LAST-MODIFIED:20160829T215835Z
UID:10000073-1480755600-1480777200@www.bsator.com
SUMMARY:Old Corn Belt Trade-O-Ree - State: Illinois
DESCRIPTION:Date: December 3\, 2016 \nAddress:\nSt. Mary’s School Gym\n527 West Jackson Street\nBloomington\, IL 61701 \nTimes:\nSaturday: 9am – 3pm \nContact 1: Bob Clark\nEmail: Bob.Clark@mcleancountyil.gov\nPhone: (309) 825-8232 \nContact 2: Wilbur Williamson\nEmail: gnwscout@aol.com\nPhone: (309) 663-4259 \nFlyer: Click Here\n\nRegister Now \n\n    Download the PDF file .
URL:https://www.bsator.com/event/old-corn-belt-trade-o-ree-state-illinois/
LOCATION:St. Mary’s School Gym\, 603 West Jackson Street\, Bloomington\, IL\, 61701\, United States
ATTACH;FMTTYPE=image/jpeg:https://www.bsator.com/wp-content/uploads/2016/05/SWAPSHOP_zpsd7821994-6.jpg.opt430x360o00s430x360-6.jpg
ORGANIZER;CN="Bob Clark":MAILTO:Bob.Clark@mcleancountyil.gov
GEO:40.4753137;-89.0000633
X-APPLE-STRUCTURED-LOCATION;VALUE=URI;X-ADDRESS=St. Mary’s School Gym 603 West Jackson Street Bloomington IL 61701 United States;X-APPLE-RADIUS=500;X-TITLE=603 West Jackson Street:geo:-89.0000633,40.4753137
END:VEVENT
END:VCALENDAR