BEGIN:VCALENDAR
VERSION:2.0
PRODID:-//Boy Scout Trade-O-Ree Calendar - ECPv6.15.20//NONSGML v1.0//EN
CALSCALE:GREGORIAN
METHOD:PUBLISH
X-ORIGINAL-URL:https://www.bsator.com
X-WR-CALDESC:Events for Boy Scout Trade-O-Ree Calendar
REFRESH-INTERVAL;VALUE=DURATION:PT1H
X-Robots-Tag:noindex
X-PUBLISHED-TTL:PT1H
BEGIN:VTIMEZONE
TZID:UTC
BEGIN:STANDARD
TZOFFSETFROM:+0000
TZOFFSETTO:+0000
TZNAME:UTC
DTSTART:20150101T000000
END:STANDARD
END:VTIMEZONE
BEGIN:VEVENT
DTSTART;TZID=UTC:20161119T080000
DTEND;TZID=UTC:20161119T160000
DTSTAMP:20260423T191309
CREATED:20160601T114043Z
LAST-MODIFIED:20160829T214444Z
UID:10000038-1479542400-1479571200@www.bsator.com
SUMMARY:1st Ever Illowa Council / Konepaka Ketiwa Trade-O-Ree - State: Iowa
DESCRIPTION:Date: November 19\, 2016 \nAddress:\nElks Lodge\n4400 W Central Park Ave.\nDavenport\, IA \nTimes:\nSaturday: 8am – 4pm (Dealer Set-up: 7:30am) \nContact 1: Shawn O’Neill\nEmail: shawno39neill@yahoo.com\nPhone: (309) 798-4070 \nContact 2: Zachary Beuthien\nEmail: zachary.beuthien@scouting.org\nPhone: (563) 388-7233 x102 \nFlyer: Click Here\n\nRegister Now \n\n    Download the PDF file .
URL:https://www.bsator.com/event/first-ever-illowa-council-konepaka-ketiwa-trade-o-ree-state-iowa/
LOCATION:Elks Lodge\, 4400 W Central Park Ave.\, Davenport\, IA
ATTACH;FMTTYPE=image/jpeg:https://www.bsator.com/wp-content/uploads/2016/06/SWAPSHOP_zpsd7821994-4.jpg.opt430x360o00s430x360-4.jpg
ORGANIZER;CN="Shawn O%E2%80%99Neill":MAILTO:shawno39neill@yahoo.com
GEO:41.546361;-90.63838
X-APPLE-STRUCTURED-LOCATION;VALUE=URI;X-ADDRESS=Elks Lodge 4400 W Central Park Ave. Davenport IA;X-APPLE-RADIUS=500;X-TITLE=4400 W Central Park Ave.:geo:-90.63838,41.546361
END:VEVENT
END:VCALENDAR