BEGIN:VCALENDAR
VERSION:2.0
PRODID:-//Boy Scout Trade-O-Ree Calendar - ECPv6.15.20//NONSGML v1.0//EN
CALSCALE:GREGORIAN
METHOD:PUBLISH
X-WR-CALNAME:Boy Scout Trade-O-Ree Calendar
X-ORIGINAL-URL:https://www.bsator.com
X-WR-CALDESC:Events for Boy Scout Trade-O-Ree Calendar
REFRESH-INTERVAL;VALUE=DURATION:PT1H
X-Robots-Tag:noindex
X-PUBLISHED-TTL:PT1H
BEGIN:VTIMEZONE
TZID:UTC
BEGIN:STANDARD
TZOFFSETFROM:+0000
TZOFFSETTO:+0000
TZNAME:UTC
DTSTART:20150101T000000
END:STANDARD
END:VTIMEZONE
BEGIN:VEVENT
DTSTART;TZID=UTC:20181012T180000
DTEND;TZID=UTC:20181013T160000
DTSTAMP:20260423T174230
CREATED:20180527T040112Z
LAST-MODIFIED:20180527T040403Z
UID:10000248-1539367200-1539446400@www.bsator.com
SUMMARY:2018 Ed Harris Trade-O-Ree - State: Oregon
DESCRIPTION:Date: October 12-13\, 2018 \nAddress:\nAbundant Life Church\n17241 SE Hemrick Rd.\nDamacus\, OR 97089 \nTimes:\nFriday: 6pm – 12am\nSaturday: 9am – 4pm \nContact 1: Jeff Ansley\nEmail: skyloo442@comcast.net\nPhone: (503) 352-5357 \nContact 2: Todd Hatfield\nEmail: machque@hotmail.com\nPhone: (503) 859-2443 \nRegister Now\n\n    Download the PDF file .
URL:https://www.bsator.com/event/2018-ed-harris-trade-o-ree-state-oregon/
LOCATION:Abundant Life Church\, 17241 SE Hemrick Rd.\, Damacus\, OR 97089
ATTACH;FMTTYPE=image/jpeg:https://www.bsator.com/wp-content/uploads/2016/06/10710284_10152663411746195_1283144467783832528_o.jpg.opt430x322o00s430x322.jpg
ORGANIZER;CN="Jeff Ansley":MAILTO:skyloo442@comcast.net
GEO:45.4216354;-122.4497372
X-APPLE-STRUCTURED-LOCATION;VALUE=URI;X-ADDRESS=Abundant Life Church 17241 SE Hemrick Rd. Damacus OR 97089;X-APPLE-RADIUS=500;X-TITLE=17241 SE Hemrick Rd.:geo:-122.4497372,45.4216354
END:VEVENT
BEGIN:VEVENT
DTSTART;TZID=UTC:20171013T180000
DTEND;TZID=UTC:20171014T160000
DTSTAMP:20260423T174230
CREATED:20170310T170120Z
LAST-MODIFIED:20170317T052111Z
UID:10000176-1507917600-1507996800@www.bsator.com
SUMMARY:2017 Ed Harris Trade-O-Ree - State: Oregon
DESCRIPTION:Ed Harris Trade-O-Ree – State: Oregon \nDate: October 13-14\, 2017 \nAddress:\nAbundant Life Church\n17241 SE Hemrick Rd.\nDamacus\, OR 97089 \nTimes:\nFriday: 6pm – 12am\nSaturday: 9am – 4pm \nContact 1: Jeff Ansley\nEmail: skyloo442@comcast.net\nPhone: (503) 352-5357 \nContact 2: Todd Hatfield\nEmail: machque@hotmail.com\nPhone: (503) 859-2443 \nRegister Now\n\n    Download the PDF file .
URL:https://www.bsator.com/event/2017-ed-harris-trade-o-ree-state-oregon/
LOCATION:Abundant Life Church\, 17241 SE Hemrick Rd.\, Damacus\, OR 97089
ATTACH;FMTTYPE=image/jpeg:https://www.bsator.com/wp-content/uploads/2016/06/10710284_10152663411746195_1283144467783832528_o.jpg.opt430x322o00s430x322.jpg
ORGANIZER;CN="Jeff Ansley":MAILTO:skyloo442@comcast.net
GEO:45.4216354;-122.4497372
X-APPLE-STRUCTURED-LOCATION;VALUE=URI;X-ADDRESS=Abundant Life Church 17241 SE Hemrick Rd. Damacus OR 97089;X-APPLE-RADIUS=500;X-TITLE=17241 SE Hemrick Rd.:geo:-122.4497372,45.4216354
END:VEVENT
BEGIN:VEVENT
DTSTART;TZID=UTC:20161014T180000
DTEND;TZID=UTC:20161015T160000
DTSTAMP:20260423T174230
CREATED:20160601T110819Z
LAST-MODIFIED:20170310T165806Z
UID:10000048-1476468000-1476547200@www.bsator.com
SUMMARY:Ed Harris Trade-O-Ree - State: Oregon
DESCRIPTION:Date: October 14-15\, 2016 \nAddress:\nAbundant Life Church\n17241 SE Hemrick Rd.\nDamacus\, OR 97089 \nTimes:\nFriday: 6pm – 12am\nSaturday: 9am – 4pm \nContact 1: Jeff Ansley\nEmail: skyloo442@comcast.net\nPhone: (503) 352-5357 \nContact 2: Todd Hatfield\nEmail: machque@hotmail.com\nPhone: (503) 859-2443 \nFlyer: Click Here\n\nRegister Now \n\n    Download the PDF file .
URL:https://www.bsator.com/event/ed-harris-trade-o-ree-state-oregon/
LOCATION:Abundant Life Church\, 17241 SE Hemrick Rd.\, Damacus\, OR 97089
ATTACH;FMTTYPE=image/jpeg:https://www.bsator.com/wp-content/uploads/2016/06/10710284_10152663411746195_1283144467783832528_o.jpg.opt430x322o00s430x322.jpg
ORGANIZER;CN="Jeff Ansley":MAILTO:skyloo442@comcast.net
GEO:45.4216354;-122.4497372
X-APPLE-STRUCTURED-LOCATION;VALUE=URI;X-ADDRESS=Abundant Life Church 17241 SE Hemrick Rd. Damacus OR 97089;X-APPLE-RADIUS=500;X-TITLE=17241 SE Hemrick Rd.:geo:-122.4497372,45.4216354
END:VEVENT
END:VCALENDAR