BEGIN:VCALENDAR
VERSION:2.0
PRODID:-//Boy Scout Trade-O-Ree Calendar - ECPv6.15.20//NONSGML v1.0//EN
CALSCALE:GREGORIAN
METHOD:PUBLISH
X-WR-CALNAME:Boy Scout Trade-O-Ree Calendar
X-ORIGINAL-URL:https://www.bsator.com
X-WR-CALDESC:Events for Boy Scout Trade-O-Ree Calendar
REFRESH-INTERVAL;VALUE=DURATION:PT1H
X-Robots-Tag:noindex
X-PUBLISHED-TTL:PT1H
BEGIN:VTIMEZONE
TZID:UTC
BEGIN:STANDARD
TZOFFSETFROM:+0000
TZOFFSETTO:+0000
TZNAME:UTC
DTSTART:20180101T000000
END:STANDARD
END:VTIMEZONE
BEGIN:VEVENT
DTSTART;TZID=UTC:20191101T160000
DTEND;TZID=UTC:20191102T140000
DTSTAMP:20260423T201548
CREATED:20190507T033903Z
LAST-MODIFIED:20200221T075349Z
UID:10000306-1572624000-1572703200@www.bsator.com
SUMMARY:2nd Annual Kia Kima Alumni Association Trade-O-Ree – State: Tennessee
DESCRIPTION:Date: November 1-2\, 2019 \nAddress:\nAdvent Presbyterian Church\n1879 N. Germantown Parkway\nCordova\, TN 38016 \nTimes:\nFriday: 4pm – 9pm\nSaturday: 8am – 2pm \nContact 1: Johnny Tracy\nEmail: johnny@kiakima.net\nPhone: (901) 489-6027 \nRegister Now\n\n    Download the PDF file .
URL:https://www.bsator.com/event/2nd-annual-kia-kima-alumni-association-trade-o-ree-state-tennessee/
LOCATION:Advent Presbyterian Church\, 1879 N. Germantown Parkway\, Cordova\, TN\, 38016\, United States
ATTACH;FMTTYPE=image/jpeg:https://www.bsator.com/wp-content/uploads/2019/05/14956415_10209748285117190_871369817115221092_n.jpg
ORGANIZER;CN="Johnny Tracy":MAILTO:johnny@kiakima.net
END:VEVENT
END:VCALENDAR