BEGIN:VCALENDAR
VERSION:2.0
PRODID:-//Boy Scout Trade-O-Ree Calendar - ECPv6.15.20//NONSGML v1.0//EN
CALSCALE:GREGORIAN
METHOD:PUBLISH
X-WR-CALNAME:Boy Scout Trade-O-Ree Calendar
X-ORIGINAL-URL:https://www.bsator.com
X-WR-CALDESC:Events for Boy Scout Trade-O-Ree Calendar
REFRESH-INTERVAL;VALUE=DURATION:PT1H
X-Robots-Tag:noindex
X-PUBLISHED-TTL:PT1H
BEGIN:VTIMEZONE
TZID:UTC
BEGIN:STANDARD
TZOFFSETFROM:+0000
TZOFFSETTO:+0000
TZNAME:UTC
DTSTART:20190101T000000
END:STANDARD
END:VTIMEZONE
BEGIN:VEVENT
DTSTART;TZID=UTC:20200320T180000
DTEND;TZID=UTC:20200321T150000
DTSTAMP:20260423T213433
CREATED:20200316T232651Z
LAST-MODIFIED:20200317T041122Z
UID:10000345-1584727200-1584802800@www.bsator.com
SUMMARY:CANCELED: 2020 Southern Willamette Valley Trade-O-Ree
DESCRIPTION:THIS EVENT HAS BEEN CANCELEDDUE TO THE CORONAVIRUS\n \n \nDate: March 20-21\, 2020 \nAddress:\nBethesada Lutheran Church\n4445 Royal Ave.\nEugene\, OR 97402 \nTimes:\nFriday: 6pm – 10pm (Setup: 5pm)\nSaturday: 9am – 3pm \nContact 1: Carl Hastings\nEmail: shark_253@msn.com\nPhone: ? \nContact 1: Michael Johnson\nEmail: mikejohnson@peak.org\nPhone: ? \n\n    Download the PDF file .
URL:https://www.bsator.com/event/2020-southern-willamette-valley-trade-o-ree/
LOCATION:Bethesada Lutheran Church\, 4445 Royal Ave.\, Eugene\, OR\, 97402\, United States
ATTACH;FMTTYPE=image/jpeg:https://www.bsator.com/wp-content/uploads/2016/05/12063505_10208083233612135_4525830413850654031_n.jpg
END:VEVENT
END:VCALENDAR