BEGIN:VCALENDAR
VERSION:2.0
PRODID:-//Boy Scout Trade-O-Ree Calendar - ECPv6.15.20//NONSGML v1.0//EN
CALSCALE:GREGORIAN
METHOD:PUBLISH
X-WR-CALNAME:Boy Scout Trade-O-Ree Calendar
X-ORIGINAL-URL:https://www.bsator.com
X-WR-CALDESC:Events for Boy Scout Trade-O-Ree Calendar
REFRESH-INTERVAL;VALUE=DURATION:PT1H
X-Robots-Tag:noindex
X-PUBLISHED-TTL:PT1H
BEGIN:VTIMEZONE
TZID:UTC
BEGIN:STANDARD
TZOFFSETFROM:+0000
TZOFFSETTO:+0000
TZNAME:UTC
DTSTART:20260101T000000
END:STANDARD
END:VTIMEZONE
BEGIN:VEVENT
DTSTART;TZID=UTC:20270205T160000
DTEND;TZID=UTC:20270206T150000
DTSTAMP:20260423T144131
CREATED:20260117T192316Z
LAST-MODIFIED:20260117T192316Z
UID:10000617-1801843200-1801926000@www.bsator.com
SUMMARY:34th Annual Crossroads of America Trade-O-Ree - State: Indiana
DESCRIPTION:Date: February 5-6\, 2027 \nAddress:\nBoone County Fairgrounds\n1300 E 100 South\nLebanon\, IN 46052 \nTimes:\nFriday:  4pm – 9pm (Doors Open at 12pm for Table Vendors)\nSaturday: 8am – 3pm \nContact: Rob Tankersley\nEmail: torinfo@cacin.us\nPhone: (317) 813-7125 \n\n \nTrade-O-Ree Flyer\n\n\n    Download the PDF file .
URL:https://www.bsator.com/event/34th-annual-crossroads-of-america-trade-o-ree-state-indiana/
LOCATION:Boone County Fairgrounds\, 1300 E 100 South\, Lebanon\, IN\, 46052\, United States
ATTACH;FMTTYPE=image/jpeg:https://www.bsator.com/wp-content/uploads/2024/02/425339815_3693929174155960_1873716257857949578_n.jpg
ORGANIZER;CN="Rob Tankersley":MAILTO:torinfo@cacin.us
END:VEVENT
END:VCALENDAR