BEGIN:VCALENDAR
VERSION:2.0
PRODID:-//Boy Scout Trade-O-Ree Calendar - ECPv6.15.20//NONSGML v1.0//EN
CALSCALE:GREGORIAN
METHOD:PUBLISH
X-ORIGINAL-URL:https://www.bsator.com
X-WR-CALDESC:Events for Boy Scout Trade-O-Ree Calendar
REFRESH-INTERVAL;VALUE=DURATION:PT1H
X-Robots-Tag:noindex
X-PUBLISHED-TTL:PT1H
BEGIN:VTIMEZONE
TZID:UTC
BEGIN:STANDARD
TZOFFSETFROM:+0000
TZOFFSETTO:+0000
TZNAME:UTC
DTSTART:20200101T000000
END:STANDARD
END:VTIMEZONE
BEGIN:VEVENT
DTSTART;TZID=UTC:20210924T080000
DTEND;TZID=UTC:20210925T170000
DTSTAMP:20260423T211642
CREATED:20210122T115255Z
LAST-MODIFIED:20210303T172518Z
UID:10000359-1632470400-1632589200@www.bsator.com
SUMMARY:2021 Middle Tennessee Council Trade-O-Ree - State: Tennessee
DESCRIPTION:Date: September 24-25\, 2021 \nAddress:\nBoxwell Scout Reservation\n1265 Creighton Ln.\nLebanon\, TN 37087 \nTimes:\nFriday: 4pm – 10pm\nSaturday: 8am – 2pm \nContact 1: Chris Schildknecht\nEmail: william.schildknecht@gmail.com\nPhone: ? \n\n    Download the PDF file .
URL:https://www.bsator.com/event/2021-middle-tennessee-council-trade-o-ree-state-tennessee/
LOCATION:Boxwell Scout Reservation\, 1265 Creighton Ln.\, Lebanon\, TN\, 37087\, United States
ATTACH;FMTTYPE=image/jpeg:https://www.bsator.com/wp-content/uploads/2016/06/SWAPSHOP_zpsd7821994-4-1.jpg.opt430x360o00s430x360-4-1.jpg
ORGANIZER;CN="Chris Schildknecht":MAILTO:william.schildknecht@gmail.com
END:VEVENT
END:VCALENDAR