BEGIN:VCALENDAR
VERSION:2.0
PRODID:-//Boy Scout Trade-O-Ree Calendar - ECPv6.15.20//NONSGML v1.0//EN
CALSCALE:GREGORIAN
METHOD:PUBLISH
X-WR-CALNAME:Boy Scout Trade-O-Ree Calendar
X-ORIGINAL-URL:https://www.bsator.com
X-WR-CALDESC:Events for Boy Scout Trade-O-Ree Calendar
REFRESH-INTERVAL;VALUE=DURATION:PT1H
X-Robots-Tag:noindex
X-PUBLISHED-TTL:PT1H
BEGIN:VTIMEZONE
TZID:UTC
BEGIN:STANDARD
TZOFFSETFROM:+0000
TZOFFSETTO:+0000
TZNAME:UTC
DTSTART:20180101T000000
END:STANDARD
END:VTIMEZONE
BEGIN:VEVENT
DTSTART;TZID=UTC:20200424T170000
DTEND;TZID=UTC:20200425T150000
DTSTAMP:20260423T211539
CREATED:20191017T235351Z
LAST-MODIFIED:20200221T073211Z
UID:10000312-1587747600-1587826800@www.bsator.com
SUMMARY:2020 Trapper Trails Council Trade-O-Ree - State: Utah
DESCRIPTION:Date: April 24-25\, 2020 \nAddress:\nCamp Fife\n19805 W Camp Fife Rd\nColliston\, UT 84306 \nTimes:\nFriday: 5pm – 11pm\nSaturday: 9am – 3pm \nContact 1: Joshua Haacke\nEmail: joshua.haacke@scouting.org\nPhone: (801) 624-8222 \n\n    Download the PDF file .
URL:https://www.bsator.com/event/2020-trapper-trails-council-trade-o-ree-state-utah/
LOCATION:Camp Fife\, 19805 W Camp Fife Rd\, Colliston\, UT\, 84306\, United States
ATTACH;FMTTYPE=image/jpeg:https://www.bsator.com/wp-content/uploads/2019/10/55764195_10156413211768789_6359897923064430592_o.jpg
ORGANIZER;CN="Joshua Haacke":MAILTO:joshua.haacke@scouting.org
END:VEVENT
BEGIN:VEVENT
DTSTART;TZID=UTC:20190329T170000
DTEND;TZID=UTC:20190330T150000
DTSTAMP:20260423T211539
CREATED:20181013T173344Z
LAST-MODIFIED:20200221T080253Z
UID:10000260-1553878800-1553958000@www.bsator.com
SUMMARY:2019 Trapper Trails Council Trade-O-Ree - State: Utah
DESCRIPTION:Date: March 29-30\, 2019 \nAddress:\nCamp Fife Lodge\n19805 W Camp Fife Rd\nColliston\, UT 84306 \nTimes:\nFriday: 5pm – 11pm\nSaturday: 10am – 3pm \nContact 1: Lynn Gunter\nEmail: Lynn.Gunter@scouting.org\nPhone: (801) 745-7882 \nContact 2: Stephen Eborn\nEmail: stephen.eborn@scouting.org\nPhone: (435) 752-4278 \n\n    Download the PDF file .
URL:https://www.bsator.com/event/2019-trapper-trails-council-trade-o-ree-state-utah/
LOCATION:Camp Fife\, 19805 W Camp Fife Rd\, Colliston\, UT\, 84306\, United States
ATTACH;FMTTYPE=image/jpeg:https://www.bsator.com/wp-content/uploads/2019/10/55764195_10156413211768789_6359897923064430592_o.jpg
ORGANIZER;CN="Lynn Gunter":MAILTO:Lynn.Gunter@scouting.org
END:VEVENT
END:VCALENDAR