BEGIN:VCALENDAR
VERSION:2.0
PRODID:-//Boy Scout Trade-O-Ree Calendar - ECPv6.15.20//NONSGML v1.0//EN
CALSCALE:GREGORIAN
METHOD:PUBLISH
X-ORIGINAL-URL:https://www.bsator.com
X-WR-CALDESC:Events for Boy Scout Trade-O-Ree Calendar
REFRESH-INTERVAL;VALUE=DURATION:PT1H
X-Robots-Tag:noindex
X-PUBLISHED-TTL:PT1H
BEGIN:VTIMEZONE
TZID:UTC
BEGIN:STANDARD
TZOFFSETFROM:+0000
TZOFFSETTO:+0000
TZNAME:UTC
DTSTART:20160101T000000
END:STANDARD
END:VTIMEZONE
BEGIN:VEVENT
DTSTART;TZID=UTC:20171006T160000
DTEND;TZID=UTC:20171007T160000
DTSTAMP:20260423T225657
CREATED:20170407T035929Z
LAST-MODIFIED:20200221T160105Z
UID:10000179-1507305600-1507392000@www.bsator.com
SUMMARY:2nd Annual Konepaka Ketiwa Lodge Trade-O-Ree - State: Illinois
DESCRIPTION:THIS EVENT HAS BEEN CANCELED: Message posted by Bruce Shelley: Charlie Tanner tells me that this TOR has been cancelled. The fellow who was organizing it passed away earlier this year and only a few tables had been spoken for.\n \nDate: October 6-7\, 2017 \nAddress:\nCamp Loud Thunder\n9906 175th St West\nIllinois City\, IL 61259 \nTimes:\nFriday: 4pm – 10pm (Dealer Set-up will begin at 3:00PM)\nSaturday: 8am – 4pm \nContact 1: Dave Miller\nEmail: phxil@aol.com\nPhone: (309) 430-8789 \n\n    Download the PDF file .
URL:https://www.bsator.com/event/2nd-annual-konepaka-ketiwa-lodge-trade-o-ree-state-illinois/
LOCATION:Camp Loud Thunder\, 9906 175th Street West\, Illinois City\, IL\, 61259\, United States
ATTACH;FMTTYPE=image/jpeg:https://www.bsator.com/wp-content/uploads/2016/12/15037216_1069138989870509_3304851438880909903.jpg
ORGANIZER;CN="Dave Miller":MAILTO:phxil@aol.com
GEO:41.4238274;-90.8106336
X-APPLE-STRUCTURED-LOCATION;VALUE=URI;X-ADDRESS=Camp Loud Thunder 9906 175th Street West Illinois City IL 61259 United States;X-APPLE-RADIUS=500;X-TITLE=9906 175th Street West:geo:-90.8106336,41.4238274
END:VEVENT
END:VCALENDAR